BEGIN:VCALENDAR
VERSION:2.0
PRODID:-//Sisters of St. Francis of Sylvania, Ohio - ECPv6.13.2.1//NONSGML v1.0//EN
CALSCALE:GREGORIAN
METHOD:PUBLISH
X-WR-CALNAME:Sisters of St. Francis of Sylvania, Ohio
X-ORIGINAL-URL:https://sistersosf.org
X-WR-CALDESC:Events for Sisters of St. Francis of Sylvania, Ohio
REFRESH-INTERVAL;VALUE=DURATION:PT1H
X-Robots-Tag:noindex
X-PUBLISHED-TTL:PT1H
BEGIN:VTIMEZONE
TZID:America/Detroit
BEGIN:DAYLIGHT
TZOFFSETFROM:-0500
TZOFFSETTO:-0400
TZNAME:EDT
DTSTART:20190310T070000
END:DAYLIGHT
BEGIN:STANDARD
TZOFFSETFROM:-0400
TZOFFSETTO:-0500
TZNAME:EST
DTSTART:20191103T060000
END:STANDARD
END:VTIMEZONE
BEGIN:VEVENT
DTSTART;TZID=America/Detroit:20190921T180000
DTEND;TZID=America/Detroit:20190921T220000
DTSTAMP:20260425T184732
CREATED:20190729T135016Z
LAST-MODIFIED:20190729T135100Z
UID:10000710-1569088800-1569103200@sistersosf.org
SUMMARY:2019 Sylvania Franciscan Gala
DESCRIPTION:Benefiting the Sylvania Franciscan Sisters and their ministries: \nBethany House – Sophia Center – Our Lady of Grace – Lourdes University – Convent Park Apts. \n4:30 pm Mass – 6:00 pm Gala and Awards
URL:https://sistersosf.org/event/2019-sylvania-franciscan-gala/
LOCATION:Franciscan Center\, 6832 Convent Blvd.\, Sylvania\, OH\, 43560\, United States
ATTACH;FMTTYPE=image/jpeg:https://sistersosf.org/wp-content/uploads/2019/07/2019Invite-front.jpg
END:VEVENT
END:VCALENDAR