BEGIN:VCALENDAR
VERSION:2.0
PRODID:-//Sisters of St. Francis of Sylvania, Ohio - ECPv6.13.2.1//NONSGML v1.0//EN
CALSCALE:GREGORIAN
METHOD:PUBLISH
X-WR-CALNAME:Sisters of St. Francis of Sylvania, Ohio
X-ORIGINAL-URL:https://sistersosf.org
X-WR-CALDESC:Events for Sisters of St. Francis of Sylvania, Ohio
REFRESH-INTERVAL;VALUE=DURATION:PT1H
X-Robots-Tag:noindex
X-PUBLISHED-TTL:PT1H
BEGIN:VTIMEZONE
TZID:America/Detroit
BEGIN:DAYLIGHT
TZOFFSETFROM:-0500
TZOFFSETTO:-0400
TZNAME:EDT
DTSTART:20190310T070000
END:DAYLIGHT
BEGIN:STANDARD
TZOFFSETFROM:-0400
TZOFFSETTO:-0500
TZNAME:EST
DTSTART:20191103T060000
END:STANDARD
END:VTIMEZONE
BEGIN:VEVENT
DTSTART;TZID=America/Detroit:20191109T100000
DTEND;TZID=America/Detroit:20191109T120000
DTSTAMP:20260426T002436
CREATED:20191028T202206Z
LAST-MODIFIED:20191028T202305Z
UID:10000726-1573293600-1573300800@sistersosf.org
SUMMARY:Mandala: Drawing on the Christ Within Me
DESCRIPTION:Presented by Sister Sharon Havelak.  \nThe Mandala is an ancient art form inviting us into wholeness and healing. \nIt is a technique for opening oneself to creativity and entering into a state of contemplation and peace. We will use colored pencils/markers to create a personal Mandala. No previous art experience necessary. \n  \n 
URL:https://sistersosf.org/event/mandala-drawing-on-the-christ-within-me/
ATTACH;FMTTYPE=image/png:https://sistersosf.org/wp-content/uploads/2019/10/mandala-reduced.png
ORGANIZER;CN="Sr. Joan Jurski":MAILTO:jjurski@sistersosf.org
END:VEVENT
END:VCALENDAR