BEGIN:VCALENDAR
VERSION:2.0
PRODID:-//Sisters of St. Francis of Sylvania, Ohio - ECPv6.13.2.1//NONSGML v1.0//EN
CALSCALE:GREGORIAN
METHOD:PUBLISH
X-ORIGINAL-URL:https://sistersosf.org
X-WR-CALDESC:Events for Sisters of St. Francis of Sylvania, Ohio
REFRESH-INTERVAL;VALUE=DURATION:PT1H
X-Robots-Tag:noindex
X-PUBLISHED-TTL:PT1H
BEGIN:VTIMEZONE
TZID:America/Detroit
BEGIN:DAYLIGHT
TZOFFSETFROM:-0500
TZOFFSETTO:-0400
TZNAME:EDT
DTSTART:20250309T070000
END:DAYLIGHT
BEGIN:STANDARD
TZOFFSETFROM:-0400
TZOFFSETTO:-0500
TZNAME:EST
DTSTART:20251102T060000
END:STANDARD
END:VTIMEZONE
BEGIN:VEVENT
DTSTART;TZID=America/Detroit:20250320T080000
DTEND;TZID=America/Detroit:20250320T083000
DTSTAMP:20260421T103018
CREATED:20240612T141416Z
LAST-MODIFIED:20260304T133850Z
UID:10001657-1742457600-1742459400@sistersosf.org
SUMMARY:Mass
DESCRIPTION:Queen of Peace Chapel
URL:https://sistersosf.org/event/mass/2025-03-20/
LOCATION:Queen of Peace Chapel\, 6832 Convent Blvd.\, Sylvania\, OH\, 43560\, United States
CATEGORIES:Sisters of St. Francis
ATTACH;FMTTYPE=image/jpeg:https://sistersosf.org/wp-content/uploads/2024/06/OSF-Jubilee-Mass-2024-41-scaled.jpg
END:VEVENT
BEGIN:VEVENT
DTSTART;TZID=America/Detroit:20250320T113000
DTEND;TZID=America/Detroit:20250320T130000
DTSTAMP:20260421T103018
CREATED:20250224T142507Z
LAST-MODIFIED:20250224T143116Z
UID:10004139-1742470200-1742475600@sistersosf.org
SUMMARY:“Christianity Fractured”
DESCRIPTION:In this two-part series\, we’ll explore when\, why\, and how Christianity broke from one church into many. In an engaging open panel forum\, we’ll hear from Fr. John Kasper\, Catholic\, Pastor Melissa Micham\, Olivet Lutheran\, and Pastor Jimmy Crowell\, of Washington Congregational Church. \nAll are welcome. Bring your own lunch. Beverages provided.\nR.S.V.P. to Sister Nora Klewicki at nklewicki@sistersosf.org or 419-824-3528.
URL:https://sistersosf.org/event/christianity-fractured/
LOCATION:Regina Conference Room\, 6832 Convent Blvd\, Sylvania\, OH\, United States
CATEGORIES:Sisters of St. Francis
ATTACH;FMTTYPE=image/jpeg:https://sistersosf.org/wp-content/uploads/2025/02/Reformation-and-Modern-times-.jpg
GEO:41.7105685;-83.7052723
X-APPLE-STRUCTURED-LOCATION;VALUE=URI;X-ADDRESS=Regina Conference Room 6832 Convent Blvd Sylvania OH United States;X-APPLE-RADIUS=500;X-TITLE=6832 Convent Blvd:geo:-83.7052723,41.7105685
END:VEVENT
END:VCALENDAR