BEGIN:VCALENDAR
VERSION:2.0
PRODID:-//Sisters of St. Francis of Sylvania, Ohio - ECPv6.13.2.1//NONSGML v1.0//EN
CALSCALE:GREGORIAN
METHOD:PUBLISH
X-ORIGINAL-URL:https://sistersosf.org
X-WR-CALDESC:Events for Sisters of St. Francis of Sylvania, Ohio
REFRESH-INTERVAL;VALUE=DURATION:PT1H
X-Robots-Tag:noindex
X-PUBLISHED-TTL:PT1H
BEGIN:VTIMEZONE
TZID:America/Detroit
BEGIN:DAYLIGHT
TZOFFSETFROM:-0500
TZOFFSETTO:-0400
TZNAME:EDT
DTSTART:20250309T070000
END:DAYLIGHT
BEGIN:STANDARD
TZOFFSETFROM:-0400
TZOFFSETTO:-0500
TZNAME:EST
DTSTART:20251102T060000
END:STANDARD
END:VTIMEZONE
BEGIN:VEVENT
DTSTART;TZID=America/Detroit:20250905T080000
DTEND;TZID=America/Detroit:20250905T083000
DTSTAMP:20260422T090140
CREATED:20240612T141416Z
LAST-MODIFIED:20260304T133850Z
UID:10001826-1757059200-1757061000@sistersosf.org
SUMMARY:Mass
DESCRIPTION:Queen of Peace Chapel
URL:https://sistersosf.org/event/mass/2025-09-05/
LOCATION:Queen of Peace Chapel\, 6832 Convent Blvd.\, Sylvania\, OH\, 43560\, United States
CATEGORIES:Sisters of St. Francis
ATTACH;FMTTYPE=image/jpeg:https://sistersosf.org/wp-content/uploads/2024/06/OSF-Jubilee-Mass-2024-41-scaled.jpg
END:VEVENT
BEGIN:VEVENT
DTSTART;TZID=America/Detroit:20250905T130000
DTEND;TZID=America/Detroit:20250905T150000
DTSTAMP:20260422T090140
CREATED:20240617T153230Z
LAST-MODIFIED:20240912T120824Z
UID:10003228-1757077200-1757084400@sistersosf.org
SUMMARY:Sr. Roselynn’s Tea & Teach Cards
DESCRIPTION:Join Sister Roselynn for tea and learn a few new skills! \n\n\n\nRSVP : 419-824-3749
URL:https://sistersosf.org/event/sr-roselynns-tea-teach-cards/2025-09-05/
LOCATION:All Good Things Art & Gifts\, 6832 Convent Rd\, Umbria Hall\, Sylvania\, OH\, 43560
CATEGORIES:Sisters of St. Francis
ATTACH;FMTTYPE=image/jpeg:https://sistersosf.org/wp-content/uploads/2024/06/458405064_1397807384477335_2525615199903980645_n.jpg
END:VEVENT
END:VCALENDAR