BEGIN:VCALENDAR
VERSION:2.0
PRODID:-//Sisters of St. Francis of Sylvania, Ohio - ECPv6.13.2.1//NONSGML v1.0//EN
CALSCALE:GREGORIAN
METHOD:PUBLISH
X-WR-CALNAME:Sisters of St. Francis of Sylvania, Ohio
X-ORIGINAL-URL:https://sistersosf.org
X-WR-CALDESC:Events for Sisters of St. Francis of Sylvania, Ohio
REFRESH-INTERVAL;VALUE=DURATION:PT1H
X-Robots-Tag:noindex
X-PUBLISHED-TTL:PT1H
BEGIN:VTIMEZONE
TZID:America/Detroit
BEGIN:DAYLIGHT
TZOFFSETFROM:-0500
TZOFFSETTO:-0400
TZNAME:EDT
DTSTART:20260308T070000
END:DAYLIGHT
BEGIN:STANDARD
TZOFFSETFROM:-0400
TZOFFSETTO:-0500
TZNAME:EST
DTSTART:20261101T060000
END:STANDARD
END:VTIMEZONE
BEGIN:VEVENT
DTSTART;VALUE=DATE:20260418
DTEND;VALUE=DATE:20260426
DTSTAMP:20260421T024636
CREATED:20260415T140205Z
LAST-MODIFIED:20260415T140205Z
UID:10006039-1776470400-1777161599@sistersosf.org
SUMMARY:Associate Week
DESCRIPTION:
URL:https://sistersosf.org/event/associate-week/
LOCATION:OH
CATEGORIES:Associates,Sisters of St. Francis
END:VEVENT
BEGIN:VEVENT
DTSTART;TZID=America/Detroit:20260421T080000
DTEND;TZID=America/Detroit:20260421T083000
DTSTAMP:20260421T024636
CREATED:20240612T141416Z
LAST-MODIFIED:20260304T133850Z
UID:10002054-1776758400-1776760200@sistersosf.org
SUMMARY:Mass
DESCRIPTION:Queen of Peace Chapel
URL:https://sistersosf.org/event/mass/2026-04-21/
LOCATION:Queen of Peace Chapel\, 6832 Convent Blvd.\, Sylvania\, OH\, 43560\, United States
CATEGORIES:Sisters of St. Francis
ATTACH;FMTTYPE=image/jpeg:https://sistersosf.org/wp-content/uploads/2024/06/OSF-Jubilee-Mass-2024-41-scaled.jpg
END:VEVENT
BEGIN:VEVENT
DTSTART;TZID=America/Detroit:20260421T190000
DTEND;TZID=America/Detroit:20260421T210000
DTSTAMP:20260421T024636
CREATED:20260408T200900Z
LAST-MODIFIED:20260408T200954Z
UID:10006036-1776798000-1776805200@sistersosf.org
SUMMARY:S. A. V. E. Lecture Series: Hidden Lake Gardens: The Gem of Michigan’s Irish Hills
DESCRIPTION:
URL:https://sistersosf.org/event/s-a-v-e-lecture-series/
LOCATION:Franciscan Center – Conference Rooms A&B\, 6832 Convent Blvd\, Sylvania\, 43551
CATEGORIES:Sisters of St. Francis
ATTACH;FMTTYPE=application/pdf:https://sistersosf.org/wp-content/uploads/2026/04/apr26_save_lecture_flyer.pdf
GEO:41.7095334;-83.7090373
X-APPLE-STRUCTURED-LOCATION;VALUE=URI;X-ADDRESS=Franciscan Center – Conference Rooms A&B 6832 Convent Blvd Sylvania 43551;X-APPLE-RADIUS=500;X-TITLE=6832 Convent Blvd:geo:-83.7090373,41.7095334
END:VEVENT
END:VCALENDAR