BEGIN:VCALENDAR
VERSION:2.0
PRODID:-//Sisters of St. Francis of Sylvania, Ohio - ECPv6.13.2.1//NONSGML v1.0//EN
CALSCALE:GREGORIAN
METHOD:PUBLISH
X-ORIGINAL-URL:https://sistersosf.org
X-WR-CALDESC:Events for Sisters of St. Francis of Sylvania, Ohio
REFRESH-INTERVAL;VALUE=DURATION:PT1H
X-Robots-Tag:noindex
X-PUBLISHED-TTL:PT1H
BEGIN:VTIMEZONE
TZID:America/Detroit
BEGIN:DAYLIGHT
TZOFFSETFROM:-0500
TZOFFSETTO:-0400
TZNAME:EDT
DTSTART:20250309T070000
END:DAYLIGHT
BEGIN:STANDARD
TZOFFSETFROM:-0400
TZOFFSETTO:-0500
TZNAME:EST
DTSTART:20251102T060000
END:STANDARD
END:VTIMEZONE
BEGIN:VEVENT
DTSTART;TZID=America/Detroit:20251208T080000
DTEND;TZID=America/Detroit:20251208T083000
DTSTAMP:20260423T060954
CREATED:20240612T141416Z
LAST-MODIFIED:20260304T133850Z
UID:10001920-1765180800-1765182600@sistersosf.org
SUMMARY:Mass
DESCRIPTION:Queen of Peace Chapel
URL:https://sistersosf.org/event/mass/2025-12-08/
LOCATION:Queen of Peace Chapel\, 6832 Convent Blvd.\, Sylvania\, OH\, 43560\, United States
CATEGORIES:Sisters of St. Francis
ATTACH;FMTTYPE=image/jpeg:https://sistersosf.org/wp-content/uploads/2024/06/OSF-Jubilee-Mass-2024-41-scaled.jpg
END:VEVENT
BEGIN:VEVENT
DTSTART;TZID=America/Detroit:20251208T120000
DTEND;TZID=America/Detroit:20251208T123000
DTSTAMP:20260423T060954
CREATED:20240618T173711Z
LAST-MODIFIED:20240618T175625Z
UID:10003443-1765195200-1765197000@sistersosf.org
SUMMARY:Vigil for Racial Equality
DESCRIPTION:Join the Sylvania Franciscans in a meaningful bi-weekly vigil and take a stand for racial equality. Mondays and Wednesdays from 12:15pm – 12:30pm at the corner of Convent Blvd. and Main Street in Sylvania.
URL:https://sistersosf.org/event/vigil-for-racial-equality/2025-12-08/
CATEGORIES:Sisters of St. Francis
END:VEVENT
BEGIN:VEVENT
DTSTART;TZID=America/Detroit:20251209T080000
DTEND;TZID=America/Detroit:20251209T083000
DTSTAMP:20260423T060954
CREATED:20240612T141416Z
LAST-MODIFIED:20260304T133850Z
UID:10001921-1765267200-1765269000@sistersosf.org
SUMMARY:Mass
DESCRIPTION:Queen of Peace Chapel
URL:https://sistersosf.org/event/mass/2025-12-09/
LOCATION:Queen of Peace Chapel\, 6832 Convent Blvd.\, Sylvania\, OH\, 43560\, United States
CATEGORIES:Sisters of St. Francis
ATTACH;FMTTYPE=image/jpeg:https://sistersosf.org/wp-content/uploads/2024/06/OSF-Jubilee-Mass-2024-41-scaled.jpg
END:VEVENT
BEGIN:VEVENT
DTSTART;TZID=America/Detroit:20251210T080000
DTEND;TZID=America/Detroit:20251210T083000
DTSTAMP:20260423T060954
CREATED:20240612T141416Z
LAST-MODIFIED:20260304T133850Z
UID:10001922-1765353600-1765355400@sistersosf.org
SUMMARY:Mass
DESCRIPTION:Queen of Peace Chapel
URL:https://sistersosf.org/event/mass/2025-12-10/
LOCATION:Queen of Peace Chapel\, 6832 Convent Blvd.\, Sylvania\, OH\, 43560\, United States
CATEGORIES:Sisters of St. Francis
ATTACH;FMTTYPE=image/jpeg:https://sistersosf.org/wp-content/uploads/2024/06/OSF-Jubilee-Mass-2024-41-scaled.jpg
END:VEVENT
BEGIN:VEVENT
DTSTART;TZID=America/Detroit:20251210T120000
DTEND;TZID=America/Detroit:20251210T123000
DTSTAMP:20260423T060954
CREATED:20240618T173711Z
LAST-MODIFIED:20240618T175625Z
UID:10003444-1765368000-1765369800@sistersosf.org
SUMMARY:Vigil for Racial Equality
DESCRIPTION:Join the Sylvania Franciscans in a meaningful bi-weekly vigil and take a stand for racial equality. Mondays and Wednesdays from 12:15pm – 12:30pm at the corner of Convent Blvd. and Main Street in Sylvania.
URL:https://sistersosf.org/event/vigil-for-racial-equality/2025-12-10/
CATEGORIES:Sisters of St. Francis
END:VEVENT
BEGIN:VEVENT
DTSTART;TZID=America/Detroit:20251210T140000
DTEND;TZID=America/Detroit:20251210T170000
DTSTAMP:20260423T060954
CREATED:20251203T161817Z
LAST-MODIFIED:20251203T161817Z
UID:10004726-1765375200-1765386000@sistersosf.org
SUMMARY:All Good Things Christmas Open House
DESCRIPTION:
URL:https://sistersosf.org/event/all-good-things-christmas-open-house-2/
LOCATION:All Good Things Art & Gifts\, 6832 Convent Rd \, Sylvania\, OH\, 43560
CATEGORIES:Sisters of St. Francis
ATTACH;FMTTYPE=image/jpeg:https://sistersosf.org/wp-content/uploads/2022/01/All-Good-Things-Flyer-External-Madonna-Hall.jpg
END:VEVENT
BEGIN:VEVENT
DTSTART;TZID=America/Detroit:20251211T080000
DTEND;TZID=America/Detroit:20251211T083000
DTSTAMP:20260423T060954
CREATED:20240612T141416Z
LAST-MODIFIED:20260304T133850Z
UID:10001923-1765440000-1765441800@sistersosf.org
SUMMARY:Mass
DESCRIPTION:Queen of Peace Chapel
URL:https://sistersosf.org/event/mass/2025-12-11/
LOCATION:Queen of Peace Chapel\, 6832 Convent Blvd.\, Sylvania\, OH\, 43560\, United States
CATEGORIES:Sisters of St. Francis
ATTACH;FMTTYPE=image/jpeg:https://sistersosf.org/wp-content/uploads/2024/06/OSF-Jubilee-Mass-2024-41-scaled.jpg
END:VEVENT
BEGIN:VEVENT
DTSTART;TZID=America/Detroit:20251211T113000
DTEND;TZID=America/Detroit:20251211T130000
DTSTAMP:20260423T060954
CREATED:20251111T150637Z
LAST-MODIFIED:20251111T150637Z
UID:10004520-1765452600-1765458000@sistersosf.org
SUMMARY:SOSF Employee Christmas Party
DESCRIPTION:
URL:https://sistersosf.org/event/sosf-employee-christmas-party/
LOCATION:Serra Hall\, 6832 Convent Blvd.\, Sylvania\, OH\, 43560
CATEGORIES:Sisters of St. Francis
END:VEVENT
BEGIN:VEVENT
DTSTART;TZID=America/Detroit:20251211T183000
DTEND;TZID=America/Detroit:20251211T193000
DTSTAMP:20260423T060954
CREATED:20251124T161724Z
LAST-MODIFIED:20251202T175752Z
UID:10004724-1765477800-1765481400@sistersosf.org
SUMMARY:Advent Series
DESCRIPTION:
URL:https://sistersosf.org/event/sundays-of-advent/2025-12-11/
LOCATION:Queen of Peace Chapel\, 6832 Convent Blvd.
CATEGORIES:Sisters of St. Francis
ATTACH;FMTTYPE=image/jpeg:https://sistersosf.org/wp-content/uploads/2025/11/advent-copy.jpg
END:VEVENT
BEGIN:VEVENT
DTSTART;TZID=America/Detroit:20251212T080000
DTEND;TZID=America/Detroit:20251212T083000
DTSTAMP:20260423T060954
CREATED:20240612T141416Z
LAST-MODIFIED:20260304T133850Z
UID:10001924-1765526400-1765528200@sistersosf.org
SUMMARY:Mass
DESCRIPTION:Queen of Peace Chapel
URL:https://sistersosf.org/event/mass/2025-12-12/
LOCATION:Queen of Peace Chapel\, 6832 Convent Blvd.\, Sylvania\, OH\, 43560\, United States
CATEGORIES:Sisters of St. Francis
ATTACH;FMTTYPE=image/jpeg:https://sistersosf.org/wp-content/uploads/2024/06/OSF-Jubilee-Mass-2024-41-scaled.jpg
END:VEVENT
BEGIN:VEVENT
DTSTART;TZID=America/Detroit:20251212T093000
DTEND;TZID=America/Detroit:20251212T160000
DTSTAMP:20260423T060954
CREATED:20250811T123543Z
LAST-MODIFIED:20251105T162227Z
UID:10004478-1765531800-1765555200@sistersosf.org
SUMMARY:Sister Gretchen’s Christmas Bake Sale
DESCRIPTION:
URL:https://sistersosf.org/event/sister-gretchens-christmas-bake-sale-4/
LOCATION:Regina Conference Room\, 6832 Convent Blvd\, Sylvania\, OH\, United States
CATEGORIES:Sisters of St. Francis
ATTACH;FMTTYPE=image/jpeg:https://sistersosf.org/wp-content/uploads/2025/08/Sister-Gretchens-2025-2026-Bakesale-Calendar-copy.jpg
GEO:41.7105685;-83.7052723
X-APPLE-STRUCTURED-LOCATION;VALUE=URI;X-ADDRESS=Regina Conference Room 6832 Convent Blvd Sylvania OH United States;X-APPLE-RADIUS=500;X-TITLE=6832 Convent Blvd:geo:-83.7052723,41.7105685
END:VEVENT
END:VCALENDAR