BEGIN:VCALENDAR
VERSION:2.0
PRODID:-//Sisters of St. Francis of Sylvania, Ohio - ECPv6.13.2.1//NONSGML v1.0//EN
CALSCALE:GREGORIAN
METHOD:PUBLISH
X-ORIGINAL-URL:https://sistersosf.org
X-WR-CALDESC:Events for Sisters of St. Francis of Sylvania, Ohio
REFRESH-INTERVAL;VALUE=DURATION:PT1H
X-Robots-Tag:noindex
X-PUBLISHED-TTL:PT1H
BEGIN:VTIMEZONE
TZID:America/Detroit
BEGIN:DAYLIGHT
TZOFFSETFROM:-0500
TZOFFSETTO:-0400
TZNAME:EDT
DTSTART:20260308T070000
END:DAYLIGHT
BEGIN:STANDARD
TZOFFSETFROM:-0400
TZOFFSETTO:-0500
TZNAME:EST
DTSTART:20261101T060000
END:STANDARD
END:VTIMEZONE
BEGIN:VEVENT
DTSTART;TZID=America/Detroit:20260216T080000
DTEND;TZID=America/Detroit:20260216T083000
DTSTAMP:20260421T073812
CREATED:20240612T141416Z
LAST-MODIFIED:20260304T133850Z
UID:10001990-1771228800-1771230600@sistersosf.org
SUMMARY:Mass
DESCRIPTION:Queen of Peace Chapel
URL:https://sistersosf.org/event/mass/2026-02-16/
LOCATION:Queen of Peace Chapel\, 6832 Convent Blvd.\, Sylvania\, OH\, 43560\, United States
CATEGORIES:Sisters of St. Francis
ATTACH;FMTTYPE=image/jpeg:https://sistersosf.org/wp-content/uploads/2024/06/OSF-Jubilee-Mass-2024-41-scaled.jpg
END:VEVENT
BEGIN:VEVENT
DTSTART;TZID=America/Detroit:20260216T120000
DTEND;TZID=America/Detroit:20260216T123000
DTSTAMP:20260421T073812
CREATED:20240618T173711Z
LAST-MODIFIED:20240618T175625Z
UID:10003463-1771243200-1771245000@sistersosf.org
SUMMARY:Vigil for Racial Equality
DESCRIPTION:Join the Sylvania Franciscans in a meaningful bi-weekly vigil and take a stand for racial equality. Mondays and Wednesdays from 12:15pm – 12:30pm at the corner of Convent Blvd. and Main Street in Sylvania.
URL:https://sistersosf.org/event/vigil-for-racial-equality/2026-02-16/
LOCATION:OH
CATEGORIES:Sisters of St. Francis
END:VEVENT
BEGIN:VEVENT
DTSTART;TZID=America/Detroit:20260216T163000
DTEND;TZID=America/Detroit:20260216T170000
DTSTAMP:20260421T073812
CREATED:20251217T173817Z
LAST-MODIFIED:20251217T173817Z
UID:10004735-1771259400-1771261200@sistersosf.org
SUMMARY:Franciscan Prayer
DESCRIPTION:
URL:https://sistersosf.org/event/franciscan-prayer-6/
LOCATION:OH
CATEGORIES:Sisters of St. Francis
END:VEVENT
BEGIN:VEVENT
DTSTART;TZID=America/Detroit:20260217T080000
DTEND;TZID=America/Detroit:20260217T083000
DTSTAMP:20260421T073812
CREATED:20240612T141416Z
LAST-MODIFIED:20260304T133850Z
UID:10001991-1771315200-1771317000@sistersosf.org
SUMMARY:Mass
DESCRIPTION:Queen of Peace Chapel
URL:https://sistersosf.org/event/mass/2026-02-17/
LOCATION:Queen of Peace Chapel\, 6832 Convent Blvd.\, Sylvania\, OH\, 43560\, United States
CATEGORIES:Sisters of St. Francis
ATTACH;FMTTYPE=image/jpeg:https://sistersosf.org/wp-content/uploads/2024/06/OSF-Jubilee-Mass-2024-41-scaled.jpg
END:VEVENT
BEGIN:VEVENT
DTSTART;TZID=America/Detroit:20260217T110000
DTEND;TZID=America/Detroit:20260217T130000
DTSTAMP:20260421T073812
CREATED:20260105T165547Z
LAST-MODIFIED:20260105T165547Z
UID:10004737-1771326000-1771333200@sistersosf.org
SUMMARY:Second Line Parade
DESCRIPTION:
URL:https://sistersosf.org/event/second-line-parade/
LOCATION:OH
CATEGORIES:Sisters of St. Francis
ATTACH;FMTTYPE=image/jpeg:https://sistersosf.org/wp-content/uploads/2021/11/Connections-Second-Line-BHM-Event.jpg
END:VEVENT
BEGIN:VEVENT
DTSTART;TZID=America/Detroit:20260218T080000
DTEND;TZID=America/Detroit:20260218T080000
DTSTAMP:20260421T073812
CREATED:20260106T134802Z
LAST-MODIFIED:20260106T134802Z
UID:10004741-1771401600-1771401600@sistersosf.org
SUMMARY:Ash Wednesday
DESCRIPTION:
URL:https://sistersosf.org/event/ash-wednesday-3/
LOCATION:Queen of Peace Chapel\, 6832 Convent Blvd.
CATEGORIES:Sisters of St. Francis
END:VEVENT
BEGIN:VEVENT
DTSTART;TZID=America/Detroit:20260218T080000
DTEND;TZID=America/Detroit:20260218T083000
DTSTAMP:20260421T073812
CREATED:20240612T141416Z
LAST-MODIFIED:20260304T133850Z
UID:10001992-1771401600-1771403400@sistersosf.org
SUMMARY:Mass
DESCRIPTION:Queen of Peace Chapel
URL:https://sistersosf.org/event/mass/2026-02-18/
LOCATION:Queen of Peace Chapel\, 6832 Convent Blvd.\, Sylvania\, OH\, 43560\, United States
CATEGORIES:Sisters of St. Francis
ATTACH;FMTTYPE=image/jpeg:https://sistersosf.org/wp-content/uploads/2024/06/OSF-Jubilee-Mass-2024-41-scaled.jpg
END:VEVENT
BEGIN:VEVENT
DTSTART;TZID=America/Detroit:20260218T120000
DTEND;TZID=America/Detroit:20260218T120000
DTSTAMP:20260421T073812
CREATED:20260106T134909Z
LAST-MODIFIED:20260106T134909Z
UID:10004742-1771416000-1771416000@sistersosf.org
SUMMARY:Ash Wednesday
DESCRIPTION:
URL:https://sistersosf.org/event/ash-wednesday-4/
LOCATION:Queen of Peace Chapel\, 6832 Convent Blvd.
CATEGORIES:Sisters of St. Francis
END:VEVENT
BEGIN:VEVENT
DTSTART;TZID=America/Detroit:20260218T120000
DTEND;TZID=America/Detroit:20260218T123000
DTSTAMP:20260421T073812
CREATED:20240618T173711Z
LAST-MODIFIED:20240618T175625Z
UID:10003464-1771416000-1771417800@sistersosf.org
SUMMARY:Vigil for Racial Equality
DESCRIPTION:Join the Sylvania Franciscans in a meaningful bi-weekly vigil and take a stand for racial equality. Mondays and Wednesdays from 12:15pm – 12:30pm at the corner of Convent Blvd. and Main Street in Sylvania.
URL:https://sistersosf.org/event/vigil-for-racial-equality/2026-02-18/
LOCATION:OH
CATEGORIES:Sisters of St. Francis
END:VEVENT
BEGIN:VEVENT
DTSTART;TZID=America/Detroit:20260219T080000
DTEND;TZID=America/Detroit:20260219T083000
DTSTAMP:20260421T073812
CREATED:20240612T141416Z
LAST-MODIFIED:20260304T133850Z
UID:10001993-1771488000-1771489800@sistersosf.org
SUMMARY:Mass
DESCRIPTION:Queen of Peace Chapel
URL:https://sistersosf.org/event/mass/2026-02-19/
LOCATION:Queen of Peace Chapel\, 6832 Convent Blvd.\, Sylvania\, OH\, 43560\, United States
CATEGORIES:Sisters of St. Francis
ATTACH;FMTTYPE=image/jpeg:https://sistersosf.org/wp-content/uploads/2024/06/OSF-Jubilee-Mass-2024-41-scaled.jpg
END:VEVENT
BEGIN:VEVENT
DTSTART;TZID=America/Detroit:20260219T183000
DTEND;TZID=America/Detroit:20260219T183000
DTSTAMP:20260421T073812
CREATED:20260220T184004Z
LAST-MODIFIED:20260225T143144Z
UID:10004804-1771525800-1771525800@sistersosf.org
SUMMARY:Lenten Reflections
DESCRIPTION:
URL:https://sistersosf.org/event/lenten-reflections/2026-02-19/
LOCATION:Queen of Peace Chapel\, 6832 Convent Blvd.
CATEGORIES:Sisters of St. Francis
ATTACH;FMTTYPE=image/jpeg:https://sistersosf.org/wp-content/uploads/2021/11/lenten-reflection-series-scaled.jpg
END:VEVENT
BEGIN:VEVENT
DTSTART;TZID=America/Detroit:20260220T080000
DTEND;TZID=America/Detroit:20260220T083000
DTSTAMP:20260421T073812
CREATED:20240612T141416Z
LAST-MODIFIED:20260304T133850Z
UID:10001994-1771574400-1771576200@sistersosf.org
SUMMARY:Mass
DESCRIPTION:Queen of Peace Chapel
URL:https://sistersosf.org/event/mass/2026-02-20/
LOCATION:Queen of Peace Chapel\, 6832 Convent Blvd.\, Sylvania\, OH\, 43560\, United States
CATEGORIES:Sisters of St. Francis
ATTACH;FMTTYPE=image/jpeg:https://sistersosf.org/wp-content/uploads/2024/06/OSF-Jubilee-Mass-2024-41-scaled.jpg
END:VEVENT
END:VCALENDAR