BEGIN:VCALENDAR
VERSION:2.0
PRODID:-//Sisters of St. Francis of Sylvania, Ohio - ECPv6.13.2.1//NONSGML v1.0//EN
CALSCALE:GREGORIAN
METHOD:PUBLISH
X-WR-CALNAME:Sisters of St. Francis of Sylvania, Ohio
X-ORIGINAL-URL:https://sistersosf.org
X-WR-CALDESC:Events for Sisters of St. Francis of Sylvania, Ohio
REFRESH-INTERVAL;VALUE=DURATION:PT1H
X-Robots-Tag:noindex
X-PUBLISHED-TTL:PT1H
BEGIN:VTIMEZONE
TZID:America/Detroit
BEGIN:DAYLIGHT
TZOFFSETFROM:-0500
TZOFFSETTO:-0400
TZNAME:EDT
DTSTART:20240310T070000
END:DAYLIGHT
BEGIN:STANDARD
TZOFFSETFROM:-0400
TZOFFSETTO:-0500
TZNAME:EST
DTSTART:20241103T060000
END:STANDARD
END:VTIMEZONE
BEGIN:VTIMEZONE
TZID:America/New_York
BEGIN:DAYLIGHT
TZOFFSETFROM:-0500
TZOFFSETTO:-0400
TZNAME:EDT
DTSTART:20240310T070000
END:DAYLIGHT
BEGIN:STANDARD
TZOFFSETFROM:-0400
TZOFFSETTO:-0500
TZNAME:EST
DTSTART:20241103T060000
END:STANDARD
END:VTIMEZONE
BEGIN:VEVENT
DTSTART;TZID=America/Detroit:20240822T153000
DTEND;TZID=America/Detroit:20240822T163000
DTSTAMP:20260425T134448
CREATED:20240612T141028Z
LAST-MODIFIED:20240617T170621Z
UID:10000864-1724340600-1724344200@sistersosf.org
SUMMARY:Grateful Harvest Community Garden Work
DESCRIPTION:
URL:https://sistersosf.org/event/grateful-harvest-community-garden-work/2024-08-22/
CATEGORIES:Sisters of St. Francis
ATTACH;FMTTYPE=image/jpeg:https://sistersosf.org/wp-content/uploads/2023/09/20230803_143539893_iOS-scaled.jpg
END:VEVENT
BEGIN:VEVENT
DTSTART;TZID=America/New_York:20240822T140000
DTEND;TZID=America/New_York:20240822T140000
DTSTAMP:20260425T134448
CREATED:20240719T174703Z
LAST-MODIFIED:20240821T233058Z
UID:10003829-1724335200-1724335200@sistersosf.org
SUMMARY:2024 Academic Convocation
DESCRIPTION:
URL:https://sistersosf.org/event/2024-academic-convocation/
LOCATION:Franciscan Center\, 6832 Convent Blvd\, Sylvania\, OH\, 43560
CATEGORIES:Franciscan Center
GEO:41.7095334;-83.7090373
X-APPLE-STRUCTURED-LOCATION;VALUE=URI;X-ADDRESS=Franciscan Center 6832 Convent Blvd Sylvania OH 43560;X-APPLE-RADIUS=500;X-TITLE=6832 Convent Blvd:geo:-83.7090373,41.7095334
END:VEVENT
BEGIN:VEVENT
DTSTART;TZID=America/Detroit:20240822T080000
DTEND;TZID=America/Detroit:20240822T083000
DTSTAMP:20260425T134448
CREATED:20240612T141416Z
LAST-MODIFIED:20260304T133850Z
UID:10001447-1724313600-1724315400@sistersosf.org
SUMMARY:Mass
DESCRIPTION:Queen of Peace Chapel
URL:https://sistersosf.org/event/mass/2024-08-22/
LOCATION:Queen of Peace Chapel\, 6832 Convent Blvd.\, Sylvania\, OH\, 43560\, United States
CATEGORIES:Sisters of St. Francis
ATTACH;FMTTYPE=image/jpeg:https://sistersosf.org/wp-content/uploads/2024/06/OSF-Jubilee-Mass-2024-41-scaled.jpg
END:VEVENT
BEGIN:VEVENT
DTSTART;TZID=America/Detroit:20240821T123000
DTEND;TZID=America/Detroit:20240821T130000
DTSTAMP:20260425T134448
CREATED:20240612T141225Z
LAST-MODIFIED:20240612T141225Z
UID:10001125-1724243400-1724245200@sistersosf.org
SUMMARY:Wednesday Walk at Rosary Care
DESCRIPTION:
URL:https://sistersosf.org/event/wednesday-walk-at-rosary-care/2024-08-21/
END:VEVENT
BEGIN:VEVENT
DTSTART;TZID=America/Detroit:20240821T120000
DTEND;TZID=America/Detroit:20240821T123000
DTSTAMP:20260425T134448
CREATED:20240618T173711Z
LAST-MODIFIED:20240618T175625Z
UID:10003308-1724241600-1724243400@sistersosf.org
SUMMARY:Vigil for Racial Equality
DESCRIPTION:Join the Sylvania Franciscans in a meaningful bi-weekly vigil and take a stand for racial equality. Mondays and Wednesdays from 12:15pm – 12:30pm at the corner of Convent Blvd. and Main Street in Sylvania.
URL:https://sistersosf.org/event/vigil-for-racial-equality/2024-08-21/
CATEGORIES:Sisters of St. Francis
END:VEVENT
BEGIN:VEVENT
DTSTART;TZID=America/Detroit:20240821T080000
DTEND;TZID=America/Detroit:20240821T083000
DTSTAMP:20260425T134448
CREATED:20240612T141416Z
LAST-MODIFIED:20260304T133850Z
UID:10001446-1724227200-1724229000@sistersosf.org
SUMMARY:Mass
DESCRIPTION:Queen of Peace Chapel
URL:https://sistersosf.org/event/mass/2024-08-21/
LOCATION:Queen of Peace Chapel\, 6832 Convent Blvd.\, Sylvania\, OH\, 43560\, United States
CATEGORIES:Sisters of St. Francis
ATTACH;FMTTYPE=image/jpeg:https://sistersosf.org/wp-content/uploads/2024/06/OSF-Jubilee-Mass-2024-41-scaled.jpg
END:VEVENT
BEGIN:VEVENT
DTSTART;TZID=America/Detroit:20240820T080000
DTEND;TZID=America/Detroit:20240820T083000
DTSTAMP:20260425T134448
CREATED:20240612T141416Z
LAST-MODIFIED:20260304T133850Z
UID:10001445-1724140800-1724142600@sistersosf.org
SUMMARY:Mass
DESCRIPTION:Queen of Peace Chapel
URL:https://sistersosf.org/event/mass/2024-08-20/
LOCATION:Queen of Peace Chapel\, 6832 Convent Blvd.\, Sylvania\, OH\, 43560\, United States
CATEGORIES:Sisters of St. Francis
ATTACH;FMTTYPE=image/jpeg:https://sistersosf.org/wp-content/uploads/2024/06/OSF-Jubilee-Mass-2024-41-scaled.jpg
END:VEVENT
BEGIN:VEVENT
DTSTART;TZID=America/Detroit:20240819T120000
DTEND;TZID=America/Detroit:20240819T123000
DTSTAMP:20260425T134448
CREATED:20240618T173711Z
LAST-MODIFIED:20240618T175625Z
UID:10003307-1724068800-1724070600@sistersosf.org
SUMMARY:Vigil for Racial Equality
DESCRIPTION:Join the Sylvania Franciscans in a meaningful bi-weekly vigil and take a stand for racial equality. Mondays and Wednesdays from 12:15pm – 12:30pm at the corner of Convent Blvd. and Main Street in Sylvania.
URL:https://sistersosf.org/event/vigil-for-racial-equality/2024-08-19/
CATEGORIES:Sisters of St. Francis
END:VEVENT
BEGIN:VEVENT
DTSTART;TZID=America/Detroit:20240819T080000
DTEND;TZID=America/Detroit:20240819T083000
DTSTAMP:20260425T134448
CREATED:20240612T141416Z
LAST-MODIFIED:20260304T133850Z
UID:10001444-1724054400-1724056200@sistersosf.org
SUMMARY:Mass
DESCRIPTION:Queen of Peace Chapel
URL:https://sistersosf.org/event/mass/2024-08-19/
LOCATION:Queen of Peace Chapel\, 6832 Convent Blvd.\, Sylvania\, OH\, 43560\, United States
CATEGORIES:Sisters of St. Francis
ATTACH;FMTTYPE=image/jpeg:https://sistersosf.org/wp-content/uploads/2024/06/OSF-Jubilee-Mass-2024-41-scaled.jpg
END:VEVENT
BEGIN:VEVENT
DTSTART;TZID=America/Detroit:20240816T080000
DTEND;TZID=America/Detroit:20240816T083000
DTSTAMP:20260425T134448
CREATED:20240612T141416Z
LAST-MODIFIED:20260304T133850Z
UID:10001441-1723795200-1723797000@sistersosf.org
SUMMARY:Mass
DESCRIPTION:Queen of Peace Chapel
URL:https://sistersosf.org/event/mass/2024-08-16/
LOCATION:Queen of Peace Chapel\, 6832 Convent Blvd.\, Sylvania\, OH\, 43560\, United States
CATEGORIES:Sisters of St. Francis
ATTACH;FMTTYPE=image/jpeg:https://sistersosf.org/wp-content/uploads/2024/06/OSF-Jubilee-Mass-2024-41-scaled.jpg
END:VEVENT
BEGIN:VEVENT
DTSTART;TZID=America/Detroit:20240815T153000
DTEND;TZID=America/Detroit:20240815T163000
DTSTAMP:20260425T134448
CREATED:20240612T141028Z
LAST-MODIFIED:20240617T170621Z
UID:10000863-1723735800-1723739400@sistersosf.org
SUMMARY:Grateful Harvest Community Garden Work
DESCRIPTION:
URL:https://sistersosf.org/event/grateful-harvest-community-garden-work/2024-08-15/
CATEGORIES:Sisters of St. Francis
ATTACH;FMTTYPE=image/jpeg:https://sistersosf.org/wp-content/uploads/2023/09/20230803_143539893_iOS-scaled.jpg
END:VEVENT
BEGIN:VEVENT
DTSTART;TZID=America/Detroit:20240815T120000
DTEND;TZID=America/Detroit:20240815T130000
DTSTAMP:20260425T134448
CREATED:20240625T202339Z
LAST-MODIFIED:20240731T185834Z
UID:10003815-1723723200-1723726800@sistersosf.org
SUMMARY:Recycle-O-Rama Trivia Extravaganza
DESCRIPTION:
URL:https://sistersosf.org/event/garbage-game-luncheon/
LOCATION:Regina Conference Room\, 6832 Convent Blvd\, Sylvania\, OH\, United States
CATEGORIES:Sisters of St. Francis
ATTACH;FMTTYPE=image/png:https://sistersosf.org/wp-content/uploads/2024/06/Recycling-Trivia-Event-1920-x-1080-px1-1.png
GEO:41.7105685;-83.7052723
X-APPLE-STRUCTURED-LOCATION;VALUE=URI;X-ADDRESS=Regina Conference Room 6832 Convent Blvd Sylvania OH United States;X-APPLE-RADIUS=500;X-TITLE=6832 Convent Blvd:geo:-83.7052723,41.7105685
END:VEVENT
BEGIN:VEVENT
DTSTART;TZID=America/Detroit:20240815T080000
DTEND;TZID=America/Detroit:20240815T083000
DTSTAMP:20260425T134448
CREATED:20240612T141416Z
LAST-MODIFIED:20260304T133850Z
UID:10001440-1723708800-1723710600@sistersosf.org
SUMMARY:Mass
DESCRIPTION:Queen of Peace Chapel
URL:https://sistersosf.org/event/mass/2024-08-15/
LOCATION:Queen of Peace Chapel\, 6832 Convent Blvd.\, Sylvania\, OH\, 43560\, United States
CATEGORIES:Sisters of St. Francis
ATTACH;FMTTYPE=image/jpeg:https://sistersosf.org/wp-content/uploads/2024/06/OSF-Jubilee-Mass-2024-41-scaled.jpg
END:VEVENT
BEGIN:VEVENT
DTSTART;TZID=America/Detroit:20240814T123000
DTEND;TZID=America/Detroit:20240814T130000
DTSTAMP:20260425T134448
CREATED:20240612T141225Z
LAST-MODIFIED:20240612T141225Z
UID:10001124-1723638600-1723640400@sistersosf.org
SUMMARY:Wednesday Walk at Rosary Care
DESCRIPTION:
URL:https://sistersosf.org/event/wednesday-walk-at-rosary-care/2024-08-14/
END:VEVENT
BEGIN:VEVENT
DTSTART;TZID=America/Detroit:20240814T120000
DTEND;TZID=America/Detroit:20240814T130000
DTSTAMP:20260425T134448
CREATED:20240722T132541Z
LAST-MODIFIED:20240722T132541Z
UID:10003830-1723636800-1723640400@sistersosf.org
SUMMARY:Alzheimer Association Lunch & Learn
DESCRIPTION:Alzheimer Association Lunch & Learn\,\nWednesday\, August 14\, Noon – 1 p.m.\,\nRegina Conference Room\, RSVP to\nskrukowski2@rosarycare.org
URL:https://sistersosf.org/event/alzheimer-association-lunch-learn/
LOCATION:Regina Conference Room\, 6832 Convent Blvd\, Sylvania\, OH\, United States
CATEGORIES:Rosary Care Center,Sisters of St. Francis
GEO:41.7105685;-83.7052723
X-APPLE-STRUCTURED-LOCATION;VALUE=URI;X-ADDRESS=Regina Conference Room 6832 Convent Blvd Sylvania OH United States;X-APPLE-RADIUS=500;X-TITLE=6832 Convent Blvd:geo:-83.7052723,41.7105685
END:VEVENT
BEGIN:VEVENT
DTSTART;TZID=America/Detroit:20240814T120000
DTEND;TZID=America/Detroit:20240814T123000
DTSTAMP:20260425T134448
CREATED:20240618T173711Z
LAST-MODIFIED:20240618T175625Z
UID:10003306-1723636800-1723638600@sistersosf.org
SUMMARY:Vigil for Racial Equality
DESCRIPTION:Join the Sylvania Franciscans in a meaningful bi-weekly vigil and take a stand for racial equality. Mondays and Wednesdays from 12:15pm – 12:30pm at the corner of Convent Blvd. and Main Street in Sylvania.
URL:https://sistersosf.org/event/vigil-for-racial-equality/2024-08-14/
CATEGORIES:Sisters of St. Francis
END:VEVENT
BEGIN:VEVENT
DTSTART;TZID=America/Detroit:20240814T080000
DTEND;TZID=America/Detroit:20240814T083000
DTSTAMP:20260425T134448
CREATED:20240612T141416Z
LAST-MODIFIED:20260304T133850Z
UID:10001439-1723622400-1723624200@sistersosf.org
SUMMARY:Mass
DESCRIPTION:Queen of Peace Chapel
URL:https://sistersosf.org/event/mass/2024-08-14/
LOCATION:Queen of Peace Chapel\, 6832 Convent Blvd.\, Sylvania\, OH\, 43560\, United States
CATEGORIES:Sisters of St. Francis
ATTACH;FMTTYPE=image/jpeg:https://sistersosf.org/wp-content/uploads/2024/06/OSF-Jubilee-Mass-2024-41-scaled.jpg
END:VEVENT
BEGIN:VEVENT
DTSTART;TZID=America/Detroit:20240813T080000
DTEND;TZID=America/Detroit:20240813T083000
DTSTAMP:20260425T134448
CREATED:20240612T141416Z
LAST-MODIFIED:20260304T133850Z
UID:10001438-1723536000-1723537800@sistersosf.org
SUMMARY:Mass
DESCRIPTION:Queen of Peace Chapel
URL:https://sistersosf.org/event/mass/2024-08-13/
LOCATION:Queen of Peace Chapel\, 6832 Convent Blvd.\, Sylvania\, OH\, 43560\, United States
CATEGORIES:Sisters of St. Francis
ATTACH;FMTTYPE=image/jpeg:https://sistersosf.org/wp-content/uploads/2024/06/OSF-Jubilee-Mass-2024-41-scaled.jpg
END:VEVENT
BEGIN:VEVENT
DTSTART;TZID=America/Detroit:20240812T120000
DTEND;TZID=America/Detroit:20240812T123000
DTSTAMP:20260425T134448
CREATED:20240618T173711Z
LAST-MODIFIED:20240618T175625Z
UID:10003305-1723464000-1723465800@sistersosf.org
SUMMARY:Vigil for Racial Equality
DESCRIPTION:Join the Sylvania Franciscans in a meaningful bi-weekly vigil and take a stand for racial equality. Mondays and Wednesdays from 12:15pm – 12:30pm at the corner of Convent Blvd. and Main Street in Sylvania.
URL:https://sistersosf.org/event/vigil-for-racial-equality/2024-08-12/
CATEGORIES:Sisters of St. Francis
END:VEVENT
BEGIN:VEVENT
DTSTART;TZID=America/Detroit:20240812T080000
DTEND;TZID=America/Detroit:20240812T083000
DTSTAMP:20260425T134448
CREATED:20240612T141416Z
LAST-MODIFIED:20260304T133850Z
UID:10001437-1723449600-1723451400@sistersosf.org
SUMMARY:Mass
DESCRIPTION:Queen of Peace Chapel
URL:https://sistersosf.org/event/mass/2024-08-12/
LOCATION:Queen of Peace Chapel\, 6832 Convent Blvd.\, Sylvania\, OH\, 43560\, United States
CATEGORIES:Sisters of St. Francis
ATTACH;FMTTYPE=image/jpeg:https://sistersosf.org/wp-content/uploads/2024/06/OSF-Jubilee-Mass-2024-41-scaled.jpg
END:VEVENT
BEGIN:VEVENT
DTSTART;VALUE=DATE:20240811
DTEND;VALUE=DATE:20240812
DTSTAMP:20260425T134448
CREATED:20240612T124958Z
LAST-MODIFIED:20240617T155820Z
UID:10000849-1723334400-1723420799@sistersosf.org
SUMMARY:Feast of St. Clare
DESCRIPTION:
URL:https://sistersosf.org/event/feast-of-st-clare-2/
CATEGORIES:Sisters of St. Francis
END:VEVENT
BEGIN:VEVENT
DTSTART;TZID=America/Detroit:20240809T080000
DTEND;TZID=America/Detroit:20240809T083000
DTSTAMP:20260425T134448
CREATED:20240612T141416Z
LAST-MODIFIED:20260304T133850Z
UID:10001434-1723190400-1723192200@sistersosf.org
SUMMARY:Mass
DESCRIPTION:Queen of Peace Chapel
URL:https://sistersosf.org/event/mass/2024-08-09/
LOCATION:Queen of Peace Chapel\, 6832 Convent Blvd.\, Sylvania\, OH\, 43560\, United States
CATEGORIES:Sisters of St. Francis
ATTACH;FMTTYPE=image/jpeg:https://sistersosf.org/wp-content/uploads/2024/06/OSF-Jubilee-Mass-2024-41-scaled.jpg
END:VEVENT
BEGIN:VEVENT
DTSTART;VALUE=DATE:20240809
DTEND;VALUE=DATE:20240810
DTSTAMP:20260425T134448
CREATED:20240617T161234Z
LAST-MODIFIED:20240617T161234Z
UID:10003276-1723161600-1723247999@sistersosf.org
SUMMARY:Canvas Painting Class
DESCRIPTION:Join Sister Sharon Haelak in painting your own canvas! \n  \nTIME: TBD
URL:https://sistersosf.org/event/canvas-painting-class/
LOCATION:All Good Things Art & Gifts\, 6832 Convent Rd\, Umbria Hall\, Sylvania\, OH\, 43560
CATEGORIES:All Good Things
END:VEVENT
BEGIN:VEVENT
DTSTART;TZID=America/Detroit:20240808T153000
DTEND;TZID=America/Detroit:20240808T163000
DTSTAMP:20260425T134448
CREATED:20240612T141028Z
LAST-MODIFIED:20240617T170621Z
UID:10000862-1723131000-1723134600@sistersosf.org
SUMMARY:Grateful Harvest Community Garden Work
DESCRIPTION:
URL:https://sistersosf.org/event/grateful-harvest-community-garden-work/2024-08-08/
CATEGORIES:Sisters of St. Francis
ATTACH;FMTTYPE=image/jpeg:https://sistersosf.org/wp-content/uploads/2023/09/20230803_143539893_iOS-scaled.jpg
END:VEVENT
BEGIN:VEVENT
DTSTART;TZID=America/Detroit:20240808T080000
DTEND;TZID=America/Detroit:20240808T083000
DTSTAMP:20260425T134448
CREATED:20240612T141416Z
LAST-MODIFIED:20260304T133850Z
UID:10001433-1723104000-1723105800@sistersosf.org
SUMMARY:Mass
DESCRIPTION:Queen of Peace Chapel
URL:https://sistersosf.org/event/mass/2024-08-08/
LOCATION:Queen of Peace Chapel\, 6832 Convent Blvd.\, Sylvania\, OH\, 43560\, United States
CATEGORIES:Sisters of St. Francis
ATTACH;FMTTYPE=image/jpeg:https://sistersosf.org/wp-content/uploads/2024/06/OSF-Jubilee-Mass-2024-41-scaled.jpg
END:VEVENT
BEGIN:VEVENT
DTSTART;TZID=America/New_York:20240807T190000
DTEND;TZID=America/New_York:20240807T203000
DTSTAMP:20260425T134448
CREATED:20240708T160233Z
LAST-MODIFIED:20240807T205953Z
UID:10003824-1723057200-1723062600@sistersosf.org
SUMMARY:An Evening with Melissa Urban
DESCRIPTION:To purchase tickets and for more information\, including the event schedule\, please click here. \nAbout Melissa Urban:\nMelissa Urban is CEO of the Whole30 and an authority on helping people create lifelong healthy habits. She is a six-time New York Times bestselling author (including the #1 bestseller The Whole30); and has been featured by Dr. Oz\, Good Morning America\, The New York Times\, The Wall Street Journal\, and CNBC. She lives with her husband\, son\, and a poodle named Henry in Salt Lake City\, Utah. \nAbout the new Whole30:\nThe new and improved Whole30 program from #1 New York Times bestselling author Melissa Urban\, featuring an updated approach to food freedom\, the Original and Plant-Based programs\, and over 100 new recipes \nDo you struggle with cravings\, blood sugar regulation\, inflammation\, fatigue\, digestive issues\, pain\, or other symptoms? The Whole30 can help you discover the foods that are holding you back—in just 30 days. \nSince 2009\, the Whole30 program has helped millions of people radically transform their health\, habits\, and relationship with food and discover lasting food freedom. Grounded in nutrition and behavior-change science and fifteen years of clinical evidence\, the Whole30 program has been praised by countless doctors and dietitians and is supported by thousands of glowing testimonials. \nInspired by her community\, the newest research\, and the ever-changing food landscape\, Whole30 co-founder Melissa Urban has expanded the program to be even more accessible\, supportive\, and effective. In The New Whole30\, you’ll find completely updated rules\, language\, and success strategies for every phase of your journey. The book now includes two different programs\, each with its own guidelines\, resources\, and recipes: the Original Whole30 (for omnivores) and the Plant-Based Whole30 (for vegans\, vegetarians\, or anyone exploring a plant-based diet). You’ll also find more than 100 all-new recipes plus some updated Whole30 favorites\, all of which are 100 percent gluten-free\, grain-free\, dairy-free\, and free of added sugar. \nIn her signature direct and empathetic style\, Urban distills more than a decade of expert knowledge and experience into the essential resource for Whole30 alumni and first-timers alike. The New Whole30 is sure to be your ultimate guide to success.
URL:https://sistersosf.org/event/an-evening-with-melissa-urban/
LOCATION:Franciscan Center\, 6832 Convent Blvd\, Sylvania\, OH\, 43560
CATEGORIES:Franciscan Center
ATTACH;FMTTYPE=image/jpeg:https://sistersosf.org/wp-content/uploads/2024/07/446982525_864556702359597_523298579523155257_n-e1720449676983-TVcg05.tmp_.jpg
GEO:41.7095334;-83.7090373
X-APPLE-STRUCTURED-LOCATION;VALUE=URI;X-ADDRESS=Franciscan Center 6832 Convent Blvd Sylvania OH 43560;X-APPLE-RADIUS=500;X-TITLE=6832 Convent Blvd:geo:-83.7090373,41.7095334
END:VEVENT
BEGIN:VEVENT
DTSTART;TZID=America/Detroit:20240807T123000
DTEND;TZID=America/Detroit:20240807T130000
DTSTAMP:20260425T134448
CREATED:20240612T141225Z
LAST-MODIFIED:20240612T141225Z
UID:10001123-1723033800-1723035600@sistersosf.org
SUMMARY:Wednesday Walk at Rosary Care
DESCRIPTION:
URL:https://sistersosf.org/event/wednesday-walk-at-rosary-care/2024-08-07/
END:VEVENT
BEGIN:VEVENT
DTSTART;TZID=America/Detroit:20240807T120000
DTEND;TZID=America/Detroit:20240807T123000
DTSTAMP:20260425T134448
CREATED:20240618T173711Z
LAST-MODIFIED:20240618T175625Z
UID:10003304-1723032000-1723033800@sistersosf.org
SUMMARY:Vigil for Racial Equality
DESCRIPTION:Join the Sylvania Franciscans in a meaningful bi-weekly vigil and take a stand for racial equality. Mondays and Wednesdays from 12:15pm – 12:30pm at the corner of Convent Blvd. and Main Street in Sylvania.
URL:https://sistersosf.org/event/vigil-for-racial-equality/2024-08-07/
CATEGORIES:Sisters of St. Francis
END:VEVENT
BEGIN:VEVENT
DTSTART;TZID=America/Detroit:20240807T080000
DTEND;TZID=America/Detroit:20240807T083000
DTSTAMP:20260425T134448
CREATED:20240612T141416Z
LAST-MODIFIED:20260304T133850Z
UID:10001432-1723017600-1723019400@sistersosf.org
SUMMARY:Mass
DESCRIPTION:Queen of Peace Chapel
URL:https://sistersosf.org/event/mass/2024-08-07/
LOCATION:Queen of Peace Chapel\, 6832 Convent Blvd.\, Sylvania\, OH\, 43560\, United States
CATEGORIES:Sisters of St. Francis
ATTACH;FMTTYPE=image/jpeg:https://sistersosf.org/wp-content/uploads/2024/06/OSF-Jubilee-Mass-2024-41-scaled.jpg
END:VEVENT
BEGIN:VEVENT
DTSTART;TZID=America/Detroit:20240806T100000
DTEND;TZID=America/Detroit:20240806T110000
DTSTAMP:20260425T134448
CREATED:20240625T202023Z
LAST-MODIFIED:20240625T202023Z
UID:10003814-1722938400-1722942000@sistersosf.org
SUMMARY:Coffee Talk with author Diana Waugh
DESCRIPTION:Meet with author Diana Waugh\, BSN\, RN\, CDP to learn more about interacting with loved ones and friends experiences cognitive/memory loss. \nCoffee and sweets served.
URL:https://sistersosf.org/event/coffee-talk-with-author-diana-waugh/
LOCATION:Evergreen Room\, Rosary Care Center
END:VEVENT
END:VCALENDAR