BEGIN:VCALENDAR
VERSION:2.0
PRODID:-//Sisters of St. Francis of Sylvania, Ohio - ECPv6.13.2.1//NONSGML v1.0//EN
CALSCALE:GREGORIAN
METHOD:PUBLISH
X-WR-CALNAME:Sisters of St. Francis of Sylvania, Ohio
X-ORIGINAL-URL:https://sistersosf.org
X-WR-CALDESC:Events for Sisters of St. Francis of Sylvania, Ohio
REFRESH-INTERVAL;VALUE=DURATION:PT1H
X-Robots-Tag:noindex
X-PUBLISHED-TTL:PT1H
BEGIN:VTIMEZONE
TZID:America/Detroit
BEGIN:DAYLIGHT
TZOFFSETFROM:-0500
TZOFFSETTO:-0400
TZNAME:EDT
DTSTART:20250309T070000
END:DAYLIGHT
BEGIN:STANDARD
TZOFFSETFROM:-0400
TZOFFSETTO:-0500
TZNAME:EST
DTSTART:20251102T060000
END:STANDARD
END:VTIMEZONE
BEGIN:VEVENT
DTSTART;TZID=America/Detroit:20250521T140000
DTEND;TZID=America/Detroit:20250521T140000
DTSTAMP:20260422T173415
CREATED:20250520T141228Z
LAST-MODIFIED:20250520T141228Z
UID:10004187-1747836000-1747836000@sistersosf.org
SUMMARY:Adopt a Flowerpot
DESCRIPTION:Join the LoC Committee as they find new homes for reusable plastic flowerpots.
URL:https://sistersosf.org/event/adopt-a-flowerpot/
CATEGORIES:Sisters of St. Francis
ATTACH;FMTTYPE=image/jpeg:https://sistersosf.org/wp-content/uploads/2025/05/Adopt-a-Flowerpot.jpg
END:VEVENT
BEGIN:VEVENT
DTSTART;TZID=America/Detroit:20250521T120000
DTEND;TZID=America/Detroit:20250521T123000
DTSTAMP:20260422T173415
CREATED:20240618T173711Z
LAST-MODIFIED:20240618T175625Z
UID:10003386-1747828800-1747830600@sistersosf.org
SUMMARY:Vigil for Racial Equality
DESCRIPTION:Join the Sylvania Franciscans in a meaningful bi-weekly vigil and take a stand for racial equality. Mondays and Wednesdays from 12:15pm – 12:30pm at the corner of Convent Blvd. and Main Street in Sylvania.
URL:https://sistersosf.org/event/vigil-for-racial-equality/2025-05-21/
CATEGORIES:Sisters of St. Francis
END:VEVENT
BEGIN:VEVENT
DTSTART;TZID=America/Detroit:20250521T080000
DTEND;TZID=America/Detroit:20250521T083000
DTSTAMP:20260422T173415
CREATED:20240612T141416Z
LAST-MODIFIED:20260304T133850Z
UID:10001719-1747814400-1747816200@sistersosf.org
SUMMARY:Mass
DESCRIPTION:Queen of Peace Chapel
URL:https://sistersosf.org/event/mass/2025-05-21/
LOCATION:Queen of Peace Chapel\, 6832 Convent Blvd.\, Sylvania\, OH\, 43560\, United States
CATEGORIES:Sisters of St. Francis
ATTACH;FMTTYPE=image/jpeg:https://sistersosf.org/wp-content/uploads/2024/06/OSF-Jubilee-Mass-2024-41-scaled.jpg
END:VEVENT
BEGIN:VEVENT
DTSTART;TZID=America/Detroit:20250520T080000
DTEND;TZID=America/Detroit:20250520T083000
DTSTAMP:20260422T173415
CREATED:20240612T141416Z
LAST-MODIFIED:20260304T133850Z
UID:10001718-1747728000-1747729800@sistersosf.org
SUMMARY:Mass
DESCRIPTION:Queen of Peace Chapel
URL:https://sistersosf.org/event/mass/2025-05-20/
LOCATION:Queen of Peace Chapel\, 6832 Convent Blvd.\, Sylvania\, OH\, 43560\, United States
CATEGORIES:Sisters of St. Francis
ATTACH;FMTTYPE=image/jpeg:https://sistersosf.org/wp-content/uploads/2024/06/OSF-Jubilee-Mass-2024-41-scaled.jpg
END:VEVENT
BEGIN:VEVENT
DTSTART;TZID=America/Detroit:20250519T120000
DTEND;TZID=America/Detroit:20250519T123000
DTSTAMP:20260422T173415
CREATED:20240618T173711Z
LAST-MODIFIED:20240618T175625Z
UID:10003385-1747656000-1747657800@sistersosf.org
SUMMARY:Vigil for Racial Equality
DESCRIPTION:Join the Sylvania Franciscans in a meaningful bi-weekly vigil and take a stand for racial equality. Mondays and Wednesdays from 12:15pm – 12:30pm at the corner of Convent Blvd. and Main Street in Sylvania.
URL:https://sistersosf.org/event/vigil-for-racial-equality/2025-05-19/
CATEGORIES:Sisters of St. Francis
END:VEVENT
BEGIN:VEVENT
DTSTART;TZID=America/Detroit:20250519T080000
DTEND;TZID=America/Detroit:20250519T083000
DTSTAMP:20260422T173415
CREATED:20240612T141416Z
LAST-MODIFIED:20260304T133850Z
UID:10001717-1747641600-1747643400@sistersosf.org
SUMMARY:Mass
DESCRIPTION:Queen of Peace Chapel
URL:https://sistersosf.org/event/mass/2025-05-19/
LOCATION:Queen of Peace Chapel\, 6832 Convent Blvd.\, Sylvania\, OH\, 43560\, United States
CATEGORIES:Sisters of St. Francis
ATTACH;FMTTYPE=image/jpeg:https://sistersosf.org/wp-content/uploads/2024/06/OSF-Jubilee-Mass-2024-41-scaled.jpg
END:VEVENT
BEGIN:VEVENT
DTSTART;VALUE=DATE:20250518
DTEND;VALUE=DATE:20250519
DTSTAMP:20260422T173415
CREATED:20250321T145954Z
LAST-MODIFIED:20250321T151131Z
UID:10004151-1747562400-1747562400@sistersosf.org
SUMMARY:Sunday Brunch with Omelet Bar
DESCRIPTION:Lourdes Dining Hall
URL:https://sistersosf.org/event/sunday-brunch-with-omelet-bar/2025-05-18/
END:VEVENT
BEGIN:VEVENT
DTSTART;TZID=America/Detroit:20250516T180000
DTEND;TZID=America/Detroit:20250516T200000
DTSTAMP:20260422T173415
CREATED:20250409T123518Z
LAST-MODIFIED:20250409T123518Z
UID:10004159-1747418400-1747425600@sistersosf.org
SUMMARY:Donor Reception Dinner
DESCRIPTION:Hear from two 2025 Grant Partners: Cherry Street Mission Ministries & Bittersweet Farms \nR.S.V.P. to Sue Knapik BY MAY 9\, 2025 sknapik@sistersosf.org or 419-824-3624 Subject line: Donor Night RSVP
URL:https://sistersosf.org/event/donor-reception-dinner/
LOCATION:Canticle Center\, 5335 Silica Dr.\, Sylvania
CATEGORIES:Sisters of St. Francis
ATTACH;FMTTYPE=image/jpeg:https://sistersosf.org/wp-content/uploads/2025/04/Donor-Dinner-Reception.jpg
END:VEVENT
BEGIN:VEVENT
DTSTART;TZID=America/Detroit:20250516T080000
DTEND;TZID=America/Detroit:20250516T083000
DTSTAMP:20260422T173415
CREATED:20240612T141416Z
LAST-MODIFIED:20260304T133850Z
UID:10001714-1747382400-1747384200@sistersosf.org
SUMMARY:Mass
DESCRIPTION:Queen of Peace Chapel
URL:https://sistersosf.org/event/mass/2025-05-16/
LOCATION:Queen of Peace Chapel\, 6832 Convent Blvd.\, Sylvania\, OH\, 43560\, United States
CATEGORIES:Sisters of St. Francis
ATTACH;FMTTYPE=image/jpeg:https://sistersosf.org/wp-content/uploads/2024/06/OSF-Jubilee-Mass-2024-41-scaled.jpg
END:VEVENT
BEGIN:VEVENT
DTSTART;TZID=America/Detroit:20250515T113000
DTEND;TZID=America/Detroit:20250515T133000
DTSTAMP:20260422T173415
CREATED:20250409T122001Z
LAST-MODIFIED:20250409T122001Z
UID:10004158-1747308600-1747315800@sistersosf.org
SUMMARY:Employee Appreciation Event
DESCRIPTION:SOSF Employee Appreciation Event
URL:https://sistersosf.org/event/employee-appreciation-event/
LOCATION:Serra Hall\, 6832 Convent Blvd.\, Sylvania\, OH\, 43560
CATEGORIES:Sisters of St. Francis
END:VEVENT
BEGIN:VEVENT
DTSTART;TZID=America/Detroit:20250515T080000
DTEND;TZID=America/Detroit:20250515T083000
DTSTAMP:20260422T173415
CREATED:20240612T141416Z
LAST-MODIFIED:20260304T133850Z
UID:10001713-1747296000-1747297800@sistersosf.org
SUMMARY:Mass
DESCRIPTION:Queen of Peace Chapel
URL:https://sistersosf.org/event/mass/2025-05-15/
LOCATION:Queen of Peace Chapel\, 6832 Convent Blvd.\, Sylvania\, OH\, 43560\, United States
CATEGORIES:Sisters of St. Francis
ATTACH;FMTTYPE=image/jpeg:https://sistersosf.org/wp-content/uploads/2024/06/OSF-Jubilee-Mass-2024-41-scaled.jpg
END:VEVENT
BEGIN:VEVENT
DTSTART;TZID=America/Detroit:20250514T120000
DTEND;TZID=America/Detroit:20250514T123000
DTSTAMP:20260422T173415
CREATED:20240618T173711Z
LAST-MODIFIED:20240618T175625Z
UID:10003384-1747224000-1747225800@sistersosf.org
SUMMARY:Vigil for Racial Equality
DESCRIPTION:Join the Sylvania Franciscans in a meaningful bi-weekly vigil and take a stand for racial equality. Mondays and Wednesdays from 12:15pm – 12:30pm at the corner of Convent Blvd. and Main Street in Sylvania.
URL:https://sistersosf.org/event/vigil-for-racial-equality/2025-05-14/
CATEGORIES:Sisters of St. Francis
END:VEVENT
BEGIN:VEVENT
DTSTART;TZID=America/Detroit:20250514T080000
DTEND;TZID=America/Detroit:20250514T083000
DTSTAMP:20260422T173415
CREATED:20240612T141416Z
LAST-MODIFIED:20260304T133850Z
UID:10001712-1747209600-1747211400@sistersosf.org
SUMMARY:Mass
DESCRIPTION:Queen of Peace Chapel
URL:https://sistersosf.org/event/mass/2025-05-14/
LOCATION:Queen of Peace Chapel\, 6832 Convent Blvd.\, Sylvania\, OH\, 43560\, United States
CATEGORIES:Sisters of St. Francis
ATTACH;FMTTYPE=image/jpeg:https://sistersosf.org/wp-content/uploads/2024/06/OSF-Jubilee-Mass-2024-41-scaled.jpg
END:VEVENT
BEGIN:VEVENT
DTSTART;TZID=America/Detroit:20250513T080000
DTEND;TZID=America/Detroit:20250513T083000
DTSTAMP:20260422T173415
CREATED:20240612T141416Z
LAST-MODIFIED:20260304T133850Z
UID:10001711-1747123200-1747125000@sistersosf.org
SUMMARY:Mass
DESCRIPTION:Queen of Peace Chapel
URL:https://sistersosf.org/event/mass/2025-05-13/
LOCATION:Queen of Peace Chapel\, 6832 Convent Blvd.\, Sylvania\, OH\, 43560\, United States
CATEGORIES:Sisters of St. Francis
ATTACH;FMTTYPE=image/jpeg:https://sistersosf.org/wp-content/uploads/2024/06/OSF-Jubilee-Mass-2024-41-scaled.jpg
END:VEVENT
BEGIN:VEVENT
DTSTART;TZID=America/Detroit:20250512T120000
DTEND;TZID=America/Detroit:20250512T123000
DTSTAMP:20260422T173415
CREATED:20240618T173711Z
LAST-MODIFIED:20240618T175625Z
UID:10003383-1747051200-1747053000@sistersosf.org
SUMMARY:Vigil for Racial Equality
DESCRIPTION:Join the Sylvania Franciscans in a meaningful bi-weekly vigil and take a stand for racial equality. Mondays and Wednesdays from 12:15pm – 12:30pm at the corner of Convent Blvd. and Main Street in Sylvania.
URL:https://sistersosf.org/event/vigil-for-racial-equality/2025-05-12/
CATEGORIES:Sisters of St. Francis
END:VEVENT
BEGIN:VEVENT
DTSTART;TZID=America/Detroit:20250512T080000
DTEND;TZID=America/Detroit:20250512T083000
DTSTAMP:20260422T173415
CREATED:20240612T141416Z
LAST-MODIFIED:20260304T133850Z
UID:10001710-1747036800-1747038600@sistersosf.org
SUMMARY:Mass
DESCRIPTION:Queen of Peace Chapel
URL:https://sistersosf.org/event/mass/2025-05-12/
LOCATION:Queen of Peace Chapel\, 6832 Convent Blvd.\, Sylvania\, OH\, 43560\, United States
CATEGORIES:Sisters of St. Francis
ATTACH;FMTTYPE=image/jpeg:https://sistersosf.org/wp-content/uploads/2024/06/OSF-Jubilee-Mass-2024-41-scaled.jpg
END:VEVENT
BEGIN:VEVENT
DTSTART;TZID=America/Detroit:20250509T110000
DTEND;TZID=America/Detroit:20250509T130000
DTSTAMP:20260422T173415
CREATED:20250513T135318Z
LAST-MODIFIED:20250513T154825Z
UID:10004162-1746788400-1746795600@sistersosf.org
SUMMARY:Let’s Get Outside
DESCRIPTION:Bless the Bees \nPlant a pollinator \nMake Art \nGet Together \n 
URL:https://sistersosf.org/event/lets-get-outside/
CATEGORIES:Sisters of St. Francis
ATTACH;FMTTYPE=image/jpeg:https://sistersosf.org/wp-content/uploads/2025/05/Lets-Get-Outdoors-May-9-2025.jpg
END:VEVENT
BEGIN:VEVENT
DTSTART;TZID=America/Detroit:20250509T080000
DTEND;TZID=America/Detroit:20250509T083000
DTSTAMP:20260422T173415
CREATED:20240612T141416Z
LAST-MODIFIED:20260304T133850Z
UID:10001707-1746777600-1746779400@sistersosf.org
SUMMARY:Mass
DESCRIPTION:Queen of Peace Chapel
URL:https://sistersosf.org/event/mass/2025-05-09/
LOCATION:Queen of Peace Chapel\, 6832 Convent Blvd.\, Sylvania\, OH\, 43560\, United States
CATEGORIES:Sisters of St. Francis
ATTACH;FMTTYPE=image/jpeg:https://sistersosf.org/wp-content/uploads/2024/06/OSF-Jubilee-Mass-2024-41-scaled.jpg
END:VEVENT
BEGIN:VEVENT
DTSTART;TZID=America/Detroit:20250508T100000
DTEND;TZID=America/Detroit:20250508T133000
DTSTAMP:20260422T173415
CREATED:20250513T133928Z
LAST-MODIFIED:20250514T131738Z
UID:10004161-1746698400-1746711000@sistersosf.org
SUMMARY:Reflective Walk with Sister Joan
DESCRIPTION:Thursday\, May 8\, 10:00 a.m.
URL:https://sistersosf.org/event/de-stress-with-connections/
CATEGORIES:Sisters of St. Francis
ATTACH;FMTTYPE=image/jpeg:https://sistersosf.org/wp-content/uploads/2025/04/Reflective-Walk-with-Sister-Joan-2025-copy.jpg
END:VEVENT
BEGIN:VEVENT
DTSTART;TZID=America/Detroit:20250508T080000
DTEND;TZID=America/Detroit:20250508T083000
DTSTAMP:20260422T173415
CREATED:20240612T141416Z
LAST-MODIFIED:20260304T133850Z
UID:10001706-1746691200-1746693000@sistersosf.org
SUMMARY:Mass
DESCRIPTION:Queen of Peace Chapel
URL:https://sistersosf.org/event/mass/2025-05-08/
LOCATION:Queen of Peace Chapel\, 6832 Convent Blvd.\, Sylvania\, OH\, 43560\, United States
CATEGORIES:Sisters of St. Francis
ATTACH;FMTTYPE=image/jpeg:https://sistersosf.org/wp-content/uploads/2024/06/OSF-Jubilee-Mass-2024-41-scaled.jpg
END:VEVENT
BEGIN:VEVENT
DTSTART;TZID=America/Detroit:20250507T120000
DTEND;TZID=America/Detroit:20250507T123000
DTSTAMP:20260422T173415
CREATED:20240618T173711Z
LAST-MODIFIED:20240618T175625Z
UID:10003382-1746619200-1746621000@sistersosf.org
SUMMARY:Vigil for Racial Equality
DESCRIPTION:Join the Sylvania Franciscans in a meaningful bi-weekly vigil and take a stand for racial equality. Mondays and Wednesdays from 12:15pm – 12:30pm at the corner of Convent Blvd. and Main Street in Sylvania.
URL:https://sistersosf.org/event/vigil-for-racial-equality/2025-05-07/
CATEGORIES:Sisters of St. Francis
END:VEVENT
BEGIN:VEVENT
DTSTART;TZID=America/Detroit:20250507T080000
DTEND;TZID=America/Detroit:20250507T083000
DTSTAMP:20260422T173415
CREATED:20240612T141416Z
LAST-MODIFIED:20260304T133850Z
UID:10001705-1746604800-1746606600@sistersosf.org
SUMMARY:Mass
DESCRIPTION:Queen of Peace Chapel
URL:https://sistersosf.org/event/mass/2025-05-07/
LOCATION:Queen of Peace Chapel\, 6832 Convent Blvd.\, Sylvania\, OH\, 43560\, United States
CATEGORIES:Sisters of St. Francis
ATTACH;FMTTYPE=image/jpeg:https://sistersosf.org/wp-content/uploads/2024/06/OSF-Jubilee-Mass-2024-41-scaled.jpg
END:VEVENT
BEGIN:VEVENT
DTSTART;TZID=America/Detroit:20250506T080000
DTEND;TZID=America/Detroit:20250506T083000
DTSTAMP:20260422T173415
CREATED:20240612T141416Z
LAST-MODIFIED:20260304T133850Z
UID:10001704-1746518400-1746520200@sistersosf.org
SUMMARY:Mass
DESCRIPTION:Queen of Peace Chapel
URL:https://sistersosf.org/event/mass/2025-05-06/
LOCATION:Queen of Peace Chapel\, 6832 Convent Blvd.\, Sylvania\, OH\, 43560\, United States
CATEGORIES:Sisters of St. Francis
ATTACH;FMTTYPE=image/jpeg:https://sistersosf.org/wp-content/uploads/2024/06/OSF-Jubilee-Mass-2024-41-scaled.jpg
END:VEVENT
BEGIN:VEVENT
DTSTART;TZID=America/Detroit:20250505T120000
DTEND;TZID=America/Detroit:20250505T123000
DTSTAMP:20260422T173415
CREATED:20240618T173711Z
LAST-MODIFIED:20240618T175625Z
UID:10003381-1746446400-1746448200@sistersosf.org
SUMMARY:Vigil for Racial Equality
DESCRIPTION:Join the Sylvania Franciscans in a meaningful bi-weekly vigil and take a stand for racial equality. Mondays and Wednesdays from 12:15pm – 12:30pm at the corner of Convent Blvd. and Main Street in Sylvania.
URL:https://sistersosf.org/event/vigil-for-racial-equality/2025-05-05/
CATEGORIES:Sisters of St. Francis
END:VEVENT
BEGIN:VEVENT
DTSTART;TZID=America/Detroit:20250505T110000
DTEND;TZID=America/Detroit:20250505T140000
DTSTAMP:20260422T173415
CREATED:20250409T123704Z
LAST-MODIFIED:20250409T123704Z
UID:10004160-1746442800-1746453600@sistersosf.org
SUMMARY:Lourdes De-Stress Lower Ebeid
DESCRIPTION:Student de-stress fair to help re-energize during exam week.
URL:https://sistersosf.org/event/lourdes-de-stress-lower-ebeid/
END:VEVENT
BEGIN:VEVENT
DTSTART;TZID=America/Detroit:20250505T080000
DTEND;TZID=America/Detroit:20250505T083000
DTSTAMP:20260422T173415
CREATED:20240612T141416Z
LAST-MODIFIED:20260304T133850Z
UID:10001703-1746432000-1746433800@sistersosf.org
SUMMARY:Mass
DESCRIPTION:Queen of Peace Chapel
URL:https://sistersosf.org/event/mass/2025-05-05/
LOCATION:Queen of Peace Chapel\, 6832 Convent Blvd.\, Sylvania\, OH\, 43560\, United States
CATEGORIES:Sisters of St. Francis
ATTACH;FMTTYPE=image/jpeg:https://sistersosf.org/wp-content/uploads/2024/06/OSF-Jubilee-Mass-2024-41-scaled.jpg
END:VEVENT
BEGIN:VEVENT
DTSTART;TZID=America/Detroit:20250503T110000
DTEND;TZID=America/Detroit:20250503T130000
DTSTAMP:20260422T173415
CREATED:20250123T142818Z
LAST-MODIFIED:20250402T170858Z
UID:10004074-1746270000-1746277200@sistersosf.org
SUMMARY:Garden Art Tour for Toledo GROWs
DESCRIPTION:With hosts Christine Deemer\, Art Curator for the Sylvania Franciscans and Lourdes University and Elizabeth Reiter\, Grateful Harvest Community Garden Coordinator. \n  \nMeet at the Grateful Harvest Community Garden – Take the last entrance onto Campus from Convent Blvd. and park at the community garden. \n  \n 
URL:https://sistersosf.org/event/garden-art-tour-for-toledo-grows/
CATEGORIES:Sisters of St. Francis
END:VEVENT
BEGIN:VEVENT
DTSTART;TZID=America/Detroit:20250502T130000
DTEND;TZID=America/Detroit:20250502T150000
DTSTAMP:20260422T173415
CREATED:20240617T153230Z
LAST-MODIFIED:20240912T120824Z
UID:10003224-1746190800-1746198000@sistersosf.org
SUMMARY:Sr. Roselynn’s Tea & Teach Cards
DESCRIPTION:Join Sister Roselynn for tea and learn a few new skills! \n\n\n\nRSVP : 419-824-3749
URL:https://sistersosf.org/event/sr-roselynns-tea-teach-cards/2025-05-02/
LOCATION:All Good Things Art & Gifts\, 6832 Convent Rd\, Umbria Hall\, Sylvania\, OH\, 43560
CATEGORIES:Sisters of St. Francis
ATTACH;FMTTYPE=image/jpeg:https://sistersosf.org/wp-content/uploads/2024/06/458405064_1397807384477335_2525615199903980645_n.jpg
END:VEVENT
BEGIN:VEVENT
DTSTART;TZID=America/Detroit:20250502T120000
DTEND;TZID=America/Detroit:20250502T133000
DTSTAMP:20260422T173415
CREATED:20250402T170101Z
LAST-MODIFIED:20250402T170101Z
UID:10004156-1746187200-1746192600@sistersosf.org
SUMMARY:Cupcake & Ice Cream Social
DESCRIPTION:All of campus is invited.
URL:https://sistersosf.org/event/cupcake-ice-cream-social/
LOCATION:Rosary Care Center\, 6832 Convent Blvd\, Sylvania\, 43560
CATEGORIES:Rosary Care Center,Sisters of St. Francis
ATTACH;FMTTYPE=image/jpeg:https://sistersosf.org/wp-content/uploads/2025/04/Cupcake-Ice-cream-Social1.jpg
GEO:41.7095334;-83.7090373
X-APPLE-STRUCTURED-LOCATION;VALUE=URI;X-ADDRESS=Rosary Care Center 6832 Convent Blvd Sylvania 43560;X-APPLE-RADIUS=500;X-TITLE=6832 Convent Blvd:geo:-83.7090373,41.7095334
END:VEVENT
BEGIN:VEVENT
DTSTART;TZID=America/Detroit:20250502T080000
DTEND;TZID=America/Detroit:20250502T083000
DTSTAMP:20260422T173415
CREATED:20240612T141416Z
LAST-MODIFIED:20260304T133850Z
UID:10001700-1746172800-1746174600@sistersosf.org
SUMMARY:Mass
DESCRIPTION:Queen of Peace Chapel
URL:https://sistersosf.org/event/mass/2025-05-02/
LOCATION:Queen of Peace Chapel\, 6832 Convent Blvd.\, Sylvania\, OH\, 43560\, United States
CATEGORIES:Sisters of St. Francis
ATTACH;FMTTYPE=image/jpeg:https://sistersosf.org/wp-content/uploads/2024/06/OSF-Jubilee-Mass-2024-41-scaled.jpg
END:VEVENT
END:VCALENDAR