BEGIN:VCALENDAR
VERSION:2.0
PRODID:-//Sisters of St. Francis of Sylvania, Ohio - ECPv6.13.2.1//NONSGML v1.0//EN
CALSCALE:GREGORIAN
METHOD:PUBLISH
X-WR-CALNAME:Sisters of St. Francis of Sylvania, Ohio
X-ORIGINAL-URL:https://sistersosf.org
X-WR-CALDESC:Events for Sisters of St. Francis of Sylvania, Ohio
REFRESH-INTERVAL;VALUE=DURATION:PT1H
X-Robots-Tag:noindex
X-PUBLISHED-TTL:PT1H
BEGIN:VTIMEZONE
TZID:America/Detroit
BEGIN:DAYLIGHT
TZOFFSETFROM:-0500
TZOFFSETTO:-0400
TZNAME:EDT
DTSTART:20240310T070000
END:DAYLIGHT
BEGIN:STANDARD
TZOFFSETFROM:-0400
TZOFFSETTO:-0500
TZNAME:EST
DTSTART:20241103T060000
END:STANDARD
BEGIN:DAYLIGHT
TZOFFSETFROM:-0500
TZOFFSETTO:-0400
TZNAME:EDT
DTSTART:20250309T070000
END:DAYLIGHT
BEGIN:STANDARD
TZOFFSETFROM:-0400
TZOFFSETTO:-0500
TZNAME:EST
DTSTART:20251102T060000
END:STANDARD
END:VTIMEZONE
BEGIN:VEVENT
DTSTART;TZID=America/Detroit:20241227T080000
DTEND;TZID=America/Detroit:20241227T083000
DTSTAMP:20260422T133528
CREATED:20240612T141416Z
LAST-MODIFIED:20260304T133850Z
UID:10001574-1735286400-1735288200@sistersosf.org
SUMMARY:Mass
DESCRIPTION:Queen of Peace Chapel
URL:https://sistersosf.org/event/mass/2024-12-27/
LOCATION:Queen of Peace Chapel\, 6832 Convent Blvd.\, Sylvania\, OH\, 43560\, United States
CATEGORIES:Sisters of St. Francis
ATTACH;FMTTYPE=image/jpeg:https://sistersosf.org/wp-content/uploads/2024/06/OSF-Jubilee-Mass-2024-41-scaled.jpg
END:VEVENT
BEGIN:VEVENT
DTSTART;TZID=America/Detroit:20241230T080000
DTEND;TZID=America/Detroit:20241230T083000
DTSTAMP:20260422T133528
CREATED:20240612T141416Z
LAST-MODIFIED:20260304T133850Z
UID:10001577-1735545600-1735547400@sistersosf.org
SUMMARY:Mass
DESCRIPTION:Queen of Peace Chapel
URL:https://sistersosf.org/event/mass/2024-12-30/
LOCATION:Queen of Peace Chapel\, 6832 Convent Blvd.\, Sylvania\, OH\, 43560\, United States
CATEGORIES:Sisters of St. Francis
ATTACH;FMTTYPE=image/jpeg:https://sistersosf.org/wp-content/uploads/2024/06/OSF-Jubilee-Mass-2024-41-scaled.jpg
END:VEVENT
BEGIN:VEVENT
DTSTART;TZID=America/Detroit:20241230T120000
DTEND;TZID=America/Detroit:20241230T123000
DTSTAMP:20260422T133528
CREATED:20240618T173711Z
LAST-MODIFIED:20240618T175625Z
UID:10003345-1735560000-1735561800@sistersosf.org
SUMMARY:Vigil for Racial Equality
DESCRIPTION:Join the Sylvania Franciscans in a meaningful bi-weekly vigil and take a stand for racial equality. Mondays and Wednesdays from 12:15pm – 12:30pm at the corner of Convent Blvd. and Main Street in Sylvania.
URL:https://sistersosf.org/event/vigil-for-racial-equality/2024-12-30/
CATEGORIES:Sisters of St. Francis
END:VEVENT
BEGIN:VEVENT
DTSTART;TZID=America/Detroit:20241231T080000
DTEND;TZID=America/Detroit:20241231T083000
DTSTAMP:20260422T133528
CREATED:20240612T141416Z
LAST-MODIFIED:20260304T133850Z
UID:10001578-1735632000-1735633800@sistersosf.org
SUMMARY:Mass
DESCRIPTION:Queen of Peace Chapel
URL:https://sistersosf.org/event/mass/2024-12-31/
LOCATION:Queen of Peace Chapel\, 6832 Convent Blvd.\, Sylvania\, OH\, 43560\, United States
CATEGORIES:Sisters of St. Francis
ATTACH;FMTTYPE=image/jpeg:https://sistersosf.org/wp-content/uploads/2024/06/OSF-Jubilee-Mass-2024-41-scaled.jpg
END:VEVENT
BEGIN:VEVENT
DTSTART;TZID=America/Detroit:20250101T120000
DTEND;TZID=America/Detroit:20250101T123000
DTSTAMP:20260422T133528
CREATED:20240618T173711Z
LAST-MODIFIED:20240618T175625Z
UID:10003346-1735732800-1735734600@sistersosf.org
SUMMARY:Vigil for Racial Equality
DESCRIPTION:Join the Sylvania Franciscans in a meaningful bi-weekly vigil and take a stand for racial equality. Mondays and Wednesdays from 12:15pm – 12:30pm at the corner of Convent Blvd. and Main Street in Sylvania.
URL:https://sistersosf.org/event/vigil-for-racial-equality/2025-01-01/
CATEGORIES:Sisters of St. Francis
END:VEVENT
BEGIN:VEVENT
DTSTART;TZID=America/Detroit:20250102T080000
DTEND;TZID=America/Detroit:20250102T083000
DTSTAMP:20260422T133528
CREATED:20240612T141416Z
LAST-MODIFIED:20260304T133850Z
UID:10001580-1735804800-1735806600@sistersosf.org
SUMMARY:Mass
DESCRIPTION:Queen of Peace Chapel
URL:https://sistersosf.org/event/mass/2025-01-02/
LOCATION:Queen of Peace Chapel\, 6832 Convent Blvd.\, Sylvania\, OH\, 43560\, United States
CATEGORIES:Sisters of St. Francis
ATTACH;FMTTYPE=image/jpeg:https://sistersosf.org/wp-content/uploads/2024/06/OSF-Jubilee-Mass-2024-41-scaled.jpg
END:VEVENT
BEGIN:VEVENT
DTSTART;TZID=America/Detroit:20250103T080000
DTEND;TZID=America/Detroit:20250103T083000
DTSTAMP:20260422T133528
CREATED:20240612T141416Z
LAST-MODIFIED:20260304T133850Z
UID:10001581-1735891200-1735893000@sistersosf.org
SUMMARY:Mass
DESCRIPTION:Queen of Peace Chapel
URL:https://sistersosf.org/event/mass/2025-01-03/
LOCATION:Queen of Peace Chapel\, 6832 Convent Blvd.\, Sylvania\, OH\, 43560\, United States
CATEGORIES:Sisters of St. Francis
ATTACH;FMTTYPE=image/jpeg:https://sistersosf.org/wp-content/uploads/2024/06/OSF-Jubilee-Mass-2024-41-scaled.jpg
END:VEVENT
BEGIN:VEVENT
DTSTART;TZID=America/Detroit:20250103T130000
DTEND;TZID=America/Detroit:20250103T150000
DTSTAMP:20260422T133528
CREATED:20240617T153230Z
LAST-MODIFIED:20240912T120824Z
UID:10003220-1735909200-1735916400@sistersosf.org
SUMMARY:Sr. Roselynn’s Tea & Teach Cards
DESCRIPTION:Join Sister Roselynn for tea and learn a few new skills! \n\n\n\nRSVP : 419-824-3749
URL:https://sistersosf.org/event/sr-roselynns-tea-teach-cards/2025-01-03/
LOCATION:All Good Things Art & Gifts\, 6832 Convent Rd\, Umbria Hall\, Sylvania\, OH\, 43560
CATEGORIES:Sisters of St. Francis
ATTACH;FMTTYPE=image/jpeg:https://sistersosf.org/wp-content/uploads/2024/06/458405064_1397807384477335_2525615199903980645_n.jpg
END:VEVENT
BEGIN:VEVENT
DTSTART;TZID=America/Detroit:20250106T080000
DTEND;TZID=America/Detroit:20250106T083000
DTSTAMP:20260422T133528
CREATED:20240612T141416Z
LAST-MODIFIED:20260304T133850Z
UID:10001584-1736150400-1736152200@sistersosf.org
SUMMARY:Mass
DESCRIPTION:Queen of Peace Chapel
URL:https://sistersosf.org/event/mass/2025-01-06/
LOCATION:Queen of Peace Chapel\, 6832 Convent Blvd.\, Sylvania\, OH\, 43560\, United States
CATEGORIES:Sisters of St. Francis
ATTACH;FMTTYPE=image/jpeg:https://sistersosf.org/wp-content/uploads/2024/06/OSF-Jubilee-Mass-2024-41-scaled.jpg
END:VEVENT
BEGIN:VEVENT
DTSTART;TZID=America/Detroit:20250106T120000
DTEND;TZID=America/Detroit:20250106T123000
DTSTAMP:20260422T133528
CREATED:20240618T173711Z
LAST-MODIFIED:20240618T175625Z
UID:10003347-1736164800-1736166600@sistersosf.org
SUMMARY:Vigil for Racial Equality
DESCRIPTION:Join the Sylvania Franciscans in a meaningful bi-weekly vigil and take a stand for racial equality. Mondays and Wednesdays from 12:15pm – 12:30pm at the corner of Convent Blvd. and Main Street in Sylvania.
URL:https://sistersosf.org/event/vigil-for-racial-equality/2025-01-06/
CATEGORIES:Sisters of St. Francis
END:VEVENT
BEGIN:VEVENT
DTSTART;TZID=America/Detroit:20250106T183000
DTEND;TZID=America/Detroit:20250106T200000
DTSTAMP:20260422T133528
CREATED:20241209T200419Z
LAST-MODIFIED:20241209T200419Z
UID:10003964-1736188200-1736193600@sistersosf.org
SUMMARY:Justice Spiritual Dimension
DESCRIPTION:Spend an evening reflecting on the spiritual dimension of justice. We’ll look at social justice through the life of St. Francis and explore the beauitudes as a guide to social justice today.\nAll are welcome.\nPlease RSVP to Sister Nora Klewicki (nklewicki@sistersosf.org).\nDonations to the Sisters’ sponsored ministries would be appreciated.
URL:https://sistersosf.org/event/justice-spiritual-dimension/
LOCATION:Regina Conference Room\, 6832 Convent Blvd.\, Sylvania\, OH\, 43560
ATTACH;FMTTYPE=image/jpeg:https://sistersosf.org/wp-content/uploads/2024/12/Justice-Spiritual-Dimension-copy-1.jpg
GEO:41.7096061;-83.708435
X-APPLE-STRUCTURED-LOCATION;VALUE=URI;X-ADDRESS=Regina Conference Room 6832 Convent Blvd. Sylvania OH 43560;X-APPLE-RADIUS=500;X-TITLE=6832 Convent Blvd.:geo:-83.708435,41.7096061
END:VEVENT
BEGIN:VEVENT
DTSTART;TZID=America/Detroit:20250107T080000
DTEND;TZID=America/Detroit:20250107T083000
DTSTAMP:20260422T133528
CREATED:20240612T141416Z
LAST-MODIFIED:20260304T133850Z
UID:10001585-1736236800-1736238600@sistersosf.org
SUMMARY:Mass
DESCRIPTION:Queen of Peace Chapel
URL:https://sistersosf.org/event/mass/2025-01-07/
LOCATION:Queen of Peace Chapel\, 6832 Convent Blvd.\, Sylvania\, OH\, 43560\, United States
CATEGORIES:Sisters of St. Francis
ATTACH;FMTTYPE=image/jpeg:https://sistersosf.org/wp-content/uploads/2024/06/OSF-Jubilee-Mass-2024-41-scaled.jpg
END:VEVENT
BEGIN:VEVENT
DTSTART;TZID=America/Detroit:20250108T080000
DTEND;TZID=America/Detroit:20250108T083000
DTSTAMP:20260422T133528
CREATED:20240612T141416Z
LAST-MODIFIED:20260304T133850Z
UID:10001586-1736323200-1736325000@sistersosf.org
SUMMARY:Mass
DESCRIPTION:Queen of Peace Chapel
URL:https://sistersosf.org/event/mass/2025-01-08/
LOCATION:Queen of Peace Chapel\, 6832 Convent Blvd.\, Sylvania\, OH\, 43560\, United States
CATEGORIES:Sisters of St. Francis
ATTACH;FMTTYPE=image/jpeg:https://sistersosf.org/wp-content/uploads/2024/06/OSF-Jubilee-Mass-2024-41-scaled.jpg
END:VEVENT
BEGIN:VEVENT
DTSTART;TZID=America/Detroit:20250108T120000
DTEND;TZID=America/Detroit:20250108T123000
DTSTAMP:20260422T133528
CREATED:20240618T173711Z
LAST-MODIFIED:20240618T175625Z
UID:10003348-1736337600-1736339400@sistersosf.org
SUMMARY:Vigil for Racial Equality
DESCRIPTION:Join the Sylvania Franciscans in a meaningful bi-weekly vigil and take a stand for racial equality. Mondays and Wednesdays from 12:15pm – 12:30pm at the corner of Convent Blvd. and Main Street in Sylvania.
URL:https://sistersosf.org/event/vigil-for-racial-equality/2025-01-08/
CATEGORIES:Sisters of St. Francis
END:VEVENT
BEGIN:VEVENT
DTSTART;TZID=America/Detroit:20250109T080000
DTEND;TZID=America/Detroit:20250109T083000
DTSTAMP:20260422T133528
CREATED:20240612T141416Z
LAST-MODIFIED:20260304T133850Z
UID:10001587-1736409600-1736411400@sistersosf.org
SUMMARY:Mass
DESCRIPTION:Queen of Peace Chapel
URL:https://sistersosf.org/event/mass/2025-01-09/
LOCATION:Queen of Peace Chapel\, 6832 Convent Blvd.\, Sylvania\, OH\, 43560\, United States
CATEGORIES:Sisters of St. Francis
ATTACH;FMTTYPE=image/jpeg:https://sistersosf.org/wp-content/uploads/2024/06/OSF-Jubilee-Mass-2024-41-scaled.jpg
END:VEVENT
BEGIN:VEVENT
DTSTART;TZID=America/Detroit:20250110T080000
DTEND;TZID=America/Detroit:20250110T083000
DTSTAMP:20260422T133528
CREATED:20240612T141416Z
LAST-MODIFIED:20260304T133850Z
UID:10001588-1736496000-1736497800@sistersosf.org
SUMMARY:Mass
DESCRIPTION:Queen of Peace Chapel
URL:https://sistersosf.org/event/mass/2025-01-10/
LOCATION:Queen of Peace Chapel\, 6832 Convent Blvd.\, Sylvania\, OH\, 43560\, United States
CATEGORIES:Sisters of St. Francis
ATTACH;FMTTYPE=image/jpeg:https://sistersosf.org/wp-content/uploads/2024/06/OSF-Jubilee-Mass-2024-41-scaled.jpg
END:VEVENT
BEGIN:VEVENT
DTSTART;TZID=America/Detroit:20250113T080000
DTEND;TZID=America/Detroit:20250113T083000
DTSTAMP:20260422T133528
CREATED:20240612T141416Z
LAST-MODIFIED:20260304T133850Z
UID:10001591-1736755200-1736757000@sistersosf.org
SUMMARY:Mass
DESCRIPTION:Queen of Peace Chapel
URL:https://sistersosf.org/event/mass/2025-01-13/
LOCATION:Queen of Peace Chapel\, 6832 Convent Blvd.\, Sylvania\, OH\, 43560\, United States
CATEGORIES:Sisters of St. Francis
ATTACH;FMTTYPE=image/jpeg:https://sistersosf.org/wp-content/uploads/2024/06/OSF-Jubilee-Mass-2024-41-scaled.jpg
END:VEVENT
BEGIN:VEVENT
DTSTART;TZID=America/Detroit:20250113T120000
DTEND;TZID=America/Detroit:20250113T123000
DTSTAMP:20260422T133528
CREATED:20240618T173711Z
LAST-MODIFIED:20240618T175625Z
UID:10003349-1736769600-1736771400@sistersosf.org
SUMMARY:Vigil for Racial Equality
DESCRIPTION:Join the Sylvania Franciscans in a meaningful bi-weekly vigil and take a stand for racial equality. Mondays and Wednesdays from 12:15pm – 12:30pm at the corner of Convent Blvd. and Main Street in Sylvania.
URL:https://sistersosf.org/event/vigil-for-racial-equality/2025-01-13/
CATEGORIES:Sisters of St. Francis
END:VEVENT
BEGIN:VEVENT
DTSTART;TZID=America/Detroit:20250114T080000
DTEND;TZID=America/Detroit:20250114T083000
DTSTAMP:20260422T133528
CREATED:20240612T141416Z
LAST-MODIFIED:20260304T133850Z
UID:10001592-1736841600-1736843400@sistersosf.org
SUMMARY:Mass
DESCRIPTION:Queen of Peace Chapel
URL:https://sistersosf.org/event/mass/2025-01-14/
LOCATION:Queen of Peace Chapel\, 6832 Convent Blvd.\, Sylvania\, OH\, 43560\, United States
CATEGORIES:Sisters of St. Francis
ATTACH;FMTTYPE=image/jpeg:https://sistersosf.org/wp-content/uploads/2024/06/OSF-Jubilee-Mass-2024-41-scaled.jpg
END:VEVENT
BEGIN:VEVENT
DTSTART;TZID=America/Detroit:20250114T193000
DTEND;TZID=America/Detroit:20250114T210000
DTSTAMP:20260422T133528
CREATED:20240617T173613Z
LAST-MODIFIED:20240617T175248Z
UID:10003284-1736883000-1736888400@sistersosf.org
SUMMARY:S.A.V.E- FREE Public Lecture Series
DESCRIPTION:“Ocean Conservancy: International Coastal Cleanup (ICC) and more\nBy: Claudia Godreau\, ICC Events Specialist and\nSarah Weller\, ICC Senior Manager
URL:https://sistersosf.org/event/s-a-v-e-free-public-lecture-series-3/
LOCATION:Franciscan Center – Conference Rooms A&B\, 6832 Convent Blvd\, Sylvania\, 43551
CATEGORIES:Sisters of St. Francis
GEO:41.7095334;-83.7090373
X-APPLE-STRUCTURED-LOCATION;VALUE=URI;X-ADDRESS=Franciscan Center – Conference Rooms A&B 6832 Convent Blvd Sylvania 43551;X-APPLE-RADIUS=500;X-TITLE=6832 Convent Blvd:geo:-83.7090373,41.7095334
END:VEVENT
BEGIN:VEVENT
DTSTART;TZID=America/Detroit:20250115T080000
DTEND;TZID=America/Detroit:20250115T083000
DTSTAMP:20260422T133528
CREATED:20240612T141416Z
LAST-MODIFIED:20260304T133850Z
UID:10001593-1736928000-1736929800@sistersosf.org
SUMMARY:Mass
DESCRIPTION:Queen of Peace Chapel
URL:https://sistersosf.org/event/mass/2025-01-15/
LOCATION:Queen of Peace Chapel\, 6832 Convent Blvd.\, Sylvania\, OH\, 43560\, United States
CATEGORIES:Sisters of St. Francis
ATTACH;FMTTYPE=image/jpeg:https://sistersosf.org/wp-content/uploads/2024/06/OSF-Jubilee-Mass-2024-41-scaled.jpg
END:VEVENT
BEGIN:VEVENT
DTSTART;TZID=America/Detroit:20250115T120000
DTEND;TZID=America/Detroit:20250115T123000
DTSTAMP:20260422T133528
CREATED:20240618T173711Z
LAST-MODIFIED:20240618T175625Z
UID:10003350-1736942400-1736944200@sistersosf.org
SUMMARY:Vigil for Racial Equality
DESCRIPTION:Join the Sylvania Franciscans in a meaningful bi-weekly vigil and take a stand for racial equality. Mondays and Wednesdays from 12:15pm – 12:30pm at the corner of Convent Blvd. and Main Street in Sylvania.
URL:https://sistersosf.org/event/vigil-for-racial-equality/2025-01-15/
CATEGORIES:Sisters of St. Francis
END:VEVENT
BEGIN:VEVENT
DTSTART;TZID=America/Detroit:20250116T080000
DTEND;TZID=America/Detroit:20250116T083000
DTSTAMP:20260422T133528
CREATED:20240612T141416Z
LAST-MODIFIED:20260304T133850Z
UID:10001594-1737014400-1737016200@sistersosf.org
SUMMARY:Mass
DESCRIPTION:Queen of Peace Chapel
URL:https://sistersosf.org/event/mass/2025-01-16/
LOCATION:Queen of Peace Chapel\, 6832 Convent Blvd.\, Sylvania\, OH\, 43560\, United States
CATEGORIES:Sisters of St. Francis
ATTACH;FMTTYPE=image/jpeg:https://sistersosf.org/wp-content/uploads/2024/06/OSF-Jubilee-Mass-2024-41-scaled.jpg
END:VEVENT
BEGIN:VEVENT
DTSTART;TZID=America/Detroit:20250117T080000
DTEND;TZID=America/Detroit:20250117T083000
DTSTAMP:20260422T133528
CREATED:20240612T141416Z
LAST-MODIFIED:20260304T133850Z
UID:10001595-1737100800-1737102600@sistersosf.org
SUMMARY:Mass
DESCRIPTION:Queen of Peace Chapel
URL:https://sistersosf.org/event/mass/2025-01-17/
LOCATION:Queen of Peace Chapel\, 6832 Convent Blvd.\, Sylvania\, OH\, 43560\, United States
CATEGORIES:Sisters of St. Francis
ATTACH;FMTTYPE=image/jpeg:https://sistersosf.org/wp-content/uploads/2024/06/OSF-Jubilee-Mass-2024-41-scaled.jpg
END:VEVENT
BEGIN:VEVENT
DTSTART;TZID=America/Detroit:20250120T080000
DTEND;TZID=America/Detroit:20250120T083000
DTSTAMP:20260422T133528
CREATED:20240612T141416Z
LAST-MODIFIED:20260304T133850Z
UID:10001598-1737360000-1737361800@sistersosf.org
SUMMARY:Mass
DESCRIPTION:Queen of Peace Chapel
URL:https://sistersosf.org/event/mass/2025-01-20/
LOCATION:Queen of Peace Chapel\, 6832 Convent Blvd.\, Sylvania\, OH\, 43560\, United States
CATEGORIES:Sisters of St. Francis
ATTACH;FMTTYPE=image/jpeg:https://sistersosf.org/wp-content/uploads/2024/06/OSF-Jubilee-Mass-2024-41-scaled.jpg
END:VEVENT
BEGIN:VEVENT
DTSTART;TZID=America/Detroit:20250120T120000
DTEND;TZID=America/Detroit:20250120T123000
DTSTAMP:20260422T133528
CREATED:20240618T173711Z
LAST-MODIFIED:20240618T175625Z
UID:10003351-1737374400-1737376200@sistersosf.org
SUMMARY:Vigil for Racial Equality
DESCRIPTION:Join the Sylvania Franciscans in a meaningful bi-weekly vigil and take a stand for racial equality. Mondays and Wednesdays from 12:15pm – 12:30pm at the corner of Convent Blvd. and Main Street in Sylvania.
URL:https://sistersosf.org/event/vigil-for-racial-equality/2025-01-20/
CATEGORIES:Sisters of St. Francis
END:VEVENT
BEGIN:VEVENT
DTSTART;TZID=America/Detroit:20250121T080000
DTEND;TZID=America/Detroit:20250121T083000
DTSTAMP:20260422T133528
CREATED:20240612T141416Z
LAST-MODIFIED:20260304T133850Z
UID:10001599-1737446400-1737448200@sistersosf.org
SUMMARY:Mass
DESCRIPTION:Queen of Peace Chapel
URL:https://sistersosf.org/event/mass/2025-01-21/
LOCATION:Queen of Peace Chapel\, 6832 Convent Blvd.\, Sylvania\, OH\, 43560\, United States
CATEGORIES:Sisters of St. Francis
ATTACH;FMTTYPE=image/jpeg:https://sistersosf.org/wp-content/uploads/2024/06/OSF-Jubilee-Mass-2024-41-scaled.jpg
END:VEVENT
BEGIN:VEVENT
DTSTART;TZID=America/Detroit:20250121T110000
DTEND;TZID=America/Detroit:20250121T130000
DTSTAMP:20260422T133528
CREATED:20241008T120226Z
LAST-MODIFIED:20241226T142319Z
UID:10003955-1737457200-1737464400@sistersosf.org
SUMMARY:Martin Luther King Event
DESCRIPTION:Coming January 21\, 2025 from 11 a.m. – 1 p.m.
URL:https://sistersosf.org/event/martin-luther-king-event/
LOCATION:Franciscan Center
ATTACH;FMTTYPE=image/jpeg:https://sistersosf.org/wp-content/uploads/2024/12/MLK-2025-Music-Food-Community-Art.jpg
END:VEVENT
BEGIN:VEVENT
DTSTART;TZID=America/Detroit:20250122T080000
DTEND;TZID=America/Detroit:20250122T083000
DTSTAMP:20260422T133528
CREATED:20240612T141416Z
LAST-MODIFIED:20260304T133850Z
UID:10001600-1737532800-1737534600@sistersosf.org
SUMMARY:Mass
DESCRIPTION:Queen of Peace Chapel
URL:https://sistersosf.org/event/mass/2025-01-22/
LOCATION:Queen of Peace Chapel\, 6832 Convent Blvd.\, Sylvania\, OH\, 43560\, United States
CATEGORIES:Sisters of St. Francis
ATTACH;FMTTYPE=image/jpeg:https://sistersosf.org/wp-content/uploads/2024/06/OSF-Jubilee-Mass-2024-41-scaled.jpg
END:VEVENT
BEGIN:VEVENT
DTSTART;TZID=America/Detroit:20250122T120000
DTEND;TZID=America/Detroit:20250122T123000
DTSTAMP:20260422T133528
CREATED:20240618T173711Z
LAST-MODIFIED:20240618T175625Z
UID:10003352-1737547200-1737549000@sistersosf.org
SUMMARY:Vigil for Racial Equality
DESCRIPTION:Join the Sylvania Franciscans in a meaningful bi-weekly vigil and take a stand for racial equality. Mondays and Wednesdays from 12:15pm – 12:30pm at the corner of Convent Blvd. and Main Street in Sylvania.
URL:https://sistersosf.org/event/vigil-for-racial-equality/2025-01-22/
CATEGORIES:Sisters of St. Francis
END:VEVENT
END:VCALENDAR