BEGIN:VCALENDAR
VERSION:2.0
PRODID:-//Sisters of St. Francis of Sylvania, Ohio - ECPv6.13.2.1//NONSGML v1.0//EN
CALSCALE:GREGORIAN
METHOD:PUBLISH
X-ORIGINAL-URL:https://sistersosf.org
X-WR-CALDESC:Events for Sisters of St. Francis of Sylvania, Ohio
REFRESH-INTERVAL;VALUE=DURATION:PT1H
X-Robots-Tag:noindex
X-PUBLISHED-TTL:PT1H
BEGIN:VTIMEZONE
TZID:America/Detroit
BEGIN:DAYLIGHT
TZOFFSETFROM:-0500
TZOFFSETTO:-0400
TZNAME:EDT
DTSTART:20250309T070000
END:DAYLIGHT
BEGIN:STANDARD
TZOFFSETFROM:-0400
TZOFFSETTO:-0500
TZNAME:EST
DTSTART:20251102T060000
END:STANDARD
END:VTIMEZONE
BEGIN:VEVENT
DTSTART;TZID=America/Detroit:20251117T080000
DTEND;TZID=America/Detroit:20251117T083000
DTSTAMP:20260419T155907
CREATED:20240612T141416Z
LAST-MODIFIED:20260304T133850Z
UID:10001899-1763366400-1763368200@sistersosf.org
SUMMARY:Mass
DESCRIPTION:Queen of Peace Chapel
URL:https://sistersosf.org/event/mass/2025-11-17/
LOCATION:Queen of Peace Chapel\, 6832 Convent Blvd.\, Sylvania\, OH\, 43560\, United States
CATEGORIES:Sisters of St. Francis
ATTACH;FMTTYPE=image/jpeg:https://sistersosf.org/wp-content/uploads/2024/06/OSF-Jubilee-Mass-2024-41-scaled.jpg
END:VEVENT
BEGIN:VEVENT
DTSTART;TZID=America/Detroit:20251117T120000
DTEND;TZID=America/Detroit:20251117T123000
DTSTAMP:20260419T155907
CREATED:20240618T173711Z
LAST-MODIFIED:20240618T175625Z
UID:10003437-1763380800-1763382600@sistersosf.org
SUMMARY:Vigil for Racial Equality
DESCRIPTION:Join the Sylvania Franciscans in a meaningful bi-weekly vigil and take a stand for racial equality. Mondays and Wednesdays from 12:15pm – 12:30pm at the corner of Convent Blvd. and Main Street in Sylvania.
URL:https://sistersosf.org/event/vigil-for-racial-equality/2025-11-17/
CATEGORIES:Sisters of St. Francis
END:VEVENT
BEGIN:VEVENT
DTSTART;TZID=America/Detroit:20251118T080000
DTEND;TZID=America/Detroit:20251118T083000
DTSTAMP:20260419T155907
CREATED:20240612T141416Z
LAST-MODIFIED:20260304T133850Z
UID:10001900-1763452800-1763454600@sistersosf.org
SUMMARY:Mass
DESCRIPTION:Queen of Peace Chapel
URL:https://sistersosf.org/event/mass/2025-11-18/
LOCATION:Queen of Peace Chapel\, 6832 Convent Blvd.\, Sylvania\, OH\, 43560\, United States
CATEGORIES:Sisters of St. Francis
ATTACH;FMTTYPE=image/jpeg:https://sistersosf.org/wp-content/uploads/2024/06/OSF-Jubilee-Mass-2024-41-scaled.jpg
END:VEVENT
BEGIN:VEVENT
DTSTART;TZID=America/Detroit:20251118T140000
DTEND;TZID=America/Detroit:20251118T153000
DTSTAMP:20260419T155907
CREATED:20251111T165315Z
LAST-MODIFIED:20251111T165315Z
UID:10004720-1763474400-1763479800@sistersosf.org
SUMMARY:LCWR Congressional Letter- Writing Campaign
DESCRIPTION:
URL:https://sistersosf.org/event/lcwr-congressional-letter-writing-campaign/
LOCATION:Serra Hall\, 6832 Convent Blvd.\, Sylvania\, OH\, 43560
CATEGORIES:Sisters of St. Francis
ATTACH;FMTTYPE=application/pdf:https://sistersosf.org/wp-content/uploads/2025/11/Letter-Campaign-flyer.pdf
END:VEVENT
BEGIN:VEVENT
DTSTART;TZID=America/Detroit:20251119T080000
DTEND;TZID=America/Detroit:20251119T083000
DTSTAMP:20260419T155907
CREATED:20240612T141416Z
LAST-MODIFIED:20260304T133850Z
UID:10001901-1763539200-1763541000@sistersosf.org
SUMMARY:Mass
DESCRIPTION:Queen of Peace Chapel
URL:https://sistersosf.org/event/mass/2025-11-19/
LOCATION:Queen of Peace Chapel\, 6832 Convent Blvd.\, Sylvania\, OH\, 43560\, United States
CATEGORIES:Sisters of St. Francis
ATTACH;FMTTYPE=image/jpeg:https://sistersosf.org/wp-content/uploads/2024/06/OSF-Jubilee-Mass-2024-41-scaled.jpg
END:VEVENT
BEGIN:VEVENT
DTSTART;TZID=America/Detroit:20251119T120000
DTEND;TZID=America/Detroit:20251119T123000
DTSTAMP:20260419T155907
CREATED:20240618T173711Z
LAST-MODIFIED:20240618T175625Z
UID:10003438-1763553600-1763555400@sistersosf.org
SUMMARY:Vigil for Racial Equality
DESCRIPTION:Join the Sylvania Franciscans in a meaningful bi-weekly vigil and take a stand for racial equality. Mondays and Wednesdays from 12:15pm – 12:30pm at the corner of Convent Blvd. and Main Street in Sylvania.
URL:https://sistersosf.org/event/vigil-for-racial-equality/2025-11-19/
CATEGORIES:Sisters of St. Francis
END:VEVENT
BEGIN:VEVENT
DTSTART;TZID=America/Detroit:20251119T143000
DTEND;TZID=America/Detroit:20251119T153000
DTSTAMP:20260419T155907
CREATED:20251118T205206Z
LAST-MODIFIED:20251118T205206Z
UID:10004722-1763562600-1763566200@sistersosf.org
SUMMARY:Wreath making
DESCRIPTION:Create a natural wreath to celebrate Thanksgiving.
URL:https://sistersosf.org/event/wreath-making/
LOCATION:Regina Conference Room\, 6832 Convent Blvd\, Sylvania\, OH\, United States
GEO:41.7105685;-83.7052723
X-APPLE-STRUCTURED-LOCATION;VALUE=URI;X-ADDRESS=Regina Conference Room 6832 Convent Blvd Sylvania OH United States;X-APPLE-RADIUS=500;X-TITLE=6832 Convent Blvd:geo:-83.7052723,41.7105685
END:VEVENT
BEGIN:VEVENT
DTSTART;TZID=America/Detroit:20251120T080000
DTEND;TZID=America/Detroit:20251120T083000
DTSTAMP:20260419T155907
CREATED:20240612T141416Z
LAST-MODIFIED:20260304T133850Z
UID:10001902-1763625600-1763627400@sistersosf.org
SUMMARY:Mass
DESCRIPTION:Queen of Peace Chapel
URL:https://sistersosf.org/event/mass/2025-11-20/
LOCATION:Queen of Peace Chapel\, 6832 Convent Blvd.\, Sylvania\, OH\, 43560\, United States
CATEGORIES:Sisters of St. Francis
ATTACH;FMTTYPE=image/jpeg:https://sistersosf.org/wp-content/uploads/2024/06/OSF-Jubilee-Mass-2024-41-scaled.jpg
END:VEVENT
BEGIN:VEVENT
DTSTART;TZID=America/Detroit:20251121T080000
DTEND;TZID=America/Detroit:20251121T083000
DTSTAMP:20260419T155907
CREATED:20240612T141416Z
LAST-MODIFIED:20260304T133850Z
UID:10001903-1763712000-1763713800@sistersosf.org
SUMMARY:Mass
DESCRIPTION:Queen of Peace Chapel
URL:https://sistersosf.org/event/mass/2025-11-21/
LOCATION:Queen of Peace Chapel\, 6832 Convent Blvd.\, Sylvania\, OH\, 43560\, United States
CATEGORIES:Sisters of St. Francis
ATTACH;FMTTYPE=image/jpeg:https://sistersosf.org/wp-content/uploads/2024/06/OSF-Jubilee-Mass-2024-41-scaled.jpg
END:VEVENT
BEGIN:VEVENT
DTSTART;TZID=America/Detroit:20251124T080000
DTEND;TZID=America/Detroit:20251124T083000
DTSTAMP:20260419T155907
CREATED:20240612T141416Z
LAST-MODIFIED:20260304T133850Z
UID:10001906-1763971200-1763973000@sistersosf.org
SUMMARY:Mass
DESCRIPTION:Queen of Peace Chapel
URL:https://sistersosf.org/event/mass/2025-11-24/
LOCATION:Queen of Peace Chapel\, 6832 Convent Blvd.\, Sylvania\, OH\, 43560\, United States
CATEGORIES:Sisters of St. Francis
ATTACH;FMTTYPE=image/jpeg:https://sistersosf.org/wp-content/uploads/2024/06/OSF-Jubilee-Mass-2024-41-scaled.jpg
END:VEVENT
BEGIN:VEVENT
DTSTART;TZID=America/Detroit:20251124T120000
DTEND;TZID=America/Detroit:20251124T123000
DTSTAMP:20260419T155907
CREATED:20240618T173711Z
LAST-MODIFIED:20240618T175625Z
UID:10003439-1763985600-1763987400@sistersosf.org
SUMMARY:Vigil for Racial Equality
DESCRIPTION:Join the Sylvania Franciscans in a meaningful bi-weekly vigil and take a stand for racial equality. Mondays and Wednesdays from 12:15pm – 12:30pm at the corner of Convent Blvd. and Main Street in Sylvania.
URL:https://sistersosf.org/event/vigil-for-racial-equality/2025-11-24/
CATEGORIES:Sisters of St. Francis
END:VEVENT
BEGIN:VEVENT
DTSTART;TZID=America/Detroit:20251125T080000
DTEND;TZID=America/Detroit:20251125T083000
DTSTAMP:20260419T155907
CREATED:20240612T141416Z
LAST-MODIFIED:20260304T133850Z
UID:10001907-1764057600-1764059400@sistersosf.org
SUMMARY:Mass
DESCRIPTION:Queen of Peace Chapel
URL:https://sistersosf.org/event/mass/2025-11-25/
LOCATION:Queen of Peace Chapel\, 6832 Convent Blvd.\, Sylvania\, OH\, 43560\, United States
CATEGORIES:Sisters of St. Francis
ATTACH;FMTTYPE=image/jpeg:https://sistersosf.org/wp-content/uploads/2024/06/OSF-Jubilee-Mass-2024-41-scaled.jpg
END:VEVENT
BEGIN:VEVENT
DTSTART;TZID=America/Detroit:20251125T120000
DTEND;TZID=America/Detroit:20251125T130000
DTSTAMP:20260419T155907
CREATED:20251111T145126Z
LAST-MODIFIED:20251111T145148Z
UID:10004517-1764072000-1764075600@sistersosf.org
SUMMARY:Conservation Conversation
DESCRIPTION:
URL:https://sistersosf.org/event/conservation-conversation/
LOCATION:Regina Conference Room\, 6832 Convent Blvd\, Sylvania\, OH\, United States
CATEGORIES:Sisters of St. Francis
ATTACH;FMTTYPE=image/png:https://sistersosf.org/wp-content/uploads/2025/11/Conservation-Conversation-Monitors.png
GEO:41.7105685;-83.7052723
X-APPLE-STRUCTURED-LOCATION;VALUE=URI;X-ADDRESS=Regina Conference Room 6832 Convent Blvd Sylvania OH United States;X-APPLE-RADIUS=500;X-TITLE=6832 Convent Blvd:geo:-83.7052723,41.7105685
END:VEVENT
BEGIN:VEVENT
DTSTART;TZID=America/Detroit:20251126T080000
DTEND;TZID=America/Detroit:20251126T083000
DTSTAMP:20260419T155907
CREATED:20240612T141416Z
LAST-MODIFIED:20260304T133850Z
UID:10001908-1764144000-1764145800@sistersosf.org
SUMMARY:Mass
DESCRIPTION:Queen of Peace Chapel
URL:https://sistersosf.org/event/mass/2025-11-26/
LOCATION:Queen of Peace Chapel\, 6832 Convent Blvd.\, Sylvania\, OH\, 43560\, United States
CATEGORIES:Sisters of St. Francis
ATTACH;FMTTYPE=image/jpeg:https://sistersosf.org/wp-content/uploads/2024/06/OSF-Jubilee-Mass-2024-41-scaled.jpg
END:VEVENT
BEGIN:VEVENT
DTSTART;TZID=America/Detroit:20251126T120000
DTEND;TZID=America/Detroit:20251126T123000
DTSTAMP:20260419T155907
CREATED:20240618T173711Z
LAST-MODIFIED:20240618T175625Z
UID:10003440-1764158400-1764160200@sistersosf.org
SUMMARY:Vigil for Racial Equality
DESCRIPTION:Join the Sylvania Franciscans in a meaningful bi-weekly vigil and take a stand for racial equality. Mondays and Wednesdays from 12:15pm – 12:30pm at the corner of Convent Blvd. and Main Street in Sylvania.
URL:https://sistersosf.org/event/vigil-for-racial-equality/2025-11-26/
CATEGORIES:Sisters of St. Francis
END:VEVENT
BEGIN:VEVENT
DTSTART;TZID=America/Detroit:20251126T180000
DTEND;TZID=America/Detroit:20251126T180000
DTSTAMP:20260419T155907
CREATED:20251111T144857Z
LAST-MODIFIED:20251111T144857Z
UID:10004516-1764180000-1764180000@sistersosf.org
SUMMARY:Thanksgiving Eve Liturgy
DESCRIPTION:
URL:https://sistersosf.org/event/thanksgiving-eve-liturgy-3/
END:VEVENT
BEGIN:VEVENT
DTSTART;TZID=America/Detroit:20251127T080000
DTEND;TZID=America/Detroit:20251127T083000
DTSTAMP:20260419T155907
CREATED:20240612T141416Z
LAST-MODIFIED:20260304T133850Z
UID:10001909-1764230400-1764232200@sistersosf.org
SUMMARY:Mass
DESCRIPTION:Queen of Peace Chapel
URL:https://sistersosf.org/event/mass/2025-11-27/
LOCATION:Queen of Peace Chapel\, 6832 Convent Blvd.\, Sylvania\, OH\, 43560\, United States
CATEGORIES:Sisters of St. Francis
ATTACH;FMTTYPE=image/jpeg:https://sistersosf.org/wp-content/uploads/2024/06/OSF-Jubilee-Mass-2024-41-scaled.jpg
END:VEVENT
BEGIN:VEVENT
DTSTART;TZID=America/Detroit:20251128T080000
DTEND;TZID=America/Detroit:20251128T083000
DTSTAMP:20260419T155907
CREATED:20240612T141416Z
LAST-MODIFIED:20260304T133850Z
UID:10001910-1764316800-1764318600@sistersosf.org
SUMMARY:Mass
DESCRIPTION:Queen of Peace Chapel
URL:https://sistersosf.org/event/mass/2025-11-28/
LOCATION:Queen of Peace Chapel\, 6832 Convent Blvd.\, Sylvania\, OH\, 43560\, United States
CATEGORIES:Sisters of St. Francis
ATTACH;FMTTYPE=image/jpeg:https://sistersosf.org/wp-content/uploads/2024/06/OSF-Jubilee-Mass-2024-41-scaled.jpg
END:VEVENT
BEGIN:VEVENT
DTSTART;TZID=America/Detroit:20251201T080000
DTEND;TZID=America/Detroit:20251201T083000
DTSTAMP:20260419T155907
CREATED:20240612T141416Z
LAST-MODIFIED:20260304T133850Z
UID:10001913-1764576000-1764577800@sistersosf.org
SUMMARY:Mass
DESCRIPTION:Queen of Peace Chapel
URL:https://sistersosf.org/event/mass/2025-12-01/
LOCATION:Queen of Peace Chapel\, 6832 Convent Blvd.\, Sylvania\, OH\, 43560\, United States
CATEGORIES:Sisters of St. Francis
ATTACH;FMTTYPE=image/jpeg:https://sistersosf.org/wp-content/uploads/2024/06/OSF-Jubilee-Mass-2024-41-scaled.jpg
END:VEVENT
BEGIN:VEVENT
DTSTART;TZID=America/Detroit:20251201T120000
DTEND;TZID=America/Detroit:20251201T123000
DTSTAMP:20260419T155907
CREATED:20240618T173711Z
LAST-MODIFIED:20240618T175625Z
UID:10003441-1764590400-1764592200@sistersosf.org
SUMMARY:Vigil for Racial Equality
DESCRIPTION:Join the Sylvania Franciscans in a meaningful bi-weekly vigil and take a stand for racial equality. Mondays and Wednesdays from 12:15pm – 12:30pm at the corner of Convent Blvd. and Main Street in Sylvania.
URL:https://sistersosf.org/event/vigil-for-racial-equality/2025-12-01/
CATEGORIES:Sisters of St. Francis
END:VEVENT
BEGIN:VEVENT
DTSTART;VALUE=DATE:20251202
DTEND;VALUE=DATE:20251203
DTSTAMP:20260419T155907
CREATED:20251118T205037Z
LAST-MODIFIED:20251118T205037Z
UID:10004721-1764633600-1764719999@sistersosf.org
SUMMARY:Giving Tuesday
DESCRIPTION:Support the Sisters’ ministries with a gift for Giving Tuesday!
URL:https://sistersosf.org/event/giving-tuesday/
END:VEVENT
BEGIN:VEVENT
DTSTART;TZID=America/Detroit:20251202T080000
DTEND;TZID=America/Detroit:20251202T083000
DTSTAMP:20260419T155907
CREATED:20240612T141416Z
LAST-MODIFIED:20260304T133850Z
UID:10001914-1764662400-1764664200@sistersosf.org
SUMMARY:Mass
DESCRIPTION:Queen of Peace Chapel
URL:https://sistersosf.org/event/mass/2025-12-02/
LOCATION:Queen of Peace Chapel\, 6832 Convent Blvd.\, Sylvania\, OH\, 43560\, United States
CATEGORIES:Sisters of St. Francis
ATTACH;FMTTYPE=image/jpeg:https://sistersosf.org/wp-content/uploads/2024/06/OSF-Jubilee-Mass-2024-41-scaled.jpg
END:VEVENT
BEGIN:VEVENT
DTSTART;TZID=America/Detroit:20251203T080000
DTEND;TZID=America/Detroit:20251203T083000
DTSTAMP:20260419T155907
CREATED:20240612T141416Z
LAST-MODIFIED:20260304T133850Z
UID:10001915-1764748800-1764750600@sistersosf.org
SUMMARY:Mass
DESCRIPTION:Queen of Peace Chapel
URL:https://sistersosf.org/event/mass/2025-12-03/
LOCATION:Queen of Peace Chapel\, 6832 Convent Blvd.\, Sylvania\, OH\, 43560\, United States
CATEGORIES:Sisters of St. Francis
ATTACH;FMTTYPE=image/jpeg:https://sistersosf.org/wp-content/uploads/2024/06/OSF-Jubilee-Mass-2024-41-scaled.jpg
END:VEVENT
BEGIN:VEVENT
DTSTART;TZID=America/Detroit:20251203T120000
DTEND;TZID=America/Detroit:20251203T123000
DTSTAMP:20260419T155907
CREATED:20240618T173711Z
LAST-MODIFIED:20240618T175625Z
UID:10003442-1764763200-1764765000@sistersosf.org
SUMMARY:Vigil for Racial Equality
DESCRIPTION:Join the Sylvania Franciscans in a meaningful bi-weekly vigil and take a stand for racial equality. Mondays and Wednesdays from 12:15pm – 12:30pm at the corner of Convent Blvd. and Main Street in Sylvania.
URL:https://sistersosf.org/event/vigil-for-racial-equality/2025-12-03/
CATEGORIES:Sisters of St. Francis
END:VEVENT
BEGIN:VEVENT
DTSTART;TZID=America/Detroit:20251204T080000
DTEND;TZID=America/Detroit:20251204T083000
DTSTAMP:20260419T155907
CREATED:20240612T141416Z
LAST-MODIFIED:20260304T133850Z
UID:10001916-1764835200-1764837000@sistersosf.org
SUMMARY:Mass
DESCRIPTION:Queen of Peace Chapel
URL:https://sistersosf.org/event/mass/2025-12-04/
LOCATION:Queen of Peace Chapel\, 6832 Convent Blvd.\, Sylvania\, OH\, 43560\, United States
CATEGORIES:Sisters of St. Francis
ATTACH;FMTTYPE=image/jpeg:https://sistersosf.org/wp-content/uploads/2024/06/OSF-Jubilee-Mass-2024-41-scaled.jpg
END:VEVENT
BEGIN:VEVENT
DTSTART;TZID=America/Detroit:20251204T170000
DTEND;TZID=America/Detroit:20251204T170000
DTSTAMP:20260419T155907
CREATED:20251111T145721Z
LAST-MODIFIED:20251111T145721Z
UID:10004518-1764867600-1764867600@sistersosf.org
SUMMARY:Sharing the Spirit/Tree Lighting
DESCRIPTION:
URL:https://sistersosf.org/event/sharing-the-spirit-tree-lighting-2/
LOCATION:Franciscan Center\, 6832 Convent Rd\, Umbria Hall\, Sylvania\, OH\, 43560
CATEGORIES:Lourdes University,Sisters of St. Francis
END:VEVENT
BEGIN:VEVENT
DTSTART;TZID=America/Detroit:20251204T183000
DTEND;TZID=America/Detroit:20251204T193000
DTSTAMP:20260419T155907
CREATED:20251124T161724Z
LAST-MODIFIED:20251202T175752Z
UID:10004723-1764873000-1764876600@sistersosf.org
SUMMARY:Advent Series
DESCRIPTION:
URL:https://sistersosf.org/event/sundays-of-advent/2025-12-04/
LOCATION:Queen of Peace Chapel\, 6832 Convent Blvd.
CATEGORIES:Sisters of St. Francis
ATTACH;FMTTYPE=image/jpeg:https://sistersosf.org/wp-content/uploads/2025/11/advent-copy.jpg
END:VEVENT
BEGIN:VEVENT
DTSTART;TZID=America/Detroit:20251205T080000
DTEND;TZID=America/Detroit:20251205T083000
DTSTAMP:20260419T155907
CREATED:20240612T141416Z
LAST-MODIFIED:20260304T133850Z
UID:10001917-1764921600-1764923400@sistersosf.org
SUMMARY:Mass
DESCRIPTION:Queen of Peace Chapel
URL:https://sistersosf.org/event/mass/2025-12-05/
LOCATION:Queen of Peace Chapel\, 6832 Convent Blvd.\, Sylvania\, OH\, 43560\, United States
CATEGORIES:Sisters of St. Francis
ATTACH;FMTTYPE=image/jpeg:https://sistersosf.org/wp-content/uploads/2024/06/OSF-Jubilee-Mass-2024-41-scaled.jpg
END:VEVENT
BEGIN:VEVENT
DTSTART;TZID=America/Detroit:20251205T130000
DTEND;TZID=America/Detroit:20251205T150000
DTSTAMP:20260419T155907
CREATED:20240617T153230Z
LAST-MODIFIED:20240912T120824Z
UID:10003231-1764939600-1764946800@sistersosf.org
SUMMARY:Sr. Roselynn’s Tea & Teach Cards
DESCRIPTION:Join Sister Roselynn for tea and learn a few new skills! \n\n\n\nRSVP : 419-824-3749
URL:https://sistersosf.org/event/sr-roselynns-tea-teach-cards/2025-12-05/
LOCATION:All Good Things Art & Gifts\, 6832 Convent Rd\, Umbria Hall\, Sylvania\, OH\, 43560
CATEGORIES:Sisters of St. Francis
ATTACH;FMTTYPE=image/jpeg:https://sistersosf.org/wp-content/uploads/2024/06/458405064_1397807384477335_2525615199903980645_n.jpg
END:VEVENT
BEGIN:VEVENT
DTSTART;TZID=America/Detroit:20251208T080000
DTEND;TZID=America/Detroit:20251208T083000
DTSTAMP:20260419T155907
CREATED:20240612T141416Z
LAST-MODIFIED:20260304T133850Z
UID:10001920-1765180800-1765182600@sistersosf.org
SUMMARY:Mass
DESCRIPTION:Queen of Peace Chapel
URL:https://sistersosf.org/event/mass/2025-12-08/
LOCATION:Queen of Peace Chapel\, 6832 Convent Blvd.\, Sylvania\, OH\, 43560\, United States
CATEGORIES:Sisters of St. Francis
ATTACH;FMTTYPE=image/jpeg:https://sistersosf.org/wp-content/uploads/2024/06/OSF-Jubilee-Mass-2024-41-scaled.jpg
END:VEVENT
END:VCALENDAR