BEGIN:VCALENDAR
VERSION:2.0
PRODID:-//Sisters of St. Francis of Sylvania, Ohio - ECPv6.13.2.1//NONSGML v1.0//EN
CALSCALE:GREGORIAN
METHOD:PUBLISH
X-ORIGINAL-URL:https://sistersosf.org
X-WR-CALDESC:Events for Sisters of St. Francis of Sylvania, Ohio
REFRESH-INTERVAL;VALUE=DURATION:PT1H
X-Robots-Tag:noindex
X-PUBLISHED-TTL:PT1H
BEGIN:VTIMEZONE
TZID:America/Detroit
BEGIN:DAYLIGHT
TZOFFSETFROM:-0500
TZOFFSETTO:-0400
TZNAME:EDT
DTSTART:20250309T070000
END:DAYLIGHT
BEGIN:STANDARD
TZOFFSETFROM:-0400
TZOFFSETTO:-0500
TZNAME:EST
DTSTART:20251102T060000
END:STANDARD
END:VTIMEZONE
BEGIN:VEVENT
DTSTART;TZID=America/Detroit:20250526T080000
DTEND;TZID=America/Detroit:20250526T083000
DTSTAMP:20260422T173358
CREATED:20240612T141416Z
LAST-MODIFIED:20260304T133850Z
UID:10001724-1748246400-1748248200@sistersosf.org
SUMMARY:Mass
DESCRIPTION:Queen of Peace Chapel
URL:https://sistersosf.org/event/mass/2025-05-26/
LOCATION:Queen of Peace Chapel\, 6832 Convent Blvd.\, Sylvania\, OH\, 43560\, United States
CATEGORIES:Sisters of St. Francis
ATTACH;FMTTYPE=image/jpeg:https://sistersosf.org/wp-content/uploads/2024/06/OSF-Jubilee-Mass-2024-41-scaled.jpg
END:VEVENT
BEGIN:VEVENT
DTSTART;TZID=America/Detroit:20250526T120000
DTEND;TZID=America/Detroit:20250526T123000
DTSTAMP:20260422T173358
CREATED:20240618T173711Z
LAST-MODIFIED:20240618T175625Z
UID:10003387-1748260800-1748262600@sistersosf.org
SUMMARY:Vigil for Racial Equality
DESCRIPTION:Join the Sylvania Franciscans in a meaningful bi-weekly vigil and take a stand for racial equality. Mondays and Wednesdays from 12:15pm – 12:30pm at the corner of Convent Blvd. and Main Street in Sylvania.
URL:https://sistersosf.org/event/vigil-for-racial-equality/2025-05-26/
CATEGORIES:Sisters of St. Francis
END:VEVENT
BEGIN:VEVENT
DTSTART;TZID=America/Detroit:20250527T080000
DTEND;TZID=America/Detroit:20250527T083000
DTSTAMP:20260422T173358
CREATED:20240612T141416Z
LAST-MODIFIED:20260304T133850Z
UID:10001725-1748332800-1748334600@sistersosf.org
SUMMARY:Mass
DESCRIPTION:Queen of Peace Chapel
URL:https://sistersosf.org/event/mass/2025-05-27/
LOCATION:Queen of Peace Chapel\, 6832 Convent Blvd.\, Sylvania\, OH\, 43560\, United States
CATEGORIES:Sisters of St. Francis
ATTACH;FMTTYPE=image/jpeg:https://sistersosf.org/wp-content/uploads/2024/06/OSF-Jubilee-Mass-2024-41-scaled.jpg
END:VEVENT
BEGIN:VEVENT
DTSTART;TZID=America/Detroit:20250528T080000
DTEND;TZID=America/Detroit:20250528T083000
DTSTAMP:20260422T173358
CREATED:20240612T141416Z
LAST-MODIFIED:20260304T133850Z
UID:10001726-1748419200-1748421000@sistersosf.org
SUMMARY:Mass
DESCRIPTION:Queen of Peace Chapel
URL:https://sistersosf.org/event/mass/2025-05-28/
LOCATION:Queen of Peace Chapel\, 6832 Convent Blvd.\, Sylvania\, OH\, 43560\, United States
CATEGORIES:Sisters of St. Francis
ATTACH;FMTTYPE=image/jpeg:https://sistersosf.org/wp-content/uploads/2024/06/OSF-Jubilee-Mass-2024-41-scaled.jpg
END:VEVENT
BEGIN:VEVENT
DTSTART;TZID=America/Detroit:20250528T120000
DTEND;TZID=America/Detroit:20250528T123000
DTSTAMP:20260422T173358
CREATED:20240618T173711Z
LAST-MODIFIED:20240618T175625Z
UID:10003388-1748433600-1748435400@sistersosf.org
SUMMARY:Vigil for Racial Equality
DESCRIPTION:Join the Sylvania Franciscans in a meaningful bi-weekly vigil and take a stand for racial equality. Mondays and Wednesdays from 12:15pm – 12:30pm at the corner of Convent Blvd. and Main Street in Sylvania.
URL:https://sistersosf.org/event/vigil-for-racial-equality/2025-05-28/
CATEGORIES:Sisters of St. Francis
END:VEVENT
BEGIN:VEVENT
DTSTART;TZID=America/Detroit:20250529T080000
DTEND;TZID=America/Detroit:20250529T083000
DTSTAMP:20260422T173358
CREATED:20240612T141416Z
LAST-MODIFIED:20260304T133850Z
UID:10001727-1748505600-1748507400@sistersosf.org
SUMMARY:Mass
DESCRIPTION:Queen of Peace Chapel
URL:https://sistersosf.org/event/mass/2025-05-29/
LOCATION:Queen of Peace Chapel\, 6832 Convent Blvd.\, Sylvania\, OH\, 43560\, United States
CATEGORIES:Sisters of St. Francis
ATTACH;FMTTYPE=image/jpeg:https://sistersosf.org/wp-content/uploads/2024/06/OSF-Jubilee-Mass-2024-41-scaled.jpg
END:VEVENT
BEGIN:VEVENT
DTSTART;TZID=America/Detroit:20250529T153000
DTEND;TZID=America/Detroit:20250529T163000
DTSTAMP:20260422T173358
CREATED:20250514T133140Z
LAST-MODIFIED:20250514T133140Z
UID:10004167-1748532600-1748536200@sistersosf.org
SUMMARY:Grateful Harvest Community Garden
DESCRIPTION:
URL:https://sistersosf.org/event/grateful-harvest-community-garden/2025-05-29/
ATTACH;FMTTYPE=image/jpeg:https://sistersosf.org/wp-content/uploads/2024/06/lets-get-gardening.jpg
END:VEVENT
BEGIN:VEVENT
DTSTART;TZID=America/Detroit:20250530T080000
DTEND;TZID=America/Detroit:20250530T083000
DTSTAMP:20260422T173358
CREATED:20240612T141416Z
LAST-MODIFIED:20260304T133850Z
UID:10001728-1748592000-1748593800@sistersosf.org
SUMMARY:Mass
DESCRIPTION:Queen of Peace Chapel
URL:https://sistersosf.org/event/mass/2025-05-30/
LOCATION:Queen of Peace Chapel\, 6832 Convent Blvd.\, Sylvania\, OH\, 43560\, United States
CATEGORIES:Sisters of St. Francis
ATTACH;FMTTYPE=image/jpeg:https://sistersosf.org/wp-content/uploads/2024/06/OSF-Jubilee-Mass-2024-41-scaled.jpg
END:VEVENT
BEGIN:VEVENT
DTSTART;TZID=America/Detroit:20250602T080000
DTEND;TZID=America/Detroit:20250602T083000
DTSTAMP:20260422T173358
CREATED:20240612T141416Z
LAST-MODIFIED:20260304T133850Z
UID:10001731-1748851200-1748853000@sistersosf.org
SUMMARY:Mass
DESCRIPTION:Queen of Peace Chapel
URL:https://sistersosf.org/event/mass/2025-06-02/
LOCATION:Queen of Peace Chapel\, 6832 Convent Blvd.\, Sylvania\, OH\, 43560\, United States
CATEGORIES:Sisters of St. Francis
ATTACH;FMTTYPE=image/jpeg:https://sistersosf.org/wp-content/uploads/2024/06/OSF-Jubilee-Mass-2024-41-scaled.jpg
END:VEVENT
BEGIN:VEVENT
DTSTART;TZID=America/Detroit:20250602T120000
DTEND;TZID=America/Detroit:20250602T123000
DTSTAMP:20260422T173358
CREATED:20240618T173711Z
LAST-MODIFIED:20240618T175625Z
UID:10003389-1748865600-1748867400@sistersosf.org
SUMMARY:Vigil for Racial Equality
DESCRIPTION:Join the Sylvania Franciscans in a meaningful bi-weekly vigil and take a stand for racial equality. Mondays and Wednesdays from 12:15pm – 12:30pm at the corner of Convent Blvd. and Main Street in Sylvania.
URL:https://sistersosf.org/event/vigil-for-racial-equality/2025-06-02/
CATEGORIES:Sisters of St. Francis
END:VEVENT
BEGIN:VEVENT
DTSTART;TZID=America/Detroit:20250603T080000
DTEND;TZID=America/Detroit:20250603T083000
DTSTAMP:20260422T173358
CREATED:20240612T141416Z
LAST-MODIFIED:20260304T133850Z
UID:10001732-1748937600-1748939400@sistersosf.org
SUMMARY:Mass
DESCRIPTION:Queen of Peace Chapel
URL:https://sistersosf.org/event/mass/2025-06-03/
LOCATION:Queen of Peace Chapel\, 6832 Convent Blvd.\, Sylvania\, OH\, 43560\, United States
CATEGORIES:Sisters of St. Francis
ATTACH;FMTTYPE=image/jpeg:https://sistersosf.org/wp-content/uploads/2024/06/OSF-Jubilee-Mass-2024-41-scaled.jpg
END:VEVENT
BEGIN:VEVENT
DTSTART;TZID=America/Detroit:20250604T080000
DTEND;TZID=America/Detroit:20250604T083000
DTSTAMP:20260422T173358
CREATED:20240612T141416Z
LAST-MODIFIED:20260304T133850Z
UID:10001733-1749024000-1749025800@sistersosf.org
SUMMARY:Mass
DESCRIPTION:Queen of Peace Chapel
URL:https://sistersosf.org/event/mass/2025-06-04/
LOCATION:Queen of Peace Chapel\, 6832 Convent Blvd.\, Sylvania\, OH\, 43560\, United States
CATEGORIES:Sisters of St. Francis
ATTACH;FMTTYPE=image/jpeg:https://sistersosf.org/wp-content/uploads/2024/06/OSF-Jubilee-Mass-2024-41-scaled.jpg
END:VEVENT
BEGIN:VEVENT
DTSTART;TZID=America/Detroit:20250604T120000
DTEND;TZID=America/Detroit:20250604T123000
DTSTAMP:20260422T173358
CREATED:20240618T173711Z
LAST-MODIFIED:20240618T175625Z
UID:10003390-1749038400-1749040200@sistersosf.org
SUMMARY:Vigil for Racial Equality
DESCRIPTION:Join the Sylvania Franciscans in a meaningful bi-weekly vigil and take a stand for racial equality. Mondays and Wednesdays from 12:15pm – 12:30pm at the corner of Convent Blvd. and Main Street in Sylvania.
URL:https://sistersosf.org/event/vigil-for-racial-equality/2025-06-04/
CATEGORIES:Sisters of St. Francis
END:VEVENT
BEGIN:VEVENT
DTSTART;TZID=America/Detroit:20250605T080000
DTEND;TZID=America/Detroit:20250605T083000
DTSTAMP:20260422T173358
CREATED:20240612T141416Z
LAST-MODIFIED:20260304T133850Z
UID:10001734-1749110400-1749112200@sistersosf.org
SUMMARY:Mass
DESCRIPTION:Queen of Peace Chapel
URL:https://sistersosf.org/event/mass/2025-06-05/
LOCATION:Queen of Peace Chapel\, 6832 Convent Blvd.\, Sylvania\, OH\, 43560\, United States
CATEGORIES:Sisters of St. Francis
ATTACH;FMTTYPE=image/jpeg:https://sistersosf.org/wp-content/uploads/2024/06/OSF-Jubilee-Mass-2024-41-scaled.jpg
END:VEVENT
BEGIN:VEVENT
DTSTART;TZID=America/Detroit:20250605T153000
DTEND;TZID=America/Detroit:20250605T163000
DTSTAMP:20260422T173358
CREATED:20250514T133140Z
LAST-MODIFIED:20250514T133140Z
UID:10004168-1749137400-1749141000@sistersosf.org
SUMMARY:Grateful Harvest Community Garden
DESCRIPTION:
URL:https://sistersosf.org/event/grateful-harvest-community-garden/2025-06-05/
ATTACH;FMTTYPE=image/jpeg:https://sistersosf.org/wp-content/uploads/2024/06/lets-get-gardening.jpg
END:VEVENT
BEGIN:VEVENT
DTSTART;TZID=America/Detroit:20250606T080000
DTEND;TZID=America/Detroit:20250606T083000
DTSTAMP:20260422T173358
CREATED:20240612T141416Z
LAST-MODIFIED:20260304T133850Z
UID:10001735-1749196800-1749198600@sistersosf.org
SUMMARY:Mass
DESCRIPTION:Queen of Peace Chapel
URL:https://sistersosf.org/event/mass/2025-06-06/
LOCATION:Queen of Peace Chapel\, 6832 Convent Blvd.\, Sylvania\, OH\, 43560\, United States
CATEGORIES:Sisters of St. Francis
ATTACH;FMTTYPE=image/jpeg:https://sistersosf.org/wp-content/uploads/2024/06/OSF-Jubilee-Mass-2024-41-scaled.jpg
END:VEVENT
BEGIN:VEVENT
DTSTART;TZID=America/Detroit:20250606T130000
DTEND;TZID=America/Detroit:20250606T150000
DTSTAMP:20260422T173358
CREATED:20240617T153230Z
LAST-MODIFIED:20240912T120824Z
UID:10003225-1749214800-1749222000@sistersosf.org
SUMMARY:Sr. Roselynn’s Tea & Teach Cards
DESCRIPTION:Join Sister Roselynn for tea and learn a few new skills! \n\n\n\nRSVP : 419-824-3749
URL:https://sistersosf.org/event/sr-roselynns-tea-teach-cards/2025-06-06/
LOCATION:All Good Things Art & Gifts\, 6832 Convent Rd\, Umbria Hall\, Sylvania\, OH\, 43560
CATEGORIES:Sisters of St. Francis
ATTACH;FMTTYPE=image/jpeg:https://sistersosf.org/wp-content/uploads/2024/06/458405064_1397807384477335_2525615199903980645_n.jpg
END:VEVENT
BEGIN:VEVENT
DTSTART;TZID=America/Detroit:20250609T080000
DTEND;TZID=America/Detroit:20250609T083000
DTSTAMP:20260422T173358
CREATED:20240612T141416Z
LAST-MODIFIED:20260304T133850Z
UID:10001738-1749456000-1749457800@sistersosf.org
SUMMARY:Mass
DESCRIPTION:Queen of Peace Chapel
URL:https://sistersosf.org/event/mass/2025-06-09/
LOCATION:Queen of Peace Chapel\, 6832 Convent Blvd.\, Sylvania\, OH\, 43560\, United States
CATEGORIES:Sisters of St. Francis
ATTACH;FMTTYPE=image/jpeg:https://sistersosf.org/wp-content/uploads/2024/06/OSF-Jubilee-Mass-2024-41-scaled.jpg
END:VEVENT
BEGIN:VEVENT
DTSTART;TZID=America/Detroit:20250609T120000
DTEND;TZID=America/Detroit:20250609T123000
DTSTAMP:20260422T173358
CREATED:20240618T173711Z
LAST-MODIFIED:20240618T175625Z
UID:10003391-1749470400-1749472200@sistersosf.org
SUMMARY:Vigil for Racial Equality
DESCRIPTION:Join the Sylvania Franciscans in a meaningful bi-weekly vigil and take a stand for racial equality. Mondays and Wednesdays from 12:15pm – 12:30pm at the corner of Convent Blvd. and Main Street in Sylvania.
URL:https://sistersosf.org/event/vigil-for-racial-equality/2025-06-09/
CATEGORIES:Sisters of St. Francis
END:VEVENT
BEGIN:VEVENT
DTSTART;TZID=America/Detroit:20250610T080000
DTEND;TZID=America/Detroit:20250610T083000
DTSTAMP:20260422T173358
CREATED:20240612T141416Z
LAST-MODIFIED:20260304T133850Z
UID:10001739-1749542400-1749544200@sistersosf.org
SUMMARY:Mass
DESCRIPTION:Queen of Peace Chapel
URL:https://sistersosf.org/event/mass/2025-06-10/
LOCATION:Queen of Peace Chapel\, 6832 Convent Blvd.\, Sylvania\, OH\, 43560\, United States
CATEGORIES:Sisters of St. Francis
ATTACH;FMTTYPE=image/jpeg:https://sistersosf.org/wp-content/uploads/2024/06/OSF-Jubilee-Mass-2024-41-scaled.jpg
END:VEVENT
BEGIN:VEVENT
DTSTART;TZID=America/Detroit:20250611T080000
DTEND;TZID=America/Detroit:20250611T083000
DTSTAMP:20260422T173358
CREATED:20240612T141416Z
LAST-MODIFIED:20260304T133850Z
UID:10001740-1749628800-1749630600@sistersosf.org
SUMMARY:Mass
DESCRIPTION:Queen of Peace Chapel
URL:https://sistersosf.org/event/mass/2025-06-11/
LOCATION:Queen of Peace Chapel\, 6832 Convent Blvd.\, Sylvania\, OH\, 43560\, United States
CATEGORIES:Sisters of St. Francis
ATTACH;FMTTYPE=image/jpeg:https://sistersosf.org/wp-content/uploads/2024/06/OSF-Jubilee-Mass-2024-41-scaled.jpg
END:VEVENT
BEGIN:VEVENT
DTSTART;TZID=America/Detroit:20250611T120000
DTEND;TZID=America/Detroit:20250611T123000
DTSTAMP:20260422T173358
CREATED:20240618T173711Z
LAST-MODIFIED:20240618T175625Z
UID:10003392-1749643200-1749645000@sistersosf.org
SUMMARY:Vigil for Racial Equality
DESCRIPTION:Join the Sylvania Franciscans in a meaningful bi-weekly vigil and take a stand for racial equality. Mondays and Wednesdays from 12:15pm – 12:30pm at the corner of Convent Blvd. and Main Street in Sylvania.
URL:https://sistersosf.org/event/vigil-for-racial-equality/2025-06-11/
CATEGORIES:Sisters of St. Francis
END:VEVENT
BEGIN:VEVENT
DTSTART;TZID=America/Detroit:20250612T080000
DTEND;TZID=America/Detroit:20250612T083000
DTSTAMP:20260422T173358
CREATED:20240612T141416Z
LAST-MODIFIED:20260304T133850Z
UID:10001741-1749715200-1749717000@sistersosf.org
SUMMARY:Mass
DESCRIPTION:Queen of Peace Chapel
URL:https://sistersosf.org/event/mass/2025-06-12/
LOCATION:Queen of Peace Chapel\, 6832 Convent Blvd.\, Sylvania\, OH\, 43560\, United States
CATEGORIES:Sisters of St. Francis
ATTACH;FMTTYPE=image/jpeg:https://sistersosf.org/wp-content/uploads/2024/06/OSF-Jubilee-Mass-2024-41-scaled.jpg
END:VEVENT
BEGIN:VEVENT
DTSTART;TZID=America/Detroit:20250612T153000
DTEND;TZID=America/Detroit:20250612T163000
DTSTAMP:20260422T173358
CREATED:20250514T133140Z
LAST-MODIFIED:20250514T133140Z
UID:10004169-1749742200-1749745800@sistersosf.org
SUMMARY:Grateful Harvest Community Garden
DESCRIPTION:
URL:https://sistersosf.org/event/grateful-harvest-community-garden/2025-06-12/
ATTACH;FMTTYPE=image/jpeg:https://sistersosf.org/wp-content/uploads/2024/06/lets-get-gardening.jpg
END:VEVENT
BEGIN:VEVENT
DTSTART;TZID=America/Detroit:20250613T080000
DTEND;TZID=America/Detroit:20250613T083000
DTSTAMP:20260422T173358
CREATED:20240612T141416Z
LAST-MODIFIED:20260304T133850Z
UID:10001742-1749801600-1749803400@sistersosf.org
SUMMARY:Mass
DESCRIPTION:Queen of Peace Chapel
URL:https://sistersosf.org/event/mass/2025-06-13/
LOCATION:Queen of Peace Chapel\, 6832 Convent Blvd.\, Sylvania\, OH\, 43560\, United States
CATEGORIES:Sisters of St. Francis
ATTACH;FMTTYPE=image/jpeg:https://sistersosf.org/wp-content/uploads/2024/06/OSF-Jubilee-Mass-2024-41-scaled.jpg
END:VEVENT
BEGIN:VEVENT
DTSTART;TZID=America/Detroit:20250616T080000
DTEND;TZID=America/Detroit:20250616T083000
DTSTAMP:20260422T173358
CREATED:20240612T141416Z
LAST-MODIFIED:20260304T133850Z
UID:10001745-1750060800-1750062600@sistersosf.org
SUMMARY:Mass
DESCRIPTION:Queen of Peace Chapel
URL:https://sistersosf.org/event/mass/2025-06-16/
LOCATION:Queen of Peace Chapel\, 6832 Convent Blvd.\, Sylvania\, OH\, 43560\, United States
CATEGORIES:Sisters of St. Francis
ATTACH;FMTTYPE=image/jpeg:https://sistersosf.org/wp-content/uploads/2024/06/OSF-Jubilee-Mass-2024-41-scaled.jpg
END:VEVENT
BEGIN:VEVENT
DTSTART;TZID=America/Detroit:20250616T120000
DTEND;TZID=America/Detroit:20250616T123000
DTSTAMP:20260422T173358
CREATED:20240618T173711Z
LAST-MODIFIED:20240618T175625Z
UID:10003393-1750075200-1750077000@sistersosf.org
SUMMARY:Vigil for Racial Equality
DESCRIPTION:Join the Sylvania Franciscans in a meaningful bi-weekly vigil and take a stand for racial equality. Mondays and Wednesdays from 12:15pm – 12:30pm at the corner of Convent Blvd. and Main Street in Sylvania.
URL:https://sistersosf.org/event/vigil-for-racial-equality/2025-06-16/
CATEGORIES:Sisters of St. Francis
END:VEVENT
BEGIN:VEVENT
DTSTART;TZID=America/Detroit:20250617T080000
DTEND;TZID=America/Detroit:20250617T083000
DTSTAMP:20260422T173358
CREATED:20240612T141416Z
LAST-MODIFIED:20260304T133850Z
UID:10001746-1750147200-1750149000@sistersosf.org
SUMMARY:Mass
DESCRIPTION:Queen of Peace Chapel
URL:https://sistersosf.org/event/mass/2025-06-17/
LOCATION:Queen of Peace Chapel\, 6832 Convent Blvd.\, Sylvania\, OH\, 43560\, United States
CATEGORIES:Sisters of St. Francis
ATTACH;FMTTYPE=image/jpeg:https://sistersosf.org/wp-content/uploads/2024/06/OSF-Jubilee-Mass-2024-41-scaled.jpg
END:VEVENT
BEGIN:VEVENT
DTSTART;TZID=America/Detroit:20250618T080000
DTEND;TZID=America/Detroit:20250618T083000
DTSTAMP:20260422T173358
CREATED:20240612T141416Z
LAST-MODIFIED:20260304T133850Z
UID:10001747-1750233600-1750235400@sistersosf.org
SUMMARY:Mass
DESCRIPTION:Queen of Peace Chapel
URL:https://sistersosf.org/event/mass/2025-06-18/
LOCATION:Queen of Peace Chapel\, 6832 Convent Blvd.\, Sylvania\, OH\, 43560\, United States
CATEGORIES:Sisters of St. Francis
ATTACH;FMTTYPE=image/jpeg:https://sistersosf.org/wp-content/uploads/2024/06/OSF-Jubilee-Mass-2024-41-scaled.jpg
END:VEVENT
BEGIN:VEVENT
DTSTART;TZID=America/Detroit:20250618T120000
DTEND;TZID=America/Detroit:20250618T123000
DTSTAMP:20260422T173358
CREATED:20240618T173711Z
LAST-MODIFIED:20240618T175625Z
UID:10003394-1750248000-1750249800@sistersosf.org
SUMMARY:Vigil for Racial Equality
DESCRIPTION:Join the Sylvania Franciscans in a meaningful bi-weekly vigil and take a stand for racial equality. Mondays and Wednesdays from 12:15pm – 12:30pm at the corner of Convent Blvd. and Main Street in Sylvania.
URL:https://sistersosf.org/event/vigil-for-racial-equality/2025-06-18/
CATEGORIES:Sisters of St. Francis
END:VEVENT
END:VCALENDAR