BEGIN:VCALENDAR
VERSION:2.0
PRODID:-//Sisters of St. Francis of Sylvania, Ohio - ECPv6.13.2.1//NONSGML v1.0//EN
CALSCALE:GREGORIAN
METHOD:PUBLISH
X-WR-CALNAME:Sisters of St. Francis of Sylvania, Ohio
X-ORIGINAL-URL:https://sistersosf.org
X-WR-CALDESC:Events for Sisters of St. Francis of Sylvania, Ohio
REFRESH-INTERVAL;VALUE=DURATION:PT1H
X-Robots-Tag:noindex
X-PUBLISHED-TTL:PT1H
BEGIN:VTIMEZONE
TZID:America/Detroit
BEGIN:DAYLIGHT
TZOFFSETFROM:-0500
TZOFFSETTO:-0400
TZNAME:EDT
DTSTART:20190310T070000
END:DAYLIGHT
BEGIN:STANDARD
TZOFFSETFROM:-0400
TZOFFSETTO:-0500
TZNAME:EST
DTSTART:20191103T060000
END:STANDARD
END:VTIMEZONE
BEGIN:VEVENT
DTSTART;TZID=America/Detroit:20191001T190000
DTEND;TZID=America/Detroit:20191001T200000
DTSTAMP:20260425T225907
CREATED:20190903T132434Z
LAST-MODIFIED:20190903T132444Z
UID:10000715-1569956400-1569960000@sistersosf.org
SUMMARY:Unveiling Ceremony for the Northwest Ohio Silent Witness Project
DESCRIPTION:The Silent Witness Project is a national initiative\, founded in 1990 in Minnesota\, in response to an epidemic of domestic violence homicides. There are local Silent Witness Project chapters in all 50 states. \nThis event is free and open to the public; however\, due to the intense nature of the program\, organizers ask that those in attendance do not bring young children. \n 
URL:https://sistersosf.org/event/unveiling-ceremony-for-the-northwest-ohio-silent-witness-project/
ATTACH;FMTTYPE=image/jpeg:https://sistersosf.org/wp-content/uploads/2019/09/525238d67b5b4.image_.jpg
ORGANIZER;CN="Mary Krueger":MAILTO:SilentWitnessProject@BethanyHousetoledo.org
END:VEVENT
BEGIN:VEVENT
DTSTART;TZID=America/Detroit:20191003T190000
DTEND;TZID=America/Detroit:20191003T200000
DTSTAMP:20260425T225907
CREATED:20190917T154830Z
LAST-MODIFIED:20190917T154837Z
UID:10000718-1570129200-1570132800@sistersosf.org
SUMMARY:Transitus
DESCRIPTION:As part of the universal Franciscan community\, tonight we celebrate Francis’ passing from life to death. Join us as we come together for Transitus\, St. Francis entering into eternal life. Queen of Peace Chapel – 7 pm – All are welcome.
URL:https://sistersosf.org/event/transitus/
LOCATION:Queen of Peace Chapel\, 6832 Convent Blvd.\, Sylvania\, OH\, 43560\, United States
END:VEVENT
BEGIN:VEVENT
DTSTART;TZID=America/Detroit:20191004T163000
DTEND;TZID=America/Detroit:20191004T173000
DTSTAMP:20260425T225907
CREATED:20190917T175715Z
LAST-MODIFIED:20190917T175736Z
UID:10000548-1570206600-1570210200@sistersosf.org
SUMMARY:St. Francis Day Liturgy
DESCRIPTION:All are welcome to join us for this liturgy.
URL:https://sistersosf.org/event/st-francis-day-liturgy/
LOCATION:Queen of Peace Chapel\, 6832 Convent Blvd.\, Sylvania\, OH\, 43560
GEO:41.7096061;-83.708435
X-APPLE-STRUCTURED-LOCATION;VALUE=URI;X-ADDRESS=Queen of Peace Chapel 6832 Convent Blvd. Sylvania OH 43560;X-APPLE-RADIUS=500;X-TITLE=6832 Convent Blvd.:geo:-83.708435,41.7096061
END:VEVENT
BEGIN:VEVENT
DTSTART;TZID=America/Detroit:20191010T100000
DTEND;TZID=America/Detroit:20191010T123000
DTSTAMP:20260425T225907
CREATED:20190307T210906Z
LAST-MODIFIED:20190522T200534Z
UID:10000699-1570701600-1570710600@sistersosf.org
SUMMARY:Mini-Pilgrimage
DESCRIPTION:Come on a guided tour with Sister Joan Jurski and walk among the campus sites that are steeped in the traditions and teachings of Saints Francis and Clare. A time for personal reflection and a delicious lunch will be part of your mini-pilgrimage.
URL:https://sistersosf.org/event/mini-pilgrimage-11/
LOCATION:Sylvania Franciscan Motherhouse\, 6832 Convent Blvd.\, Sylvania\, 43562\, United States
END:VEVENT
BEGIN:VEVENT
DTSTART;TZID=America/Detroit:20191014T190000
DTEND;TZID=America/Detroit:20191014T203000
DTSTAMP:20260425T225907
CREATED:20191007T155635Z
LAST-MODIFIED:20191007T155714Z
UID:10000550-1571079600-1571085000@sistersosf.org
SUMMARY:The Decline of Christianity in the Holy Land
DESCRIPTION:The Christian communities in the Holy Land go back over 2000 years and have been responsible for keeping the faith alive in the land where Jesus lived. Yet over the last 70 years\, Christians have gone from an historic 18% of the population to less than 2% today. Guest lecturer Sir Jeffrey Abood will speak on the Catholic Church’s perspective\, along with sharing firsthand experience on the continued decline of Christianity in the Holy Land. \n(Offered in collaboration with St. Joseph’s Parish\, Sylvania and the Knights of Columbus Council #5628)
URL:https://sistersosf.org/event/the-decline-of-christianity-in-the-holy-land/
LOCATION:Franciscan Center
ORGANIZER;CN="Amy Campbell":MAILTO:acampbell@sistersosf.org
END:VEVENT
BEGIN:VEVENT
DTSTART;TZID=America/Detroit:20191023T120000
DTEND;TZID=America/Detroit:20191023T130000
DTSTAMP:20260425T225907
CREATED:20191007T160313Z
LAST-MODIFIED:20191007T160347Z
UID:10000551-1571832000-1571835600@sistersosf.org
SUMMARY:Practicing Gratitude and Mindfulness to Improve Health
DESCRIPTION:This month the Wellness Luncheon Series will feature Sr. Sharon Pollnow\, CS\, LISW-S\, speaking about the research based benefits of practicing mindfulness as a means to address anxiety and stress\, and strategies for practicing gratitude and mindfulness.
URL:https://sistersosf.org/event/practicing-gratitude-and-mindfulness-to-improve-health/
LOCATION:Regina Hall Conf. Rm.\, 6832 Convent Blvd.
ORGANIZER;CN="Amy Campbell":MAILTO:acampbell@sistersosf.org
END:VEVENT
BEGIN:VEVENT
DTSTART;TZID=America/Detroit:20191026T100000
DTEND;TZID=America/Detroit:20191026T120000
DTSTAMP:20260425T225907
CREATED:20191003T125844Z
LAST-MODIFIED:20191003T125844Z
UID:10000549-1572084000-1572091200@sistersosf.org
SUMMARY:A Reflection on the Canticle of Brother Sun
DESCRIPTION:In a two-hour presentation\, Franciscan Theologian Sister Laureen Painter guides us to better see the ‘mirror of creation’ around us. Through listening\, talking and participating in the ‘walk of creation\,’ we will attune ourselves to hear creation speak to the depths of our souls… and possibly begin to write our own personal Canticle of Praise.
URL:https://sistersosf.org/event/a-reflection-on-the-canticle-of-brother-sun/
LOCATION:Regina Conference Room\, 6832 Convent Blvd\, Sylvania\, OH\, United States
GEO:41.7105685;-83.7052723
X-APPLE-STRUCTURED-LOCATION;VALUE=URI;X-ADDRESS=Regina Conference Room 6832 Convent Blvd Sylvania OH United States;X-APPLE-RADIUS=500;X-TITLE=6832 Convent Blvd:geo:-83.7052723,41.7105685
END:VEVENT
BEGIN:VEVENT
DTSTART;TZID=America/Detroit:20191030T093000
DTEND;TZID=America/Detroit:20191030T150000
DTSTAMP:20260425T225907
CREATED:20190906T182127Z
LAST-MODIFIED:20191023T164320Z
UID:10000717-1572427800-1572447600@sistersosf.org
SUMMARY:Sr. Gretchen's Halloween Bake Sale
DESCRIPTION:
URL:https://sistersosf.org/event/sr-gretchens-halloween-bake-sale-2/
LOCATION:Regina Conference Room\, 6832 Convent Blvd\, Sylvania\, OH\, United States
ATTACH;FMTTYPE=image/jpeg:https://sistersosf.org/wp-content/uploads/2019/09/halloween.jpg
ORGANIZER;CN="Sr. Gretchen Faerber":MAILTO:gfaerber@sistersosf.org
GEO:41.7105685;-83.7052723
X-APPLE-STRUCTURED-LOCATION;VALUE=URI;X-ADDRESS=Regina Conference Room 6832 Convent Blvd Sylvania OH United States;X-APPLE-RADIUS=500;X-TITLE=6832 Convent Blvd:geo:-83.7052723,41.7105685
END:VEVENT
END:VCALENDAR