BEGIN:VCALENDAR
VERSION:2.0
PRODID:-//Sisters of St. Francis of Sylvania, Ohio - ECPv6.13.2.1//NONSGML v1.0//EN
CALSCALE:GREGORIAN
METHOD:PUBLISH
X-ORIGINAL-URL:https://sistersosf.org
X-WR-CALDESC:Events for Sisters of St. Francis of Sylvania, Ohio
REFRESH-INTERVAL;VALUE=DURATION:PT1H
X-Robots-Tag:noindex
X-PUBLISHED-TTL:PT1H
BEGIN:VTIMEZONE
TZID:America/Detroit
BEGIN:DAYLIGHT
TZOFFSETFROM:-0500
TZOFFSETTO:-0400
TZNAME:EDT
DTSTART:20190310T070000
END:DAYLIGHT
BEGIN:STANDARD
TZOFFSETFROM:-0400
TZOFFSETTO:-0500
TZNAME:EST
DTSTART:20191103T060000
END:STANDARD
END:VTIMEZONE
BEGIN:VEVENT
DTSTART;TZID=America/Detroit:20191203T140000
DTEND;TZID=America/Detroit:20191203T160000
DTSTAMP:20260426T002632
CREATED:20191126T190905Z
LAST-MODIFIED:20191126T190910Z
UID:10000732-1575381600-1575388800@sistersosf.org
SUMMARY:Pictures with Santa
DESCRIPTION:
URL:https://sistersosf.org/event/pictures-with-santa/
ATTACH;FMTTYPE=image/jpeg:https://sistersosf.org/wp-content/uploads/2019/11/Santa-is-coming.jpg
END:VEVENT
BEGIN:VEVENT
DTSTART;TZID=America/Detroit:20191203T160000
DTEND;TZID=America/Detroit:20191203T190000
DTSTAMP:20260426T002632
CREATED:20191126T190433Z
LAST-MODIFIED:20191126T190739Z
UID:10000731-1575388800-1575399600@sistersosf.org
SUMMARY:All Good Things Holiday Open House
DESCRIPTION:Once a year ceramic tile sale\, 25% off in-stock tiles during open house.
URL:https://sistersosf.org/event/all-good-things-holiday-open-house/
LOCATION:All Good Things\, 6832 Convent Blvd.
ATTACH;FMTTYPE=image/jpeg:https://sistersosf.org/wp-content/uploads/2019/11/slide-SNOW-tile.jpg
END:VEVENT
BEGIN:VEVENT
DTSTART;TZID=America/Detroit:20191206T130000
DTEND;TZID=America/Detroit:20191206T150000
DTSTAMP:20260426T002632
CREATED:20191014T191357Z
LAST-MODIFIED:20191014T191444Z
UID:10000719-1575637200-1575644400@sistersosf.org
SUMMARY:Make and Take Christmas Cards
DESCRIPTION:
URL:https://sistersosf.org/event/make-and-take-christmas-cards/
LOCATION:All Good Things Art & Gifts
END:VEVENT
BEGIN:VEVENT
DTSTART;TZID=America/Detroit:20191207T140000
DTEND;TZID=America/Detroit:20191207T160000
DTSTAMP:20260426T002632
CREATED:20191126T183809Z
LAST-MODIFIED:20191126T183845Z
UID:10000730-1575727200-1575734400@sistersosf.org
SUMMARY:Santa\, St. Francis and the Animals
DESCRIPTION:Bring the kids for a Santa meet-and-greet\, and hear St. Francis himself talking about the first Christmas. Meet  animals and the Lourdes students who care for them\, enjoy crafts and refreshments.
URL:https://sistersosf.org/event/santa-st-francis-and-the-animals-2/
LOCATION:Canticle Center\, 5335 Silica Dr.\, Sylvania
ORGANIZER;CN="S.A.V.E.":MAILTO:SAVE@lourdes.edu
END:VEVENT
BEGIN:VEVENT
DTSTART;TZID=America/Detroit:20191208T103000
DTEND;TZID=America/Detroit:20191208T113000
DTSTAMP:20260426T002632
CREATED:20191126T182349Z
LAST-MODIFIED:20191126T182407Z
UID:10000729-1575801000-1575804600@sistersosf.org
SUMMARY:Feast of the Immaculate Conception Liturgy
DESCRIPTION:
URL:https://sistersosf.org/event/feast-of-the-immaculate-conception-liturgy/
LOCATION:Queen of Peace Chapel\, 6832 Convent Blvd.
END:VEVENT
END:VCALENDAR