BEGIN:VCALENDAR
VERSION:2.0
PRODID:-//Sisters of St. Francis of Sylvania, Ohio - ECPv6.13.2.1//NONSGML v1.0//EN
CALSCALE:GREGORIAN
METHOD:PUBLISH
X-ORIGINAL-URL:https://sistersosf.org
X-WR-CALDESC:Events for Sisters of St. Francis of Sylvania, Ohio
REFRESH-INTERVAL;VALUE=DURATION:PT1H
X-Robots-Tag:noindex
X-PUBLISHED-TTL:PT1H
BEGIN:VTIMEZONE
TZID:America/Detroit
BEGIN:DAYLIGHT
TZOFFSETFROM:-0500
TZOFFSETTO:-0400
TZNAME:EDT
DTSTART:20190310T070000
END:DAYLIGHT
BEGIN:STANDARD
TZOFFSETFROM:-0400
TZOFFSETTO:-0500
TZNAME:EST
DTSTART:20191103T060000
END:STANDARD
END:VTIMEZONE
BEGIN:VEVENT
DTSTART;TZID=America/Detroit:20190910T193000
DTEND;TZID=America/Detroit:20190910T210000
DTSTAMP:20260425T213220
CREATED:20190906T195428Z
LAST-MODIFIED:20190906T195453Z
UID:10000716-1568143800-1568149200@sistersosf.org
SUMMARY:Healing from the Earth: An Introduction to Forest Therapy
DESCRIPTION:Presented by Kimberly High\, Master Interpreter and Programming Coordinator\, Metroparks of Toledo
URL:https://sistersosf.org/event/healing-from-the-earth-an-introduction-to-forest-therapy/
LOCATION:Franciscan Center
ORGANIZER;CN="Sister Rosine Sobczak":MAILTO:save@lourdes.edu.
END:VEVENT
END:VCALENDAR