BEGIN:VCALENDAR
VERSION:2.0
PRODID:-//Sisters of St. Francis of Sylvania, Ohio - ECPv6.13.2.1//NONSGML v1.0//EN
CALSCALE:GREGORIAN
METHOD:PUBLISH
X-ORIGINAL-URL:https://sistersosf.org
X-WR-CALDESC:Events for Sisters of St. Francis of Sylvania, Ohio
REFRESH-INTERVAL;VALUE=DURATION:PT1H
X-Robots-Tag:noindex
X-PUBLISHED-TTL:PT1H
BEGIN:VTIMEZONE
TZID:America/Detroit
BEGIN:DAYLIGHT
TZOFFSETFROM:-0500
TZOFFSETTO:-0400
TZNAME:EDT
DTSTART:20190310T070000
END:DAYLIGHT
BEGIN:STANDARD
TZOFFSETFROM:-0400
TZOFFSETTO:-0500
TZNAME:EST
DTSTART:20191103T060000
END:STANDARD
END:VTIMEZONE
BEGIN:VEVENT
DTSTART;TZID=America/Detroit:20190928T100000
DTEND;TZID=America/Detroit:20190928T120000
DTSTAMP:20260425T173108
CREATED:20190814T135915Z
LAST-MODIFIED:20190814T140911Z
UID:10000714-1569664800-1569672000@sistersosf.org
SUMMARY:Encountering Jesus in Story and Silence
DESCRIPTION:Take a journey with the early disciples of Jesus who listened to his stories and observed him in his silence and prayer during this program presented by Sr. Shannon Schrein. Sr. Shannon\, a Sylvania Franciscan for 52 years\, currently serves on the Leadership Team for the Sylvania Franciscans. \n 
URL:https://sistersosf.org/event/encountering-jesus-in-story-and-silence/
LOCATION:Regina Conference Room\, 6832 Convent Blvd\, Sylvania\, OH\, United States
ATTACH;FMTTYPE=image/jpeg:https://sistersosf.org/wp-content/uploads/2019/08/the-exhortation-to-the-apostles-tissot.jpg
ORGANIZER;CN="Sr. Joan Jurski":MAILTO:jjurski@sistersosf.org
GEO:41.7105685;-83.7052723
X-APPLE-STRUCTURED-LOCATION;VALUE=URI;X-ADDRESS=Regina Conference Room 6832 Convent Blvd Sylvania OH United States;X-APPLE-RADIUS=500;X-TITLE=6832 Convent Blvd:geo:-83.7052723,41.7105685
END:VEVENT
END:VCALENDAR