BEGIN:VCALENDAR
VERSION:2.0
PRODID:-//Sisters of St. Francis of Sylvania, Ohio - ECPv6.13.2.1//NONSGML v1.0//EN
CALSCALE:GREGORIAN
METHOD:PUBLISH
X-WR-CALNAME:Sisters of St. Francis of Sylvania, Ohio
X-ORIGINAL-URL:https://sistersosf.org
X-WR-CALDESC:Events for Sisters of St. Francis of Sylvania, Ohio
REFRESH-INTERVAL;VALUE=DURATION:PT1H
X-Robots-Tag:noindex
X-PUBLISHED-TTL:PT1H
BEGIN:VTIMEZONE
TZID:America/Detroit
BEGIN:DAYLIGHT
TZOFFSETFROM:-0500
TZOFFSETTO:-0400
TZNAME:EDT
DTSTART:20240310T070000
END:DAYLIGHT
BEGIN:STANDARD
TZOFFSETFROM:-0400
TZOFFSETTO:-0500
TZNAME:EST
DTSTART:20241103T060000
END:STANDARD
END:VTIMEZONE
BEGIN:VEVENT
DTSTART;VALUE=DATE:20240902
DTEND;VALUE=DATE:20240903
DTSTAMP:20260425T181302
CREATED:20240821T132626Z
LAST-MODIFIED:20240821T132626Z
UID:10003870-1725235200-1725321599@sistersosf.org
SUMMARY:Labor Day
DESCRIPTION:Administrative Offices Closed.
URL:https://sistersosf.org/event/labor-day/
CATEGORIES:Sisters of St. Francis
END:VEVENT
BEGIN:VEVENT
DTSTART;TZID=America/Detroit:20240902T080000
DTEND;TZID=America/Detroit:20240902T083000
DTSTAMP:20260425T181302
CREATED:20240612T141416Z
LAST-MODIFIED:20260304T133850Z
UID:10001458-1725264000-1725265800@sistersosf.org
SUMMARY:Mass
DESCRIPTION:Queen of Peace Chapel
URL:https://sistersosf.org/event/mass/2024-09-02/
LOCATION:Queen of Peace Chapel\, 6832 Convent Blvd.\, Sylvania\, OH\, 43560\, United States
CATEGORIES:Sisters of St. Francis
ATTACH;FMTTYPE=image/jpeg:https://sistersosf.org/wp-content/uploads/2024/06/OSF-Jubilee-Mass-2024-41-scaled.jpg
END:VEVENT
BEGIN:VEVENT
DTSTART;TZID=America/Detroit:20240902T120000
DTEND;TZID=America/Detroit:20240902T123000
DTSTAMP:20260425T181302
CREATED:20240618T173711Z
LAST-MODIFIED:20240618T175625Z
UID:10003311-1725278400-1725280200@sistersosf.org
SUMMARY:Vigil for Racial Equality
DESCRIPTION:Join the Sylvania Franciscans in a meaningful bi-weekly vigil and take a stand for racial equality. Mondays and Wednesdays from 12:15pm – 12:30pm at the corner of Convent Blvd. and Main Street in Sylvania.
URL:https://sistersosf.org/event/vigil-for-racial-equality/2024-09-02/
CATEGORIES:Sisters of St. Francis
END:VEVENT
BEGIN:VEVENT
DTSTART;TZID=America/Detroit:20240903T080000
DTEND;TZID=America/Detroit:20240903T083000
DTSTAMP:20260425T181302
CREATED:20240612T141416Z
LAST-MODIFIED:20260304T133850Z
UID:10001459-1725350400-1725352200@sistersosf.org
SUMMARY:Mass
DESCRIPTION:Queen of Peace Chapel
URL:https://sistersosf.org/event/mass/2024-09-03/
LOCATION:Queen of Peace Chapel\, 6832 Convent Blvd.\, Sylvania\, OH\, 43560\, United States
CATEGORIES:Sisters of St. Francis
ATTACH;FMTTYPE=image/jpeg:https://sistersosf.org/wp-content/uploads/2024/06/OSF-Jubilee-Mass-2024-41-scaled.jpg
END:VEVENT
BEGIN:VEVENT
DTSTART;TZID=America/Detroit:20240903T160000
DTEND;TZID=America/Detroit:20240903T170000
DTSTAMP:20260425T181302
CREATED:20240801T162522Z
LAST-MODIFIED:20240801T162522Z
UID:10003835-1725379200-1725382800@sistersosf.org
SUMMARY:St. Pheobe Day Prayer Service
DESCRIPTION:You are invited to a celebration of St. Pheobe\, a Greek deaconess in the early Church who was sent from Greece to Rome with Paul’s Letter to the Romans. \nR.S.V.P. to Sister Fidelis at fidelisr@hotmail.com by August 29th.
URL:https://sistersosf.org/event/st-pheobe-day-prayer-service-2/
LOCATION:Regina Conference Room\, 6832 Convent Blvd\, Sylvania\, OH\, United States
CATEGORIES:Sisters of St. Francis
ATTACH;FMTTYPE=image/jpeg:https://sistersosf.org/wp-content/uploads/2024/08/St.-Pheobe.jpg
GEO:41.7105685;-83.7052723
X-APPLE-STRUCTURED-LOCATION;VALUE=URI;X-ADDRESS=Regina Conference Room 6832 Convent Blvd Sylvania OH United States;X-APPLE-RADIUS=500;X-TITLE=6832 Convent Blvd:geo:-83.7052723,41.7105685
END:VEVENT
BEGIN:VEVENT
DTSTART;TZID=America/Detroit:20240904T080000
DTEND;TZID=America/Detroit:20240904T083000
DTSTAMP:20260425T181302
CREATED:20240612T141416Z
LAST-MODIFIED:20260304T133850Z
UID:10001460-1725436800-1725438600@sistersosf.org
SUMMARY:Mass
DESCRIPTION:Queen of Peace Chapel
URL:https://sistersosf.org/event/mass/2024-09-04/
LOCATION:Queen of Peace Chapel\, 6832 Convent Blvd.\, Sylvania\, OH\, 43560\, United States
CATEGORIES:Sisters of St. Francis
ATTACH;FMTTYPE=image/jpeg:https://sistersosf.org/wp-content/uploads/2024/06/OSF-Jubilee-Mass-2024-41-scaled.jpg
END:VEVENT
BEGIN:VEVENT
DTSTART;TZID=America/Detroit:20240904T120000
DTEND;TZID=America/Detroit:20240904T123000
DTSTAMP:20260425T181302
CREATED:20240618T173711Z
LAST-MODIFIED:20240618T175625Z
UID:10003312-1725451200-1725453000@sistersosf.org
SUMMARY:Vigil for Racial Equality
DESCRIPTION:Join the Sylvania Franciscans in a meaningful bi-weekly vigil and take a stand for racial equality. Mondays and Wednesdays from 12:15pm – 12:30pm at the corner of Convent Blvd. and Main Street in Sylvania.
URL:https://sistersosf.org/event/vigil-for-racial-equality/2024-09-04/
CATEGORIES:Sisters of St. Francis
END:VEVENT
BEGIN:VEVENT
DTSTART;TZID=America/Detroit:20240904T123000
DTEND;TZID=America/Detroit:20240904T130000
DTSTAMP:20260425T181302
CREATED:20240612T141225Z
LAST-MODIFIED:20240612T141225Z
UID:10001127-1725453000-1725454800@sistersosf.org
SUMMARY:Wednesday Walk at Rosary Care
DESCRIPTION:
URL:https://sistersosf.org/event/wednesday-walk-at-rosary-care/2024-09-04/
END:VEVENT
BEGIN:VEVENT
DTSTART;TZID=America/Detroit:20240904T170000
DTEND;TZID=America/Detroit:20240904T170000
DTSTAMP:20260425T181302
CREATED:20240620T143651Z
LAST-MODIFIED:20240620T143651Z
UID:10003812-1725469200-1725469200@sistersosf.org
SUMMARY:Evening at the Movies and Dinner for Sisters
DESCRIPTION:Sponsored by the Toledo Serra Club at the Maumee Indoor Theater.
URL:https://sistersosf.org/event/evening-at-the-movies-and-dinner-for-sisters/
END:VEVENT
BEGIN:VEVENT
DTSTART;TZID=America/Detroit:20240905T080000
DTEND;TZID=America/Detroit:20240905T083000
DTSTAMP:20260425T181302
CREATED:20240612T141416Z
LAST-MODIFIED:20260304T133850Z
UID:10001461-1725523200-1725525000@sistersosf.org
SUMMARY:Mass
DESCRIPTION:Queen of Peace Chapel
URL:https://sistersosf.org/event/mass/2024-09-05/
LOCATION:Queen of Peace Chapel\, 6832 Convent Blvd.\, Sylvania\, OH\, 43560\, United States
CATEGORIES:Sisters of St. Francis
ATTACH;FMTTYPE=image/jpeg:https://sistersosf.org/wp-content/uploads/2024/06/OSF-Jubilee-Mass-2024-41-scaled.jpg
END:VEVENT
BEGIN:VEVENT
DTSTART;TZID=America/Detroit:20240905T153000
DTEND;TZID=America/Detroit:20240905T163000
DTSTAMP:20260425T181302
CREATED:20240612T141028Z
LAST-MODIFIED:20240617T170621Z
UID:10000866-1725550200-1725553800@sistersosf.org
SUMMARY:Grateful Harvest Community Garden Work
DESCRIPTION:
URL:https://sistersosf.org/event/grateful-harvest-community-garden-work/2024-09-05/
CATEGORIES:Sisters of St. Francis
ATTACH;FMTTYPE=image/jpeg:https://sistersosf.org/wp-content/uploads/2023/09/20230803_143539893_iOS-scaled.jpg
END:VEVENT
BEGIN:VEVENT
DTSTART;TZID=America/Detroit:20240906T080000
DTEND;TZID=America/Detroit:20240906T083000
DTSTAMP:20260425T181302
CREATED:20240612T141416Z
LAST-MODIFIED:20260304T133850Z
UID:10001462-1725609600-1725611400@sistersosf.org
SUMMARY:Mass
DESCRIPTION:Queen of Peace Chapel
URL:https://sistersosf.org/event/mass/2024-09-06/
LOCATION:Queen of Peace Chapel\, 6832 Convent Blvd.\, Sylvania\, OH\, 43560\, United States
CATEGORIES:Sisters of St. Francis
ATTACH;FMTTYPE=image/jpeg:https://sistersosf.org/wp-content/uploads/2024/06/OSF-Jubilee-Mass-2024-41-scaled.jpg
END:VEVENT
BEGIN:VEVENT
DTSTART;TZID=America/Detroit:20240906T130000
DTEND;TZID=America/Detroit:20240906T150000
DTSTAMP:20260425T181302
CREATED:20240617T153230Z
LAST-MODIFIED:20240912T120824Z
UID:10003216-1725627600-1725634800@sistersosf.org
SUMMARY:Sr. Roselynn’s Tea & Teach Cards
DESCRIPTION:Join Sister Roselynn for tea and learn a few new skills! \n\n\n\nRSVP : 419-824-3749
URL:https://sistersosf.org/event/sr-roselynns-tea-teach-cards/2024-09-06/
LOCATION:All Good Things Art & Gifts\, 6832 Convent Rd\, Umbria Hall\, Sylvania\, OH\, 43560
CATEGORIES:Sisters of St. Francis
ATTACH;FMTTYPE=image/jpeg:https://sistersosf.org/wp-content/uploads/2024/06/458405064_1397807384477335_2525615199903980645_n.jpg
END:VEVENT
END:VCALENDAR