BEGIN:VCALENDAR
VERSION:2.0
PRODID:-//Sisters of St. Francis of Sylvania, Ohio - ECPv6.13.2.1//NONSGML v1.0//EN
CALSCALE:GREGORIAN
METHOD:PUBLISH
X-ORIGINAL-URL:https://sistersosf.org
X-WR-CALDESC:Events for Sisters of St. Francis of Sylvania, Ohio
REFRESH-INTERVAL;VALUE=DURATION:PT1H
X-Robots-Tag:noindex
X-PUBLISHED-TTL:PT1H
BEGIN:VTIMEZONE
TZID:America/Detroit
BEGIN:DAYLIGHT
TZOFFSETFROM:-0500
TZOFFSETTO:-0400
TZNAME:EDT
DTSTART:20240310T070000
END:DAYLIGHT
BEGIN:STANDARD
TZOFFSETFROM:-0400
TZOFFSETTO:-0500
TZNAME:EST
DTSTART:20241103T060000
END:STANDARD
END:VTIMEZONE
BEGIN:VEVENT
DTSTART;TZID=America/Detroit:20241111T080000
DTEND;TZID=America/Detroit:20241111T083000
DTSTAMP:20260422T090209
CREATED:20240612T141416Z
LAST-MODIFIED:20260304T133850Z
UID:10001528-1731312000-1731313800@sistersosf.org
SUMMARY:Mass
DESCRIPTION:Queen of Peace Chapel
URL:https://sistersosf.org/event/mass/2024-11-11/
LOCATION:Queen of Peace Chapel\, 6832 Convent Blvd.\, Sylvania\, OH\, 43560\, United States
CATEGORIES:Sisters of St. Francis
ATTACH;FMTTYPE=image/jpeg:https://sistersosf.org/wp-content/uploads/2024/06/OSF-Jubilee-Mass-2024-41-scaled.jpg
END:VEVENT
BEGIN:VEVENT
DTSTART;TZID=America/Detroit:20241111T120000
DTEND;TZID=America/Detroit:20241111T123000
DTSTAMP:20260422T090209
CREATED:20240618T173711Z
LAST-MODIFIED:20240618T175625Z
UID:10003331-1731326400-1731328200@sistersosf.org
SUMMARY:Vigil for Racial Equality
DESCRIPTION:Join the Sylvania Franciscans in a meaningful bi-weekly vigil and take a stand for racial equality. Mondays and Wednesdays from 12:15pm – 12:30pm at the corner of Convent Blvd. and Main Street in Sylvania.
URL:https://sistersosf.org/event/vigil-for-racial-equality/2024-11-11/
CATEGORIES:Sisters of St. Francis
END:VEVENT
BEGIN:VEVENT
DTSTART;TZID=America/Detroit:20241112T080000
DTEND;TZID=America/Detroit:20241112T083000
DTSTAMP:20260422T090209
CREATED:20240612T141416Z
LAST-MODIFIED:20260304T133850Z
UID:10001529-1731398400-1731400200@sistersosf.org
SUMMARY:Mass
DESCRIPTION:Queen of Peace Chapel
URL:https://sistersosf.org/event/mass/2024-11-12/
LOCATION:Queen of Peace Chapel\, 6832 Convent Blvd.\, Sylvania\, OH\, 43560\, United States
CATEGORIES:Sisters of St. Francis
ATTACH;FMTTYPE=image/jpeg:https://sistersosf.org/wp-content/uploads/2024/06/OSF-Jubilee-Mass-2024-41-scaled.jpg
END:VEVENT
BEGIN:VEVENT
DTSTART;TZID=America/Detroit:20241112T113000
DTEND;TZID=America/Detroit:20241112T130000
DTSTAMP:20260422T090209
CREATED:20240821T140729Z
LAST-MODIFIED:20241031T154847Z
UID:10003878-1731411000-1731416400@sistersosf.org
SUMMARY:Connections Potluck Lunch
DESCRIPTION:More Information – TBD
URL:https://sistersosf.org/event/connections-potluck-lunch-2/
LOCATION:Regina Conference Room\, 6832 Convent Blvd\, Sylvania\, OH\, United States
CATEGORIES:Sisters of St. Francis
ORGANIZER;CN="Elizabeth Reiter":MAILTO:ereiter@sistersosf.org
GEO:41.7105685;-83.7052723
X-APPLE-STRUCTURED-LOCATION;VALUE=URI;X-ADDRESS=Regina Conference Room 6832 Convent Blvd Sylvania OH United States;X-APPLE-RADIUS=500;X-TITLE=6832 Convent Blvd:geo:-83.7052723,41.7105685
END:VEVENT
BEGIN:VEVENT
DTSTART;TZID=America/Detroit:20241112T193000
DTEND;TZID=America/Detroit:20241112T210000
DTSTAMP:20260422T090209
CREATED:20240617T173510Z
LAST-MODIFIED:20240617T175020Z
UID:10003283-1731439800-1731445200@sistersosf.org
SUMMARY:S.A.V.E- FREE Public Lecture Series
DESCRIPTION:“Microplastics: Here\, There\, Everywhere\nBy: Anne McNeil\, Ph.D. Professor\, University of Michigan
URL:https://sistersosf.org/event/s-a-v-e-free-public-lecture-series-2/
LOCATION:Franciscan Center – Conference Rooms A&B\, 6832 Convent Blvd\, Sylvania\, 43551
CATEGORIES:Sisters of St. Francis
GEO:41.7095334;-83.7090373
X-APPLE-STRUCTURED-LOCATION;VALUE=URI;X-ADDRESS=Franciscan Center – Conference Rooms A&B 6832 Convent Blvd Sylvania 43551;X-APPLE-RADIUS=500;X-TITLE=6832 Convent Blvd:geo:-83.7090373,41.7095334
END:VEVENT
BEGIN:VEVENT
DTSTART;TZID=America/Detroit:20241113T080000
DTEND;TZID=America/Detroit:20241113T083000
DTSTAMP:20260422T090209
CREATED:20240612T141416Z
LAST-MODIFIED:20260304T133850Z
UID:10001530-1731484800-1731486600@sistersosf.org
SUMMARY:Mass
DESCRIPTION:Queen of Peace Chapel
URL:https://sistersosf.org/event/mass/2024-11-13/
LOCATION:Queen of Peace Chapel\, 6832 Convent Blvd.\, Sylvania\, OH\, 43560\, United States
CATEGORIES:Sisters of St. Francis
ATTACH;FMTTYPE=image/jpeg:https://sistersosf.org/wp-content/uploads/2024/06/OSF-Jubilee-Mass-2024-41-scaled.jpg
END:VEVENT
BEGIN:VEVENT
DTSTART;TZID=America/Detroit:20241113T113000
DTEND;TZID=America/Detroit:20241113T123000
DTSTAMP:20260422T090209
CREATED:20241106T173911Z
LAST-MODIFIED:20241106T173911Z
UID:10003957-1731497400-1731501000@sistersosf.org
SUMMARY:Open Enrollment
DESCRIPTION:
URL:https://sistersosf.org/event/open-enrollment/
ATTACH;FMTTYPE=image/jpeg:https://sistersosf.org/wp-content/uploads/2024/11/open-enrollment.psd.jpg
END:VEVENT
BEGIN:VEVENT
DTSTART;TZID=America/Detroit:20241113T120000
DTEND;TZID=America/Detroit:20241113T123000
DTSTAMP:20260422T090209
CREATED:20240618T173711Z
LAST-MODIFIED:20240618T175625Z
UID:10003332-1731499200-1731501000@sistersosf.org
SUMMARY:Vigil for Racial Equality
DESCRIPTION:Join the Sylvania Franciscans in a meaningful bi-weekly vigil and take a stand for racial equality. Mondays and Wednesdays from 12:15pm – 12:30pm at the corner of Convent Blvd. and Main Street in Sylvania.
URL:https://sistersosf.org/event/vigil-for-racial-equality/2024-11-13/
CATEGORIES:Sisters of St. Francis
END:VEVENT
BEGIN:VEVENT
DTSTART;TZID=America/Detroit:20241114T080000
DTEND;TZID=America/Detroit:20241114T083000
DTSTAMP:20260422T090209
CREATED:20240612T141416Z
LAST-MODIFIED:20260304T133850Z
UID:10001531-1731571200-1731573000@sistersosf.org
SUMMARY:Mass
DESCRIPTION:Queen of Peace Chapel
URL:https://sistersosf.org/event/mass/2024-11-14/
LOCATION:Queen of Peace Chapel\, 6832 Convent Blvd.\, Sylvania\, OH\, 43560\, United States
CATEGORIES:Sisters of St. Francis
ATTACH;FMTTYPE=image/jpeg:https://sistersosf.org/wp-content/uploads/2024/06/OSF-Jubilee-Mass-2024-41-scaled.jpg
END:VEVENT
BEGIN:VEVENT
DTSTART;TZID=America/Detroit:20241115T080000
DTEND;TZID=America/Detroit:20241115T083000
DTSTAMP:20260422T090209
CREATED:20240612T141416Z
LAST-MODIFIED:20260304T133850Z
UID:10001532-1731657600-1731659400@sistersosf.org
SUMMARY:Mass
DESCRIPTION:Queen of Peace Chapel
URL:https://sistersosf.org/event/mass/2024-11-15/
LOCATION:Queen of Peace Chapel\, 6832 Convent Blvd.\, Sylvania\, OH\, 43560\, United States
CATEGORIES:Sisters of St. Francis
ATTACH;FMTTYPE=image/jpeg:https://sistersosf.org/wp-content/uploads/2024/06/OSF-Jubilee-Mass-2024-41-scaled.jpg
END:VEVENT
END:VCALENDAR