BEGIN:VCALENDAR
VERSION:2.0
PRODID:-//Sisters of St. Francis of Sylvania, Ohio - ECPv6.13.2.1//NONSGML v1.0//EN
CALSCALE:GREGORIAN
METHOD:PUBLISH
X-ORIGINAL-URL:https://sistersosf.org
X-WR-CALDESC:Events for Sisters of St. Francis of Sylvania, Ohio
REFRESH-INTERVAL;VALUE=DURATION:PT1H
X-Robots-Tag:noindex
X-PUBLISHED-TTL:PT1H
BEGIN:VTIMEZONE
TZID:America/Detroit
BEGIN:DAYLIGHT
TZOFFSETFROM:-0500
TZOFFSETTO:-0400
TZNAME:EDT
DTSTART:20250309T070000
END:DAYLIGHT
BEGIN:STANDARD
TZOFFSETFROM:-0400
TZOFFSETTO:-0500
TZNAME:EST
DTSTART:20251102T060000
END:STANDARD
END:VTIMEZONE
BEGIN:VEVENT
DTSTART;TZID=America/Detroit:20250217T080000
DTEND;TZID=America/Detroit:20250217T083000
DTSTAMP:20260423T054601
CREATED:20240612T141416Z
LAST-MODIFIED:20260304T133850Z
UID:10001626-1739779200-1739781000@sistersosf.org
SUMMARY:Mass
DESCRIPTION:Queen of Peace Chapel
URL:https://sistersosf.org/event/mass/2025-02-17/
LOCATION:Queen of Peace Chapel\, 6832 Convent Blvd.\, Sylvania\, OH\, 43560\, United States
CATEGORIES:Sisters of St. Francis
ATTACH;FMTTYPE=image/jpeg:https://sistersosf.org/wp-content/uploads/2024/06/OSF-Jubilee-Mass-2024-41-scaled.jpg
END:VEVENT
BEGIN:VEVENT
DTSTART;TZID=America/Detroit:20250217T120000
DTEND;TZID=America/Detroit:20250217T123000
DTSTAMP:20260423T054601
CREATED:20240618T173711Z
LAST-MODIFIED:20240618T175625Z
UID:10003359-1739793600-1739795400@sistersosf.org
SUMMARY:Vigil for Racial Equality
DESCRIPTION:Join the Sylvania Franciscans in a meaningful bi-weekly vigil and take a stand for racial equality. Mondays and Wednesdays from 12:15pm – 12:30pm at the corner of Convent Blvd. and Main Street in Sylvania.
URL:https://sistersosf.org/event/vigil-for-racial-equality/2025-02-17/
CATEGORIES:Sisters of St. Francis
END:VEVENT
BEGIN:VEVENT
DTSTART;TZID=America/Detroit:20250218T080000
DTEND;TZID=America/Detroit:20250218T083000
DTSTAMP:20260423T054601
CREATED:20240612T141416Z
LAST-MODIFIED:20260304T133850Z
UID:10001627-1739865600-1739867400@sistersosf.org
SUMMARY:Mass
DESCRIPTION:Queen of Peace Chapel
URL:https://sistersosf.org/event/mass/2025-02-18/
LOCATION:Queen of Peace Chapel\, 6832 Convent Blvd.\, Sylvania\, OH\, 43560\, United States
CATEGORIES:Sisters of St. Francis
ATTACH;FMTTYPE=image/jpeg:https://sistersosf.org/wp-content/uploads/2024/06/OSF-Jubilee-Mass-2024-41-scaled.jpg
END:VEVENT
BEGIN:VEVENT
DTSTART;TZID=America/Detroit:20250219T080000
DTEND;TZID=America/Detroit:20250219T083000
DTSTAMP:20260423T054601
CREATED:20240612T141416Z
LAST-MODIFIED:20260304T133850Z
UID:10001628-1739952000-1739953800@sistersosf.org
SUMMARY:Mass
DESCRIPTION:Queen of Peace Chapel
URL:https://sistersosf.org/event/mass/2025-02-19/
LOCATION:Queen of Peace Chapel\, 6832 Convent Blvd.\, Sylvania\, OH\, 43560\, United States
CATEGORIES:Sisters of St. Francis
ATTACH;FMTTYPE=image/jpeg:https://sistersosf.org/wp-content/uploads/2024/06/OSF-Jubilee-Mass-2024-41-scaled.jpg
END:VEVENT
BEGIN:VEVENT
DTSTART;TZID=America/Detroit:20250219T113000
DTEND;TZID=America/Detroit:20250219T123000
DTSTAMP:20260423T054601
CREATED:20250102T205255Z
LAST-MODIFIED:20250102T205322Z
UID:10004068-1739964600-1739968200@sistersosf.org
SUMMARY:Lunch and Learn: Alzheimers Association
DESCRIPTION:
URL:https://sistersosf.org/event/lunch-and-learn-alzheimers-association/
LOCATION:Regina Conference Room\, 6832 Convent Blvd.\, Sylvania\, OH\, 43560
GEO:41.7096061;-83.708435
X-APPLE-STRUCTURED-LOCATION;VALUE=URI;X-ADDRESS=Regina Conference Room 6832 Convent Blvd. Sylvania OH 43560;X-APPLE-RADIUS=500;X-TITLE=6832 Convent Blvd.:geo:-83.708435,41.7096061
END:VEVENT
BEGIN:VEVENT
DTSTART;TZID=America/Detroit:20250219T120000
DTEND;TZID=America/Detroit:20250219T123000
DTSTAMP:20260423T054601
CREATED:20240618T173711Z
LAST-MODIFIED:20240618T175625Z
UID:10003360-1739966400-1739968200@sistersosf.org
SUMMARY:Vigil for Racial Equality
DESCRIPTION:Join the Sylvania Franciscans in a meaningful bi-weekly vigil and take a stand for racial equality. Mondays and Wednesdays from 12:15pm – 12:30pm at the corner of Convent Blvd. and Main Street in Sylvania.
URL:https://sistersosf.org/event/vigil-for-racial-equality/2025-02-19/
CATEGORIES:Sisters of St. Francis
END:VEVENT
BEGIN:VEVENT
DTSTART;TZID=America/Detroit:20250220T080000
DTEND;TZID=America/Detroit:20250220T083000
DTSTAMP:20260423T054601
CREATED:20240612T141416Z
LAST-MODIFIED:20260304T133850Z
UID:10001629-1740038400-1740040200@sistersosf.org
SUMMARY:Mass
DESCRIPTION:Queen of Peace Chapel
URL:https://sistersosf.org/event/mass/2025-02-20/
LOCATION:Queen of Peace Chapel\, 6832 Convent Blvd.\, Sylvania\, OH\, 43560\, United States
CATEGORIES:Sisters of St. Francis
ATTACH;FMTTYPE=image/jpeg:https://sistersosf.org/wp-content/uploads/2024/06/OSF-Jubilee-Mass-2024-41-scaled.jpg
END:VEVENT
BEGIN:VEVENT
DTSTART;TZID=America/Detroit:20250221T080000
DTEND;TZID=America/Detroit:20250221T083000
DTSTAMP:20260423T054601
CREATED:20240612T141416Z
LAST-MODIFIED:20260304T133850Z
UID:10001630-1740124800-1740126600@sistersosf.org
SUMMARY:Mass
DESCRIPTION:Queen of Peace Chapel
URL:https://sistersosf.org/event/mass/2025-02-21/
LOCATION:Queen of Peace Chapel\, 6832 Convent Blvd.\, Sylvania\, OH\, 43560\, United States
CATEGORIES:Sisters of St. Francis
ATTACH;FMTTYPE=image/jpeg:https://sistersosf.org/wp-content/uploads/2024/06/OSF-Jubilee-Mass-2024-41-scaled.jpg
END:VEVENT
BEGIN:VEVENT
DTSTART;TZID=America/Detroit:20250221T090000
DTEND;TZID=America/Detroit:20250221T100000
DTSTAMP:20260423T054601
CREATED:20250212T162920Z
LAST-MODIFIED:20250212T163042Z
UID:10004135-1740128400-1740132000@sistersosf.org
SUMMARY:Raising the Breakfast Bar
DESCRIPTION:In celebration of Heart Health Awareness Month\, employees and Sisters are invited to share a heart-healthy breakfast that raises the bar on flavor while lowering blood-pressure and cholesterol. Come for a casual breakfast featuring smoothies\, fresh juices\, muffins and delicious DYI granola bar.
URL:https://sistersosf.org/event/raising-the-breakfast-bar/
LOCATION:Regina Hall\, 6832 Convent Blvd.\, Sylvania\, 43560
CATEGORIES:Sisters of St. Francis
END:VEVENT
BEGIN:VEVENT
DTSTART;TZID=America/Detroit:20250221T170000
DTEND;TZID=America/Detroit:20250221T190000
DTSTAMP:20260423T054601
CREATED:20250130T164821Z
LAST-MODIFIED:20250130T164821Z
UID:10004090-1740157200-1740164400@sistersosf.org
SUMMARY:Ceramic Birdhouses & Bee Hotel Workshop
DESCRIPTION:Learn to design\, build\, and decorate your own birdhouse or bee hotel in this 3 weeks hands-on ceramic workshop. Not only will you create a functional and artistic piece\, but you’ll also contribute to aviary and pollinator preservation! \n\n\n\n\nCOST$95.00/Person \nWORKSHOP DETAILS \nDATES: FEBRUARY 21\, 28\, AND MARCH 14\, TIME: 5-7 P.M.\nLOCATION: CANTICLE CENTER #159\,\n5335 SILICA DR. SYLVANIA\, OHIO 43560 \n\n\n\nTO REGISTER GO TO: https://tinyurl.com/birdbhotel
URL:https://sistersosf.org/event/ceramic-birdhouses-bee-hotel-workshop/2025-02-21/
LOCATION:Canticle Center\, 5335 Silica Dr.\, Sylvania
ATTACH;FMTTYPE=application/pdf:https://sistersosf.org/wp-content/uploads/2025/01/BirdBeeHotels.pdf
END:VEVENT
BEGIN:VEVENT
DTSTART;TZID=America/Detroit:20250222T100000
DTEND;TZID=America/Detroit:20250222T100000
DTSTAMP:20260423T054601
CREATED:20250123T161134Z
LAST-MODIFIED:20250123T161134Z
UID:10004081-1740218400-1740218400@sistersosf.org
SUMMARY:Community Room: Ethic Saints
DESCRIPTION:
URL:https://sistersosf.org/event/community-room-ethic-saints/
LOCATION:Serra Hall\, 6832 Convent Blvd.\, Sylvania\, OH\, 43560
CATEGORIES:Sisters of St. Francis
END:VEVENT
END:VCALENDAR