BEGIN:VCALENDAR
VERSION:2.0
PRODID:-//Sisters of St. Francis of Sylvania, Ohio - ECPv6.13.2.1//NONSGML v1.0//EN
CALSCALE:GREGORIAN
METHOD:PUBLISH
X-ORIGINAL-URL:https://sistersosf.org
X-WR-CALDESC:Events for Sisters of St. Francis of Sylvania, Ohio
REFRESH-INTERVAL;VALUE=DURATION:PT1H
X-Robots-Tag:noindex
X-PUBLISHED-TTL:PT1H
BEGIN:VTIMEZONE
TZID:America/Detroit
BEGIN:DAYLIGHT
TZOFFSETFROM:-0500
TZOFFSETTO:-0400
TZNAME:EDT
DTSTART:20250309T070000
END:DAYLIGHT
BEGIN:STANDARD
TZOFFSETFROM:-0400
TZOFFSETTO:-0500
TZNAME:EST
DTSTART:20251102T060000
END:STANDARD
END:VTIMEZONE
BEGIN:VEVENT
DTSTART;VALUE=DATE:20250518
DTEND;VALUE=DATE:20250519
DTSTAMP:20260422T083317
CREATED:20250321T145954Z
LAST-MODIFIED:20250321T151131Z
UID:10004151-1747562400-1747562400@sistersosf.org
SUMMARY:Sunday Brunch with Omelet Bar
DESCRIPTION:Lourdes Dining Hall
URL:https://sistersosf.org/event/sunday-brunch-with-omelet-bar/2025-05-18/
END:VEVENT
BEGIN:VEVENT
DTSTART;TZID=America/Detroit:20250519T080000
DTEND;TZID=America/Detroit:20250519T083000
DTSTAMP:20260422T083317
CREATED:20240612T141416Z
LAST-MODIFIED:20260304T133850Z
UID:10001717-1747641600-1747643400@sistersosf.org
SUMMARY:Mass
DESCRIPTION:Queen of Peace Chapel
URL:https://sistersosf.org/event/mass/2025-05-19/
LOCATION:Queen of Peace Chapel\, 6832 Convent Blvd.\, Sylvania\, OH\, 43560\, United States
CATEGORIES:Sisters of St. Francis
ATTACH;FMTTYPE=image/jpeg:https://sistersosf.org/wp-content/uploads/2024/06/OSF-Jubilee-Mass-2024-41-scaled.jpg
END:VEVENT
BEGIN:VEVENT
DTSTART;TZID=America/Detroit:20250519T120000
DTEND;TZID=America/Detroit:20250519T123000
DTSTAMP:20260422T083318
CREATED:20240618T173711Z
LAST-MODIFIED:20240618T175625Z
UID:10003385-1747656000-1747657800@sistersosf.org
SUMMARY:Vigil for Racial Equality
DESCRIPTION:Join the Sylvania Franciscans in a meaningful bi-weekly vigil and take a stand for racial equality. Mondays and Wednesdays from 12:15pm – 12:30pm at the corner of Convent Blvd. and Main Street in Sylvania.
URL:https://sistersosf.org/event/vigil-for-racial-equality/2025-05-19/
CATEGORIES:Sisters of St. Francis
END:VEVENT
BEGIN:VEVENT
DTSTART;TZID=America/Detroit:20250520T080000
DTEND;TZID=America/Detroit:20250520T083000
DTSTAMP:20260422T083318
CREATED:20240612T141416Z
LAST-MODIFIED:20260304T133850Z
UID:10001718-1747728000-1747729800@sistersosf.org
SUMMARY:Mass
DESCRIPTION:Queen of Peace Chapel
URL:https://sistersosf.org/event/mass/2025-05-20/
LOCATION:Queen of Peace Chapel\, 6832 Convent Blvd.\, Sylvania\, OH\, 43560\, United States
CATEGORIES:Sisters of St. Francis
ATTACH;FMTTYPE=image/jpeg:https://sistersosf.org/wp-content/uploads/2024/06/OSF-Jubilee-Mass-2024-41-scaled.jpg
END:VEVENT
BEGIN:VEVENT
DTSTART;TZID=America/Detroit:20250521T080000
DTEND;TZID=America/Detroit:20250521T083000
DTSTAMP:20260422T083318
CREATED:20240612T141416Z
LAST-MODIFIED:20260304T133850Z
UID:10001719-1747814400-1747816200@sistersosf.org
SUMMARY:Mass
DESCRIPTION:Queen of Peace Chapel
URL:https://sistersosf.org/event/mass/2025-05-21/
LOCATION:Queen of Peace Chapel\, 6832 Convent Blvd.\, Sylvania\, OH\, 43560\, United States
CATEGORIES:Sisters of St. Francis
ATTACH;FMTTYPE=image/jpeg:https://sistersosf.org/wp-content/uploads/2024/06/OSF-Jubilee-Mass-2024-41-scaled.jpg
END:VEVENT
BEGIN:VEVENT
DTSTART;TZID=America/Detroit:20250521T120000
DTEND;TZID=America/Detroit:20250521T123000
DTSTAMP:20260422T083318
CREATED:20240618T173711Z
LAST-MODIFIED:20240618T175625Z
UID:10003386-1747828800-1747830600@sistersosf.org
SUMMARY:Vigil for Racial Equality
DESCRIPTION:Join the Sylvania Franciscans in a meaningful bi-weekly vigil and take a stand for racial equality. Mondays and Wednesdays from 12:15pm – 12:30pm at the corner of Convent Blvd. and Main Street in Sylvania.
URL:https://sistersosf.org/event/vigil-for-racial-equality/2025-05-21/
CATEGORIES:Sisters of St. Francis
END:VEVENT
BEGIN:VEVENT
DTSTART;TZID=America/Detroit:20250521T140000
DTEND;TZID=America/Detroit:20250521T140000
DTSTAMP:20260422T083318
CREATED:20250520T141228Z
LAST-MODIFIED:20250520T141228Z
UID:10004187-1747836000-1747836000@sistersosf.org
SUMMARY:Adopt a Flowerpot
DESCRIPTION:Join the LoC Committee as they find new homes for reusable plastic flowerpots.
URL:https://sistersosf.org/event/adopt-a-flowerpot/
CATEGORIES:Sisters of St. Francis
ATTACH;FMTTYPE=image/jpeg:https://sistersosf.org/wp-content/uploads/2025/05/Adopt-a-Flowerpot.jpg
END:VEVENT
BEGIN:VEVENT
DTSTART;TZID=America/Detroit:20250522T080000
DTEND;TZID=America/Detroit:20250522T083000
DTSTAMP:20260422T083318
CREATED:20240612T141416Z
LAST-MODIFIED:20260304T133850Z
UID:10001720-1747900800-1747902600@sistersosf.org
SUMMARY:Mass
DESCRIPTION:Queen of Peace Chapel
URL:https://sistersosf.org/event/mass/2025-05-22/
LOCATION:Queen of Peace Chapel\, 6832 Convent Blvd.\, Sylvania\, OH\, 43560\, United States
CATEGORIES:Sisters of St. Francis
ATTACH;FMTTYPE=image/jpeg:https://sistersosf.org/wp-content/uploads/2024/06/OSF-Jubilee-Mass-2024-41-scaled.jpg
END:VEVENT
BEGIN:VEVENT
DTSTART;TZID=America/Detroit:20250522T100000
DTEND;TZID=America/Detroit:20250522T130000
DTSTAMP:20260422T083318
CREATED:20250514T132021Z
LAST-MODIFIED:20250514T132021Z
UID:10004164-1747908000-1747918800@sistersosf.org
SUMMARY:Reflective Walks with Sister Joan
DESCRIPTION:
URL:https://sistersosf.org/event/reflective-walks-with-sister-joan/
CATEGORIES:Sisters of St. Francis
ATTACH;FMTTYPE=image/jpeg:https://sistersosf.org/wp-content/uploads/2025/04/Reflective-Walk-with-Sister-Joan-2025-copy.jpg
END:VEVENT
BEGIN:VEVENT
DTSTART;TZID=America/Detroit:20250522T153000
DTEND;TZID=America/Detroit:20250522T163000
DTSTAMP:20260422T083318
CREATED:20250514T133140Z
LAST-MODIFIED:20250514T133140Z
UID:10004166-1747927800-1747931400@sistersosf.org
SUMMARY:Grateful Harvest Community Garden
DESCRIPTION:
URL:https://sistersosf.org/event/grateful-harvest-community-garden/2025-05-22/
ATTACH;FMTTYPE=image/jpeg:https://sistersosf.org/wp-content/uploads/2024/06/lets-get-gardening.jpg
END:VEVENT
BEGIN:VEVENT
DTSTART;TZID=America/Detroit:20250523T080000
DTEND;TZID=America/Detroit:20250523T083000
DTSTAMP:20260422T083318
CREATED:20240612T141416Z
LAST-MODIFIED:20260304T133850Z
UID:10001721-1747987200-1747989000@sistersosf.org
SUMMARY:Mass
DESCRIPTION:Queen of Peace Chapel
URL:https://sistersosf.org/event/mass/2025-05-23/
LOCATION:Queen of Peace Chapel\, 6832 Convent Blvd.\, Sylvania\, OH\, 43560\, United States
CATEGORIES:Sisters of St. Francis
ATTACH;FMTTYPE=image/jpeg:https://sistersosf.org/wp-content/uploads/2024/06/OSF-Jubilee-Mass-2024-41-scaled.jpg
END:VEVENT
END:VCALENDAR