BEGIN:VCALENDAR
VERSION:2.0
PRODID:-//Sisters of St. Francis of Sylvania, Ohio - ECPv6.13.2.1//NONSGML v1.0//EN
CALSCALE:GREGORIAN
METHOD:PUBLISH
X-ORIGINAL-URL:https://sistersosf.org
X-WR-CALDESC:Events for Sisters of St. Francis of Sylvania, Ohio
REFRESH-INTERVAL;VALUE=DURATION:PT1H
X-Robots-Tag:noindex
X-PUBLISHED-TTL:PT1H
BEGIN:VTIMEZONE
TZID:America/Detroit
BEGIN:DAYLIGHT
TZOFFSETFROM:-0500
TZOFFSETTO:-0400
TZNAME:EDT
DTSTART:20250309T070000
END:DAYLIGHT
BEGIN:STANDARD
TZOFFSETFROM:-0400
TZOFFSETTO:-0500
TZNAME:EST
DTSTART:20251102T060000
END:STANDARD
END:VTIMEZONE
BEGIN:VEVENT
DTSTART;TZID=America/Detroit:20250728T080000
DTEND;TZID=America/Detroit:20250728T083000
DTSTAMP:20260421T112414
CREATED:20240612T141416Z
LAST-MODIFIED:20260304T133850Z
UID:10001787-1753689600-1753691400@sistersosf.org
SUMMARY:Mass
DESCRIPTION:Queen of Peace Chapel
URL:https://sistersosf.org/event/mass/2025-07-28/
LOCATION:Queen of Peace Chapel\, 6832 Convent Blvd.\, Sylvania\, OH\, 43560\, United States
CATEGORIES:Sisters of St. Francis
ATTACH;FMTTYPE=image/jpeg:https://sistersosf.org/wp-content/uploads/2024/06/OSF-Jubilee-Mass-2024-41-scaled.jpg
END:VEVENT
BEGIN:VEVENT
DTSTART;TZID=America/Detroit:20250728T120000
DTEND;TZID=America/Detroit:20250728T123000
DTSTAMP:20260421T112414
CREATED:20240618T173711Z
LAST-MODIFIED:20240618T175625Z
UID:10003405-1753704000-1753705800@sistersosf.org
SUMMARY:Vigil for Racial Equality
DESCRIPTION:Join the Sylvania Franciscans in a meaningful bi-weekly vigil and take a stand for racial equality. Mondays and Wednesdays from 12:15pm – 12:30pm at the corner of Convent Blvd. and Main Street in Sylvania.
URL:https://sistersosf.org/event/vigil-for-racial-equality/2025-07-28/
LOCATION:OH
CATEGORIES:Sisters of St. Francis
END:VEVENT
BEGIN:VEVENT
DTSTART;TZID=America/Detroit:20250729T080000
DTEND;TZID=America/Detroit:20250729T083000
DTSTAMP:20260421T112414
CREATED:20240612T141416Z
LAST-MODIFIED:20260304T133850Z
UID:10001788-1753776000-1753777800@sistersosf.org
SUMMARY:Mass
DESCRIPTION:Queen of Peace Chapel
URL:https://sistersosf.org/event/mass/2025-07-29/
LOCATION:Queen of Peace Chapel\, 6832 Convent Blvd.\, Sylvania\, OH\, 43560\, United States
CATEGORIES:Sisters of St. Francis
ATTACH;FMTTYPE=image/jpeg:https://sistersosf.org/wp-content/uploads/2024/06/OSF-Jubilee-Mass-2024-41-scaled.jpg
END:VEVENT
BEGIN:VEVENT
DTSTART;TZID=America/Detroit:20250730T080000
DTEND;TZID=America/Detroit:20250730T083000
DTSTAMP:20260421T112414
CREATED:20240612T141416Z
LAST-MODIFIED:20260304T133850Z
UID:10001789-1753862400-1753864200@sistersosf.org
SUMMARY:Mass
DESCRIPTION:Queen of Peace Chapel
URL:https://sistersosf.org/event/mass/2025-07-30/
LOCATION:Queen of Peace Chapel\, 6832 Convent Blvd.\, Sylvania\, OH\, 43560\, United States
CATEGORIES:Sisters of St. Francis
ATTACH;FMTTYPE=image/jpeg:https://sistersosf.org/wp-content/uploads/2024/06/OSF-Jubilee-Mass-2024-41-scaled.jpg
END:VEVENT
BEGIN:VEVENT
DTSTART;TZID=America/Detroit:20250730T120000
DTEND;TZID=America/Detroit:20250730T123000
DTSTAMP:20260421T112414
CREATED:20240618T173711Z
LAST-MODIFIED:20240618T175625Z
UID:10003406-1753876800-1753878600@sistersosf.org
SUMMARY:Vigil for Racial Equality
DESCRIPTION:Join the Sylvania Franciscans in a meaningful bi-weekly vigil and take a stand for racial equality. Mondays and Wednesdays from 12:15pm – 12:30pm at the corner of Convent Blvd. and Main Street in Sylvania.
URL:https://sistersosf.org/event/vigil-for-racial-equality/2025-07-30/
LOCATION:OH
CATEGORIES:Sisters of St. Francis
END:VEVENT
BEGIN:VEVENT
DTSTART;TZID=America/Detroit:20250731T080000
DTEND;TZID=America/Detroit:20250731T083000
DTSTAMP:20260421T112414
CREATED:20240612T141416Z
LAST-MODIFIED:20260304T133850Z
UID:10001790-1753948800-1753950600@sistersosf.org
SUMMARY:Mass
DESCRIPTION:Queen of Peace Chapel
URL:https://sistersosf.org/event/mass/2025-07-31/
LOCATION:Queen of Peace Chapel\, 6832 Convent Blvd.\, Sylvania\, OH\, 43560\, United States
CATEGORIES:Sisters of St. Francis
ATTACH;FMTTYPE=image/jpeg:https://sistersosf.org/wp-content/uploads/2024/06/OSF-Jubilee-Mass-2024-41-scaled.jpg
END:VEVENT
BEGIN:VEVENT
DTSTART;TZID=America/Detroit:20250731T153000
DTEND;TZID=America/Detroit:20250731T163000
DTSTAMP:20260421T112414
CREATED:20250514T133140Z
LAST-MODIFIED:20250514T133140Z
UID:10004176-1753975800-1753979400@sistersosf.org
SUMMARY:Grateful Harvest Community Garden
DESCRIPTION:
URL:https://sistersosf.org/event/grateful-harvest-community-garden/2025-07-31/
LOCATION:OH
ATTACH;FMTTYPE=image/jpeg:https://sistersosf.org/wp-content/uploads/2024/06/lets-get-gardening.jpg
END:VEVENT
BEGIN:VEVENT
DTSTART;TZID=America/Detroit:20250801T080000
DTEND;TZID=America/Detroit:20250801T083000
DTSTAMP:20260421T112414
CREATED:20240612T141416Z
LAST-MODIFIED:20260304T133850Z
UID:10001791-1754035200-1754037000@sistersosf.org
SUMMARY:Mass
DESCRIPTION:Queen of Peace Chapel
URL:https://sistersosf.org/event/mass/2025-08-01/
LOCATION:Queen of Peace Chapel\, 6832 Convent Blvd.\, Sylvania\, OH\, 43560\, United States
CATEGORIES:Sisters of St. Francis
ATTACH;FMTTYPE=image/jpeg:https://sistersosf.org/wp-content/uploads/2024/06/OSF-Jubilee-Mass-2024-41-scaled.jpg
END:VEVENT
BEGIN:VEVENT
DTSTART;TZID=America/Detroit:20250801T130000
DTEND;TZID=America/Detroit:20250801T150000
DTSTAMP:20260421T112414
CREATED:20240617T153230Z
LAST-MODIFIED:20240912T120824Z
UID:10003227-1754053200-1754060400@sistersosf.org
SUMMARY:Sr. Roselynn’s Tea & Teach Cards
DESCRIPTION:Join Sister Roselynn for tea and learn a few new skills! \n\n\n\nRSVP : 419-824-3749
URL:https://sistersosf.org/event/sr-roselynns-tea-teach-cards/2025-08-01/
LOCATION:All Good Things Art & Gifts\, 6832 Convent Rd\, Umbria Hall\, Sylvania\, OH\, 43560
CATEGORIES:Sisters of St. Francis
ATTACH;FMTTYPE=image/jpeg:https://sistersosf.org/wp-content/uploads/2024/06/458405064_1397807384477335_2525615199903980645_n.jpg
END:VEVENT
BEGIN:VEVENT
DTSTART;TZID=America/Detroit:20250801T140000
DTEND;TZID=America/Detroit:20250801T150000
DTSTAMP:20260421T112414
CREATED:20250724T122533Z
LAST-MODIFIED:20250724T122533Z
UID:10004460-1754056800-1754060400@sistersosf.org
SUMMARY:Mark Ball Retirement Party
DESCRIPTION:
URL:https://sistersosf.org/event/mark-ball-retirement-party/
LOCATION:Serra Hall\, 6832 Convent Blvd.\, Sylvania\, OH\, 43560
CATEGORIES:Sisters of St. Francis
ATTACH;FMTTYPE=image/jpeg:https://sistersosf.org/wp-content/uploads/2025/07/Mark-Ball-Retirement-Party.jpg
END:VEVENT
END:VCALENDAR