BEGIN:VCALENDAR
VERSION:2.0
PRODID:-//Sisters of St. Francis of Sylvania, Ohio - ECPv6.13.2.1//NONSGML v1.0//EN
CALSCALE:GREGORIAN
METHOD:PUBLISH
X-WR-CALNAME:Sisters of St. Francis of Sylvania, Ohio
X-ORIGINAL-URL:https://sistersosf.org
X-WR-CALDESC:Events for Sisters of St. Francis of Sylvania, Ohio
REFRESH-INTERVAL;VALUE=DURATION:PT1H
X-Robots-Tag:noindex
X-PUBLISHED-TTL:PT1H
BEGIN:VTIMEZONE
TZID:America/Detroit
BEGIN:DAYLIGHT
TZOFFSETFROM:-0500
TZOFFSETTO:-0400
TZNAME:EDT
DTSTART:20250309T070000
END:DAYLIGHT
BEGIN:STANDARD
TZOFFSETFROM:-0400
TZOFFSETTO:-0500
TZNAME:EST
DTSTART:20251102T060000
END:STANDARD
END:VTIMEZONE
BEGIN:VEVENT
DTSTART;TZID=America/Detroit:20251020T080000
DTEND;TZID=America/Detroit:20251020T083000
DTSTAMP:20260423T063316
CREATED:20240612T141416Z
LAST-MODIFIED:20260304T133850Z
UID:10001871-1760947200-1760949000@sistersosf.org
SUMMARY:Mass
DESCRIPTION:Queen of Peace Chapel
URL:https://sistersosf.org/event/mass/2025-10-20/
LOCATION:Queen of Peace Chapel\, 6832 Convent Blvd.\, Sylvania\, OH\, 43560\, United States
CATEGORIES:Sisters of St. Francis
ATTACH;FMTTYPE=image/jpeg:https://sistersosf.org/wp-content/uploads/2024/06/OSF-Jubilee-Mass-2024-41-scaled.jpg
END:VEVENT
BEGIN:VEVENT
DTSTART;TZID=America/Detroit:20251020T120000
DTEND;TZID=America/Detroit:20251020T123000
DTSTAMP:20260423T063316
CREATED:20240618T173711Z
LAST-MODIFIED:20240618T175625Z
UID:10003429-1760961600-1760963400@sistersosf.org
SUMMARY:Vigil for Racial Equality
DESCRIPTION:Join the Sylvania Franciscans in a meaningful bi-weekly vigil and take a stand for racial equality. Mondays and Wednesdays from 12:15pm – 12:30pm at the corner of Convent Blvd. and Main Street in Sylvania.
URL:https://sistersosf.org/event/vigil-for-racial-equality/2025-10-20/
CATEGORIES:Sisters of St. Francis
END:VEVENT
BEGIN:VEVENT
DTSTART;TZID=America/Detroit:20251021T080000
DTEND;TZID=America/Detroit:20251021T083000
DTSTAMP:20260423T063316
CREATED:20240612T141416Z
LAST-MODIFIED:20260304T133850Z
UID:10001872-1761033600-1761035400@sistersosf.org
SUMMARY:Mass
DESCRIPTION:Queen of Peace Chapel
URL:https://sistersosf.org/event/mass/2025-10-21/
LOCATION:Queen of Peace Chapel\, 6832 Convent Blvd.\, Sylvania\, OH\, 43560\, United States
CATEGORIES:Sisters of St. Francis
ATTACH;FMTTYPE=image/jpeg:https://sistersosf.org/wp-content/uploads/2024/06/OSF-Jubilee-Mass-2024-41-scaled.jpg
END:VEVENT
BEGIN:VEVENT
DTSTART;TZID=America/Detroit:20251022T080000
DTEND;TZID=America/Detroit:20251022T083000
DTSTAMP:20260423T063316
CREATED:20240612T141416Z
LAST-MODIFIED:20260304T133850Z
UID:10001873-1761120000-1761121800@sistersosf.org
SUMMARY:Mass
DESCRIPTION:Queen of Peace Chapel
URL:https://sistersosf.org/event/mass/2025-10-22/
LOCATION:Queen of Peace Chapel\, 6832 Convent Blvd.\, Sylvania\, OH\, 43560\, United States
CATEGORIES:Sisters of St. Francis
ATTACH;FMTTYPE=image/jpeg:https://sistersosf.org/wp-content/uploads/2024/06/OSF-Jubilee-Mass-2024-41-scaled.jpg
END:VEVENT
BEGIN:VEVENT
DTSTART;TZID=America/Detroit:20251022T113000
DTEND;TZID=America/Detroit:20251022T130000
DTSTAMP:20260423T063316
CREATED:20250825T182329Z
LAST-MODIFIED:20250825T182602Z
UID:10004497-1761132600-1761138000@sistersosf.org
SUMMARY:Who are your neighbors?
DESCRIPTION:All are welcome to a lunch and learn to meet local churches and learn what they do and what their spiritual practices are. Bring your own lunch. Beverages provided.
URL:https://sistersosf.org/event/who-are-your-neighbors/
LOCATION:Regina Conference Room\, 6832 Convent Blvd\, Sylvania\, OH\, United States
GEO:41.7105685;-83.7052723
X-APPLE-STRUCTURED-LOCATION;VALUE=URI;X-ADDRESS=Regina Conference Room 6832 Convent Blvd Sylvania OH United States;X-APPLE-RADIUS=500;X-TITLE=6832 Convent Blvd:geo:-83.7052723,41.7105685
END:VEVENT
BEGIN:VEVENT
DTSTART;TZID=America/Detroit:20251022T120000
DTEND;TZID=America/Detroit:20251022T123000
DTSTAMP:20260423T063316
CREATED:20240618T173711Z
LAST-MODIFIED:20240618T175625Z
UID:10003430-1761134400-1761136200@sistersosf.org
SUMMARY:Vigil for Racial Equality
DESCRIPTION:Join the Sylvania Franciscans in a meaningful bi-weekly vigil and take a stand for racial equality. Mondays and Wednesdays from 12:15pm – 12:30pm at the corner of Convent Blvd. and Main Street in Sylvania.
URL:https://sistersosf.org/event/vigil-for-racial-equality/2025-10-22/
CATEGORIES:Sisters of St. Francis
END:VEVENT
BEGIN:VEVENT
DTSTART;TZID=America/Detroit:20251023T080000
DTEND;TZID=America/Detroit:20251023T083000
DTSTAMP:20260423T063316
CREATED:20240612T141416Z
LAST-MODIFIED:20260304T133850Z
UID:10001874-1761206400-1761208200@sistersosf.org
SUMMARY:Mass
DESCRIPTION:Queen of Peace Chapel
URL:https://sistersosf.org/event/mass/2025-10-23/
LOCATION:Queen of Peace Chapel\, 6832 Convent Blvd.\, Sylvania\, OH\, 43560\, United States
CATEGORIES:Sisters of St. Francis
ATTACH;FMTTYPE=image/jpeg:https://sistersosf.org/wp-content/uploads/2024/06/OSF-Jubilee-Mass-2024-41-scaled.jpg
END:VEVENT
BEGIN:VEVENT
DTSTART;TZID=America/Detroit:20251024T080000
DTEND;TZID=America/Detroit:20251024T083000
DTSTAMP:20260423T063316
CREATED:20240612T141416Z
LAST-MODIFIED:20260304T133850Z
UID:10001875-1761292800-1761294600@sistersosf.org
SUMMARY:Mass
DESCRIPTION:Queen of Peace Chapel
URL:https://sistersosf.org/event/mass/2025-10-24/
LOCATION:Queen of Peace Chapel\, 6832 Convent Blvd.\, Sylvania\, OH\, 43560\, United States
CATEGORIES:Sisters of St. Francis
ATTACH;FMTTYPE=image/jpeg:https://sistersosf.org/wp-content/uploads/2024/06/OSF-Jubilee-Mass-2024-41-scaled.jpg
END:VEVENT
END:VCALENDAR