BEGIN:VCALENDAR
VERSION:2.0
PRODID:-//Sisters of St. Francis of Sylvania, Ohio - ECPv6.13.2.1//NONSGML v1.0//EN
CALSCALE:GREGORIAN
METHOD:PUBLISH
X-ORIGINAL-URL:https://sistersosf.org
X-WR-CALDESC:Events for Sisters of St. Francis of Sylvania, Ohio
REFRESH-INTERVAL;VALUE=DURATION:PT1H
X-Robots-Tag:noindex
X-PUBLISHED-TTL:PT1H
BEGIN:VTIMEZONE
TZID:America/Detroit
BEGIN:DAYLIGHT
TZOFFSETFROM:-0500
TZOFFSETTO:-0400
TZNAME:EDT
DTSTART:20260308T070000
END:DAYLIGHT
BEGIN:STANDARD
TZOFFSETFROM:-0400
TZOFFSETTO:-0500
TZNAME:EST
DTSTART:20261101T060000
END:STANDARD
END:VTIMEZONE
BEGIN:VEVENT
DTSTART;TZID=America/Detroit:20260105T080000
DTEND;TZID=America/Detroit:20260105T083000
DTSTAMP:20260425T184834
CREATED:20240612T141416Z
LAST-MODIFIED:20260304T133850Z
UID:10001948-1767600000-1767601800@sistersosf.org
SUMMARY:Mass
DESCRIPTION:Queen of Peace Chapel
URL:https://sistersosf.org/event/mass/2026-01-05/
LOCATION:Queen of Peace Chapel\, 6832 Convent Blvd.\, Sylvania\, OH\, 43560\, United States
CATEGORIES:Sisters of St. Francis
ATTACH;FMTTYPE=image/jpeg:https://sistersosf.org/wp-content/uploads/2024/06/OSF-Jubilee-Mass-2024-41-scaled.jpg
END:VEVENT
BEGIN:VEVENT
DTSTART;TZID=America/Detroit:20260105T120000
DTEND;TZID=America/Detroit:20260105T123000
DTSTAMP:20260425T184834
CREATED:20240618T173711Z
LAST-MODIFIED:20240618T175625Z
UID:10003451-1767614400-1767616200@sistersosf.org
SUMMARY:Vigil for Racial Equality
DESCRIPTION:Join the Sylvania Franciscans in a meaningful bi-weekly vigil and take a stand for racial equality. Mondays and Wednesdays from 12:15pm – 12:30pm at the corner of Convent Blvd. and Main Street in Sylvania.
URL:https://sistersosf.org/event/vigil-for-racial-equality/2026-01-05/
CATEGORIES:Sisters of St. Francis
END:VEVENT
BEGIN:VEVENT
DTSTART;TZID=America/Detroit:20260105T163000
DTEND;TZID=America/Detroit:20260105T170000
DTSTAMP:20260425T184834
CREATED:20251217T163000Z
LAST-MODIFIED:20251217T163000Z
UID:10004728-1767630600-1767632400@sistersosf.org
SUMMARY:Franciscan Prayer
DESCRIPTION:
URL:https://sistersosf.org/event/franciscan-prayer/
LOCATION:Queen of Peace Chapel\, 6832 Convent Blvd.
CATEGORIES:Sisters of St. Francis
ATTACH;FMTTYPE=image/jpeg:https://sistersosf.org/wp-content/uploads/2025/12/Queen-of-Peace-Chapel-above-from-choir-loft.jpg
END:VEVENT
BEGIN:VEVENT
DTSTART;TZID=America/Detroit:20260106T080000
DTEND;TZID=America/Detroit:20260106T083000
DTSTAMP:20260425T184834
CREATED:20240612T141416Z
LAST-MODIFIED:20260304T133850Z
UID:10001949-1767686400-1767688200@sistersosf.org
SUMMARY:Mass
DESCRIPTION:Queen of Peace Chapel
URL:https://sistersosf.org/event/mass/2026-01-06/
LOCATION:Queen of Peace Chapel\, 6832 Convent Blvd.\, Sylvania\, OH\, 43560\, United States
CATEGORIES:Sisters of St. Francis
ATTACH;FMTTYPE=image/jpeg:https://sistersosf.org/wp-content/uploads/2024/06/OSF-Jubilee-Mass-2024-41-scaled.jpg
END:VEVENT
BEGIN:VEVENT
DTSTART;TZID=America/Detroit:20260107T080000
DTEND;TZID=America/Detroit:20260107T083000
DTSTAMP:20260425T184834
CREATED:20240612T141416Z
LAST-MODIFIED:20260304T133850Z
UID:10001950-1767772800-1767774600@sistersosf.org
SUMMARY:Mass
DESCRIPTION:Queen of Peace Chapel
URL:https://sistersosf.org/event/mass/2026-01-07/
LOCATION:Queen of Peace Chapel\, 6832 Convent Blvd.\, Sylvania\, OH\, 43560\, United States
CATEGORIES:Sisters of St. Francis
ATTACH;FMTTYPE=image/jpeg:https://sistersosf.org/wp-content/uploads/2024/06/OSF-Jubilee-Mass-2024-41-scaled.jpg
END:VEVENT
BEGIN:VEVENT
DTSTART;TZID=America/Detroit:20260107T120000
DTEND;TZID=America/Detroit:20260107T123000
DTSTAMP:20260425T184834
CREATED:20240618T173711Z
LAST-MODIFIED:20240618T175625Z
UID:10003452-1767787200-1767789000@sistersosf.org
SUMMARY:Vigil for Racial Equality
DESCRIPTION:Join the Sylvania Franciscans in a meaningful bi-weekly vigil and take a stand for racial equality. Mondays and Wednesdays from 12:15pm – 12:30pm at the corner of Convent Blvd. and Main Street in Sylvania.
URL:https://sistersosf.org/event/vigil-for-racial-equality/2026-01-07/
CATEGORIES:Sisters of St. Francis
END:VEVENT
BEGIN:VEVENT
DTSTART;TZID=America/Detroit:20260108T080000
DTEND;TZID=America/Detroit:20260108T083000
DTSTAMP:20260425T184834
CREATED:20240612T141416Z
LAST-MODIFIED:20260304T133850Z
UID:10001951-1767859200-1767861000@sistersosf.org
SUMMARY:Mass
DESCRIPTION:Queen of Peace Chapel
URL:https://sistersosf.org/event/mass/2026-01-08/
LOCATION:Queen of Peace Chapel\, 6832 Convent Blvd.\, Sylvania\, OH\, 43560\, United States
CATEGORIES:Sisters of St. Francis
ATTACH;FMTTYPE=image/jpeg:https://sistersosf.org/wp-content/uploads/2024/06/OSF-Jubilee-Mass-2024-41-scaled.jpg
END:VEVENT
BEGIN:VEVENT
DTSTART;TZID=America/Detroit:20260108T110000
DTEND;TZID=America/Detroit:20260108T110000
DTSTAMP:20260425T184834
CREATED:20251217T171246Z
LAST-MODIFIED:20251217T171246Z
UID:10004731-1767870000-1767870000@sistersosf.org
SUMMARY:Lectio Divina
DESCRIPTION:
URL:https://sistersosf.org/event/lectio-divina/
LOCATION:All Saints Room\, 6832 Convent Blvd. (Madonna Hall)\, Sylvania\, OH\, 43560\, United States
END:VEVENT
BEGIN:VEVENT
DTSTART;TZID=America/Detroit:20260109T080000
DTEND;TZID=America/Detroit:20260109T083000
DTSTAMP:20260425T184834
CREATED:20240612T141416Z
LAST-MODIFIED:20260304T133850Z
UID:10001952-1767945600-1767947400@sistersosf.org
SUMMARY:Mass
DESCRIPTION:Queen of Peace Chapel
URL:https://sistersosf.org/event/mass/2026-01-09/
LOCATION:Queen of Peace Chapel\, 6832 Convent Blvd.\, Sylvania\, OH\, 43560\, United States
CATEGORIES:Sisters of St. Francis
ATTACH;FMTTYPE=image/jpeg:https://sistersosf.org/wp-content/uploads/2024/06/OSF-Jubilee-Mass-2024-41-scaled.jpg
END:VEVENT
END:VCALENDAR