BEGIN:VCALENDAR
VERSION:2.0
PRODID:-//Sisters of St. Francis of Sylvania, Ohio - ECPv6.13.2.1//NONSGML v1.0//EN
CALSCALE:GREGORIAN
METHOD:PUBLISH
X-ORIGINAL-URL:https://sistersosf.org
X-WR-CALDESC:Events for Sisters of St. Francis of Sylvania, Ohio
REFRESH-INTERVAL;VALUE=DURATION:PT1H
X-Robots-Tag:noindex
X-PUBLISHED-TTL:PT1H
BEGIN:VTIMEZONE
TZID:America/Detroit
BEGIN:DAYLIGHT
TZOFFSETFROM:-0500
TZOFFSETTO:-0400
TZNAME:EDT
DTSTART:20200308T070000
END:DAYLIGHT
BEGIN:STANDARD
TZOFFSETFROM:-0400
TZOFFSETTO:-0500
TZNAME:EST
DTSTART:20201101T060000
END:STANDARD
END:VTIMEZONE
BEGIN:VEVENT
DTSTART;TZID=America/Detroit:20200207T130000
DTEND;TZID=America/Detroit:20200207T150000
DTSTAMP:20260421T110953
CREATED:20191015T180547Z
LAST-MODIFIED:20191015T181023Z
UID:10000721-1581080400-1581087600@sistersosf.org
SUMMARY:Make and Take Valentine's Day cards
DESCRIPTION:Make a sweet card for a loved one! Email to reserve your spot.
URL:https://sistersosf.org/event/make-and-take-valentines-day-cards/
LOCATION:All Good Things Art & Gifts
ATTACH;FMTTYPE=image/png:https://sistersosf.org/wp-content/uploads/2019/10/love-you-.png
ORGANIZER;CN="Sister Roselynn Humbert":MAILTO:rhumbert@sistersosf.org
END:VEVENT
END:VCALENDAR