BEGIN:VCALENDAR
VERSION:2.0
PRODID:-//Sisters of St. Francis of Sylvania, Ohio - ECPv6.13.2.1//NONSGML v1.0//EN
CALSCALE:GREGORIAN
METHOD:PUBLISH
X-ORIGINAL-URL:https://sistersosf.org
X-WR-CALDESC:Events for Sisters of St. Francis of Sylvania, Ohio
REFRESH-INTERVAL;VALUE=DURATION:PT1H
X-Robots-Tag:noindex
X-PUBLISHED-TTL:PT1H
BEGIN:VTIMEZONE
TZID:America/Detroit
BEGIN:DAYLIGHT
TZOFFSETFROM:-0500
TZOFFSETTO:-0400
TZNAME:EDT
DTSTART:20200308T070000
END:DAYLIGHT
BEGIN:STANDARD
TZOFFSETFROM:-0400
TZOFFSETTO:-0500
TZNAME:EST
DTSTART:20201101T060000
END:STANDARD
END:VTIMEZONE
BEGIN:VEVENT
DTSTART;TZID=America/Detroit:20200214T130000
DTEND;TZID=America/Detroit:20200214T150000
DTSTAMP:20260422T094639
CREATED:20191015T181418Z
LAST-MODIFIED:20191015T181452Z
UID:10000722-1581685200-1581692400@sistersosf.org
SUMMARY:Make and Take a hand-painted silk scarf
DESCRIPTION:Taught by artist\, Sr. Sharon Havelak. Reserve your spot!
URL:https://sistersosf.org/event/make-and-take-a-hand-painted-silk-scarf/
LOCATION:All Good Things Art & Gifts\, 6832 Convent Rd \, Sylvania\, OH\, 43560
ORGANIZER;CN="Unnamed Organizer":MAILTO:jwhitmore@sistersosf.org
END:VEVENT
END:VCALENDAR