BEGIN:VCALENDAR
VERSION:2.0
PRODID:-//Sisters of St. Francis of Sylvania, Ohio - ECPv6.13.2.1//NONSGML v1.0//EN
CALSCALE:GREGORIAN
METHOD:PUBLISH
X-ORIGINAL-URL:https://sistersosf.org
X-WR-CALDESC:Events for Sisters of St. Francis of Sylvania, Ohio
REFRESH-INTERVAL;VALUE=DURATION:PT1H
X-Robots-Tag:noindex
X-PUBLISHED-TTL:PT1H
BEGIN:VTIMEZONE
TZID:America/Detroit
BEGIN:DAYLIGHT
TZOFFSETFROM:-0500
TZOFFSETTO:-0400
TZNAME:EDT
DTSTART:20200308T070000
END:DAYLIGHT
BEGIN:STANDARD
TZOFFSETFROM:-0400
TZOFFSETTO:-0500
TZNAME:EST
DTSTART:20201101T060000
END:STANDARD
END:VTIMEZONE
BEGIN:VEVENT
DTSTART;TZID=America/Detroit:20200121T193000
DTEND;TZID=America/Detroit:20200121T210000
DTSTAMP:20260419T082651
CREATED:20191219T164614Z
LAST-MODIFIED:20191219T164727Z
UID:10000733-1579635000-1579640400@sistersosf.org
SUMMARY:Troubled Waters: Our Endangered Great Lakes and How to Protect Them
DESCRIPTION:Science Alliance for Valuing the Environment (SAVE) hosts this free public lecture with presenter Blair Tatrault\, a volunteer Alliance Ambassador for The Alliance for the Great Lakes and a retired Social Security Administration manager. All are welcome.
URL:https://sistersosf.org/event/troubled-waters-our-endangered-great-lakes-and-how-to-protect-them/
LOCATION:Franciscan Center\, 6832 Convent Blvd.\, Sylvania\, OH\, 43560\, United States
ORGANIZER;CN="Unnamed Organizer":MAILTO:save@lourdes.edu
END:VEVENT
END:VCALENDAR